BEGIN:VCALENDAR
VERSION:2.0
PRODID:-//Department of Pediatrics - ECPv6.15.18//NONSGML v1.0//EN
CALSCALE:GREGORIAN
METHOD:PUBLISH
X-ORIGINAL-URL:https://www.med.unc.edu/pediatrics
X-WR-CALDESC:Events for Department of Pediatrics
REFRESH-INTERVAL;VALUE=DURATION:PT1H
X-Robots-Tag:noindex
X-PUBLISHED-TTL:PT1H
BEGIN:VTIMEZONE
TZID:America/New_York
BEGIN:DAYLIGHT
TZOFFSETFROM:-0500
TZOFFSETTO:-0400
TZNAME:EDT
DTSTART:20250309T070000
END:DAYLIGHT
BEGIN:STANDARD
TZOFFSETFROM:-0400
TZOFFSETTO:-0500
TZNAME:EST
DTSTART:20251102T060000
END:STANDARD
BEGIN:DAYLIGHT
TZOFFSETFROM:-0500
TZOFFSETTO:-0400
TZNAME:EDT
DTSTART:20260308T070000
END:DAYLIGHT
BEGIN:STANDARD
TZOFFSETFROM:-0400
TZOFFSETTO:-0500
TZNAME:EST
DTSTART:20261101T060000
END:STANDARD
BEGIN:DAYLIGHT
TZOFFSETFROM:-0500
TZOFFSETTO:-0400
TZNAME:EDT
DTSTART:20270314T070000
END:DAYLIGHT
BEGIN:STANDARD
TZOFFSETFROM:-0400
TZOFFSETTO:-0500
TZNAME:EST
DTSTART:20271107T060000
END:STANDARD
END:VTIMEZONE
BEGIN:VEVENT
DTSTART;TZID=America/New_York:20260423T080000
DTEND;TZID=America/New_York:20260423T090000
DTSTAMP:20260419T145350
CREATED:20260409T153928Z
LAST-MODIFIED:20260409T155038Z
UID:10000890-1776931200-1776934800@www.med.unc.edu
SUMMARY:Pediatric Grand Rounds
DESCRIPTION:Margaret Leigh Lectureship\nAdam J. Shapiro\, MD\nAssociate Professor of Pediatrics\nMcGill University\nMontreal Children’s Hospital\nOld Clinic Auditorium (Rm. 4008)\nor JOIN THE ZOOM
URL:https://www.med.unc.edu/pediatrics/event/pgr-20260423/
LOCATION:Old Clinic Auditorium 4008 (and Virtual)\, 213 S Columbia St\, Chapel Hill\, NC\, 27516\, United States
CATEGORIES:Grand Rounds
ATTACH;FMTTYPE=image/png:https://www.med.unc.edu/pediatrics/wp-content/uploads/sites/1115/2026/04/PGR_20260423_Shapiro-Adam.png
END:VEVENT
BEGIN:VEVENT
DTSTART;TZID=America/New_York:20260430T080000
DTEND;TZID=America/New_York:20260430T090000
DTSTAMP:20260419T145350
CREATED:20260409T155715Z
LAST-MODIFIED:20260409T155715Z
UID:10000891-1777536000-1777539600@www.med.unc.edu
SUMMARY:Pediatric Grand Rounds
DESCRIPTION:EVALI – E-Cigarette or Vaping Product Use-Associated Lung Injury\nSean J. Callahan\, MD\nAssociate Professor of Medicine\nUniversity of North Carolina at Chapel Hill\nDivision of Pulmonary Diseases and Critical Care Medicine\nOld Clinic Auditorium (Rm. 4008)\nor JOIN THE ZOOM
URL:https://www.med.unc.edu/pediatrics/event/pgr-20260430/
LOCATION:Old Clinic Auditorium 4008 (and Virtual)\, 213 S Columbia St\, Chapel Hill\, NC\, 27516\, United States
CATEGORIES:Grand Rounds
ATTACH;FMTTYPE=image/png:https://www.med.unc.edu/pediatrics/wp-content/uploads/sites/1115/2026/04/PGR_20260430_Callahan-Sean.png
END:VEVENT
BEGIN:VEVENT
DTSTART;TZID=America/New_York:20260507T080000
DTEND;TZID=America/New_York:20260507T090000
DTSTAMP:20260419T145350
CREATED:20260409T161108Z
LAST-MODIFIED:20260409T161303Z
UID:10000892-1778140800-1778144400@www.med.unc.edu
SUMMARY:Pediatric Grand Rounds
DESCRIPTION:Elizabeth Duong\, MD\nAssistant Professor of Pediatrics\nUniversity California San Diego School of Medicine\nRady Children’s Health\nOld Clinic Auditorium (Rm. 4008)\nor JOIN THE ZOOM
URL:https://www.med.unc.edu/pediatrics/event/pgr-20260507/
LOCATION:Old Clinic Auditorium 4008 (and Virtual)\, 213 S Columbia St\, Chapel Hill\, NC\, 27516\, United States
CATEGORIES:Grand Rounds
ATTACH;FMTTYPE=image/png:https://www.med.unc.edu/pediatrics/wp-content/uploads/sites/1115/2026/04/PGR_20260507_Duong-Elizabeth.png
END:VEVENT
BEGIN:VEVENT
DTSTART;TZID=America/New_York:20260512T120000
DTEND;TZID=America/New_York:20260512T120000
DTSTAMP:20260419T145350
CREATED:20250724T203959Z
LAST-MODIFIED:20250724T204026Z
UID:10000818-1778587200-1778587200@www.med.unc.edu
SUMMARY:Children's Research Institute Seminar Series
DESCRIPTION:3116 Mary Ellen Jones \nLunch Provided\nor\nZoom Details to Follow\nJoin the Children’s Research Institute monthly for dynamic sessions where CRI members\, trainees\, and the broader scientific community connect to explore cutting-edge research in child health. These seminars foster collaboration\, spark new ideas\, and highlight ongoing work in pediatric science. \nWhat to Expect:\n\nTalks by top researchers from UNC and beyond\, with opportunities for collaboration.\nWorks-in-progress and career development reviews by early-career faculty and trainees.\nSpecial events focused on CRI\, NC Children’s\, and Department of Pediatrics initiatives.\n\nOpen to All:\nYou don’t need to be a CRI member to present or participate. Have an idea to share? We’d love to hear from you—contact childrensresearch@med.unc.edu
URL:https://www.med.unc.edu/pediatrics/event/childrens-research-institute-seminar-series-20260512/
LOCATION:3116 Mary Ellen Jones and Virtual\, Chapel Hill\, 27514\, United States
CATEGORIES:CRI Seminar,Research Symposium
ATTACH;FMTTYPE=image/png:https://www.med.unc.edu/pediatrics/wp-content/uploads/sites/1115/2025/06/FIMG_CRI_HOLD.png
ORGANIZER;CN="Karen Sharpe":MAILTO:kfk@email.unc.edu
END:VEVENT
BEGIN:VEVENT
DTSTART;TZID=America/New_York:20260609T120000
DTEND;TZID=America/New_York:20260609T120000
DTSTAMP:20260419T145350
CREATED:20250724T203754Z
LAST-MODIFIED:20250724T204029Z
UID:10000819-1781006400-1781006400@www.med.unc.edu
SUMMARY:Children's Research Institute Seminar Series
DESCRIPTION:3116 Mary Ellen Jones \nLunch Provided\nor\nZoom Details to Follow\nJoin the Children’s Research Institute monthly for dynamic sessions where CRI members\, trainees\, and the broader scientific community connect to explore cutting-edge research in child health. These seminars foster collaboration\, spark new ideas\, and highlight ongoing work in pediatric science. \nWhat to Expect:\n\nTalks by top researchers from UNC and beyond\, with opportunities for collaboration.\nWorks-in-progress and career development reviews by early-career faculty and trainees.\nSpecial events focused on CRI\, NC Children’s\, and Department of Pediatrics initiatives.\n\nOpen to All:\nYou don’t need to be a CRI member to present or participate. Have an idea to share? We’d love to hear from you—contact childrensresearch@med.unc.edu
URL:https://www.med.unc.edu/pediatrics/event/childrens-research-institute-seminar-series-20260609/
LOCATION:3116 Mary Ellen Jones and Virtual\, Chapel Hill\, 27514\, United States
CATEGORIES:CRI Seminar,Research Symposium
ATTACH;FMTTYPE=image/png:https://www.med.unc.edu/pediatrics/wp-content/uploads/sites/1115/2025/06/FIMG_CRI_HOLD.png
ORGANIZER;CN="Karen Sharpe":MAILTO:kfk@email.unc.edu
END:VEVENT
END:VCALENDAR