BEGIN:VCALENDAR
VERSION:2.0
PRODID:-//Department of Pediatrics - ECPv6.15.18//NONSGML v1.0//EN
CALSCALE:GREGORIAN
METHOD:PUBLISH
X-ORIGINAL-URL:https://www.med.unc.edu/pediatrics
X-WR-CALDESC:Events for Department of Pediatrics
REFRESH-INTERVAL;VALUE=DURATION:PT1H
X-Robots-Tag:noindex
X-PUBLISHED-TTL:PT1H
BEGIN:VTIMEZONE
TZID:America/New_York
BEGIN:DAYLIGHT
TZOFFSETFROM:-0500
TZOFFSETTO:-0400
TZNAME:EDT
DTSTART:20230312T070000
END:DAYLIGHT
BEGIN:STANDARD
TZOFFSETFROM:-0400
TZOFFSETTO:-0500
TZNAME:EST
DTSTART:20231105T060000
END:STANDARD
BEGIN:DAYLIGHT
TZOFFSETFROM:-0500
TZOFFSETTO:-0400
TZNAME:EDT
DTSTART:20240310T070000
END:DAYLIGHT
BEGIN:STANDARD
TZOFFSETFROM:-0400
TZOFFSETTO:-0500
TZNAME:EST
DTSTART:20241103T060000
END:STANDARD
BEGIN:DAYLIGHT
TZOFFSETFROM:-0500
TZOFFSETTO:-0400
TZNAME:EDT
DTSTART:20250309T070000
END:DAYLIGHT
BEGIN:STANDARD
TZOFFSETFROM:-0400
TZOFFSETTO:-0500
TZNAME:EST
DTSTART:20251102T060000
END:STANDARD
END:VTIMEZONE
BEGIN:VEVENT
DTSTART;TZID=America/New_York:20240321T080000
DTEND;TZID=America/New_York:20240321T090000
DTSTAMP:20260423T071218
CREATED:20240125T161803Z
LAST-MODIFIED:20240308T195658Z
UID:10000671-1711008000-1711011600@www.med.unc.edu
SUMMARY:Pediatric Grand Rounds
DESCRIPTION:Tourette Syndrome and Tic Disorders\nSteven P. Trau\, MD\nAssociate Professor of Neurology\, UNC Child Neurology\nDirector\, UNC Clinic for Tourette Syndrome and Tic Disorders\nMedical Director\, UNC Child Neurology Clinic\nOld Clinic Auditorium (Rm. 4008) \nor\nhttps://unc.zoom.us/j/91664465440
URL:https://www.med.unc.edu/pediatrics/event/pediatric-grand-rounds-3-34/
LOCATION:Virtual – Zoom
CATEGORIES:Grand Rounds
ATTACH;FMTTYPE=image/png:https://www.med.unc.edu/pediatrics/wp-content/uploads/sites/1115/2023/06/FIMG_GR_20240321_Trau-Steven.png
END:VEVENT
END:VCALENDAR