BEGIN:VCALENDAR
VERSION:2.0
PRODID:-//Department of Pediatrics - ECPv6.15.18//NONSGML v1.0//EN
CALSCALE:GREGORIAN
METHOD:PUBLISH
X-ORIGINAL-URL:https://www.med.unc.edu/pediatrics
X-WR-CALDESC:Events for Department of Pediatrics
REFRESH-INTERVAL;VALUE=DURATION:PT1H
X-Robots-Tag:noindex
X-PUBLISHED-TTL:PT1H
BEGIN:VTIMEZONE
TZID:America/New_York
BEGIN:DAYLIGHT
TZOFFSETFROM:-0500
TZOFFSETTO:-0400
TZNAME:EDT
DTSTART:20230312T070000
END:DAYLIGHT
BEGIN:STANDARD
TZOFFSETFROM:-0400
TZOFFSETTO:-0500
TZNAME:EST
DTSTART:20231105T060000
END:STANDARD
BEGIN:DAYLIGHT
TZOFFSETFROM:-0500
TZOFFSETTO:-0400
TZNAME:EDT
DTSTART:20240310T070000
END:DAYLIGHT
BEGIN:STANDARD
TZOFFSETFROM:-0400
TZOFFSETTO:-0500
TZNAME:EST
DTSTART:20241103T060000
END:STANDARD
BEGIN:DAYLIGHT
TZOFFSETFROM:-0500
TZOFFSETTO:-0400
TZNAME:EDT
DTSTART:20250309T070000
END:DAYLIGHT
BEGIN:STANDARD
TZOFFSETFROM:-0400
TZOFFSETTO:-0500
TZNAME:EST
DTSTART:20251102T060000
END:STANDARD
BEGIN:DAYLIGHT
TZOFFSETFROM:-0500
TZOFFSETTO:-0400
TZNAME:EDT
DTSTART:20260308T070000
END:DAYLIGHT
BEGIN:STANDARD
TZOFFSETFROM:-0400
TZOFFSETTO:-0500
TZNAME:EST
DTSTART:20261101T060000
END:STANDARD
BEGIN:DAYLIGHT
TZOFFSETFROM:-0500
TZOFFSETTO:-0400
TZNAME:EDT
DTSTART:20270314T070000
END:DAYLIGHT
BEGIN:STANDARD
TZOFFSETFROM:-0400
TZOFFSETTO:-0500
TZNAME:EST
DTSTART:20271107T060000
END:STANDARD
END:VTIMEZONE
BEGIN:VEVENT
DTSTART;TZID=America/New_York:20240912T080000
DTEND;TZID=America/New_York:20240912T090000
DTSTAMP:20260423T210724
CREATED:20240822T191415Z
LAST-MODIFIED:20240822T191437Z
UID:10000742-1726128000-1726131600@www.med.unc.edu
SUMMARY:Pediatric Grand Rounds
DESCRIPTION:Pediatric Event-Based Learning & Improvement\nPresented by:\nLane F. Donnelly MD\nProfessor of Radiology & Pediatrics\, UNC Health Director of Quality\, UNC Children’s Hospital\nwith speakers:\nWilliam Stoudemire\, MD\nAssistant Professor – UNC Pediatric Pulmonology\nand\nCeila Loughlin\, MD\nProfessor – UNC Pediatric Pulmonology\nOld Clinic Auditorium (Rm. 4008)
URL:https://www.med.unc.edu/pediatrics/event/pgr-20240912/
LOCATION:Old Clinic Auditorium 4008 (and Virtual)\, 213 S Columbia St\, Chapel Hill\, NC\, 27516\, United States
CATEGORIES:Grand Rounds,Pediatric Event-Based Learning & Improvement
ATTACH;FMTTYPE=image/png:https://www.med.unc.edu/pediatrics/wp-content/uploads/sites/1115/2024/08/FIMG_GR-20240912.png
END:VEVENT
BEGIN:VEVENT
DTSTART;TZID=America/New_York:20241212T080000
DTEND;TZID=America/New_York:20241212T090000
DTSTAMP:20260423T210724
CREATED:20241010T192931Z
LAST-MODIFIED:20241010T192931Z
UID:10000753-1733990400-1733994000@www.med.unc.edu
SUMMARY:Pediatric Grand Rounds
DESCRIPTION:Pediatric Event-Based Learning & Improvement\nPresented by:\nLane F. Donnelly MD\nProfessor of Radiology & Pediatrics\nChief Quality & Safety Officer\, UNC Children’s\nVice Chair of Quality & Safety\, Department of Pediatrics\nExecutive Medical Director\, Pediatric Population Health & Quality\, UNC Health Alliance\nOld Clinic Auditorium (Rm. 4008)\nor JOIN THE ZOOM
URL:https://www.med.unc.edu/pediatrics/event/pgr-20241212/
LOCATION:Old Clinic Auditorium 4008 (and Virtual)\, 213 S Columbia St\, Chapel Hill\, NC\, 27516\, United States
CATEGORIES:Grand Rounds,Pediatric Event-Based Learning & Improvement
ATTACH;FMTTYPE=image/png:https://www.med.unc.edu/pediatrics/wp-content/uploads/sites/1115/2023/02/FIMG_GR_20230323_Donnelly-Lane.png
END:VEVENT
BEGIN:VEVENT
DTSTART;TZID=America/New_York:20250417T080000
DTEND;TZID=America/New_York:20250417T090000
DTSTAMP:20260423T210724
CREATED:20250320T143102Z
LAST-MODIFIED:20250416T193359Z
UID:10000777-1744876800-1744880400@www.med.unc.edu
SUMMARY:Pediatric Grand Rounds
DESCRIPTION:Pediatric Event-Based Learning & Improvement\nThis week’s Grand Rounds is closed to individuals outside of the Department of Pediatrics (DOP)/UNC Children’s. Individuals with DOP adjunct appointments may participate. \nImproving Ordering & Protocoling in Pediatric Imaging\nCarolina Guimaraes\, MD\nProfessor of Radiology & Pediatrics\nVice Chair of Operation | Pediatric Imaging Division Chief\nOld Clinic Auditorium (Rm. 4008)\nor JOIN THE ZOOM
URL:https://www.med.unc.edu/pediatrics/event/pgr-20250417/
LOCATION:Old Clinic Auditorium 4008 (and Virtual)\, 213 S Columbia St\, Chapel Hill\, NC\, 27516\, United States
CATEGORIES:Grand Rounds,Pediatric Event-Based Learning & Improvement
ATTACH;FMTTYPE=image/png:https://www.med.unc.edu/pediatrics/wp-content/uploads/sites/1115/2022/03/EDUC_GR_20220811_Guimaraes-Carolina.png
END:VEVENT
BEGIN:VEVENT
DTSTART;TZID=America/New_York:20250619T080000
DTEND;TZID=America/New_York:20250619T090000
DTSTAMP:20260423T210724
CREATED:20250516T202241Z
LAST-MODIFIED:20250516T202241Z
UID:10000792-1750320000-1750323600@www.med.unc.edu
SUMMARY:Pediatric Grand Rounds
DESCRIPTION:Pediatric Event-Based Learning & Improvement\nPresented by:\nLane F. Donnelly MD\nProfessor of Radiology & Pediatrics\nChief Quality & Safety Officer\, UNC Children’s\nVice Chair of Quality & Safety\, Department of Pediatrics\nExecutive Medical Director\, Pediatric Population Health & Quality\, UNC Health Alliance\nOld Clinic Auditorium (Rm. 4008)\nor JOIN THE ZOOM
URL:https://www.med.unc.edu/pediatrics/event/pediatric-grand-rounds-3/
LOCATION:Old Clinic Auditorium 4008 (and Virtual)\, 213 S Columbia St\, Chapel Hill\, NC\, 27516\, United States
CATEGORIES:Grand Rounds,Pediatric Event-Based Learning & Improvement
ATTACH;FMTTYPE=image/png:https://www.med.unc.edu/pediatrics/wp-content/uploads/sites/1115/2023/02/FIMG_GR_20230323_Donnelly-Lane.png
END:VEVENT
BEGIN:VEVENT
DTSTART;TZID=America/New_York:20251113T080000
DTEND;TZID=America/New_York:20251113T090000
DTSTAMP:20260423T210724
CREATED:20250910T185119Z
LAST-MODIFIED:20250924T170744Z
UID:10000850-1763020800-1763024400@www.med.unc.edu
SUMMARY:Pediatric Grand Rounds
DESCRIPTION:Pediatric Event-Based Learning & Improvement: Discharge Medicine Reconciliation\nPresented by:\nKatherine D. Westreich\, MD\nAssociate Professor of Pediatrics and Medicine\nUNC Pediatric Nephrology\nand \nJenna Kaplan\, PharmD\, BCPPS\nPediatric Hematology/Oncology Clinical Pharmacist and Children’s Medication Safety Chair\nUNC Medical Center\nOld Clinic Auditorium (Rm. 4008)\nor JOIN THE ZOOM
URL:https://www.med.unc.edu/pediatrics/event/pgr-20251113/
LOCATION:Old Clinic Auditorium 4008 (and Virtual)\, 213 S Columbia St\, Chapel Hill\, NC\, 27516\, United States
CATEGORIES:Grand Rounds,Pediatric Event-Based Learning & Improvement
ATTACH;FMTTYPE=image/png:https://www.med.unc.edu/pediatrics/wp-content/uploads/sites/1115/2025/09/FIMG_PGR_20251113_Westreich-Kaplan.png
END:VEVENT
BEGIN:VEVENT
DTSTART;TZID=America/New_York:20260205T080000
DTEND;TZID=America/New_York:20260205T090000
DTSTAMP:20260423T210724
CREATED:20251224T212135Z
LAST-MODIFIED:20260122T235610Z
UID:10000877-1770278400-1770282000@www.med.unc.edu
SUMMARY:Pediatric Grand Rounds
DESCRIPTION:PEBLI – Pediatric Sepsis\, the Integrated Sepsis Tool\, and Clinical Pathways\nPresented by:\nEmilee Lewis\, MD\nAssociate Professor\nHospital Pediatrics\nand \nAlex Ahearn MD\nAssociate Professor\nHospital Pediatrics\nModerated by:\nLane Donnelly\, MD\nProfessor of Radiology & Pediatrics\nVice Chair of Quality & Safety\, Department of Pediatrics\nChief Quality & Safety Officer\, UNC Children’s Hospital\nExecutive Medical Director\, Pediatric Population Health & Quality\, UNC Health Alliance\nOld Clinic Auditorium (Rm. 4008)\n 
URL:https://www.med.unc.edu/pediatrics/event/pgr_20260205/
LOCATION:Old Clinic Auditorium 4008 (in person only)
CATEGORIES:Grand Rounds,Pediatric Event-Based Learning & Improvement
ATTACH;FMTTYPE=image/png:https://www.med.unc.edu/pediatrics/wp-content/uploads/sites/1115/2025/12/FIMG_PGR-20260205-Lewis-Ahearn.png
END:VEVENT
END:VCALENDAR