BEGIN:VCALENDAR
VERSION:2.0
PRODID:-//Department of Pediatrics - ECPv6.15.18//NONSGML v1.0//EN
CALSCALE:GREGORIAN
METHOD:PUBLISH
X-ORIGINAL-URL:https://www.med.unc.edu/pediatrics
X-WR-CALDESC:Events for Department of Pediatrics
REFRESH-INTERVAL;VALUE=DURATION:PT1H
X-Robots-Tag:noindex
X-PUBLISHED-TTL:PT1H
BEGIN:VTIMEZONE
TZID:America/New_York
BEGIN:DAYLIGHT
TZOFFSETFROM:-0500
TZOFFSETTO:-0400
TZNAME:EDT
DTSTART:20250309T070000
END:DAYLIGHT
BEGIN:STANDARD
TZOFFSETFROM:-0400
TZOFFSETTO:-0500
TZNAME:EST
DTSTART:20251102T060000
END:STANDARD
BEGIN:DAYLIGHT
TZOFFSETFROM:-0500
TZOFFSETTO:-0400
TZNAME:EDT
DTSTART:20260308T070000
END:DAYLIGHT
BEGIN:STANDARD
TZOFFSETFROM:-0400
TZOFFSETTO:-0500
TZNAME:EST
DTSTART:20261101T060000
END:STANDARD
BEGIN:DAYLIGHT
TZOFFSETFROM:-0500
TZOFFSETTO:-0400
TZNAME:EDT
DTSTART:20270314T070000
END:DAYLIGHT
BEGIN:STANDARD
TZOFFSETFROM:-0400
TZOFFSETTO:-0500
TZNAME:EST
DTSTART:20271107T060000
END:STANDARD
END:VTIMEZONE
BEGIN:VEVENT
DTSTART;TZID=America/New_York:20260512T120000
DTEND;TZID=America/New_York:20260512T120000
DTSTAMP:20260423T173608
CREATED:20250724T203959Z
LAST-MODIFIED:20260421T143405Z
UID:10000818-1778587200-1778587200@www.med.unc.edu
SUMMARY:Children's Research Institute Seminar Series
DESCRIPTION:Highly Elastic Biomaterial Development for Urethral Application: Multi-Faceted Design for Dynamic Organ Regeneration and Function\nRenea Sturm\, MD\nAssociate Professor of Urology\n3116 Mary Ellen Jones \nLunch Provided\nor\nPlease Contact childrensresearch@med.unc.edu for Zoom Details.\nDr. Renea Sturm is a board-certified pediatric urologist and Associate Professor of Urology. She cares for infants\, children\, and adolescents with complex conditions of the kidneys\, bladder\, urethra\, and genital development. Her surgical expertise includes hypospadias repair\, lower urinary tract reconstruction\, and minimally invasive surgery using the latest endoscopic and robotic techniques. \nDr. Sturm has completed fellowships in both pediatric urology and medtech entrepreneurship and has co-founded two startup companies while a faculty member at UCLA. She has recently relocated to UNC\, where she is establishing a translational research program focused on bladder and urethral reconstruction. Her laboratory develops highly elastic biomaterials\, bioengineered scaffolds\, and surgical technologies for dynamic lower urinary tract tissues. By integrating biomechanics\, computational modeling\, and tissue engineering\, her work aims to improve reconstructive outcomes and reduce variability in surgical care. In addition to generous donor and departmental support\, her research has been supported by the National Institutes of Health\, the National Science Foundation\, the Department of Defense\, the Technology Development Group at UCLA\, and the American Urological Association. \n\nJoin the Children’s Research Institute monthly for dynamic sessions where CRI members\, trainees\, and the broader scientific community connect to explore cutting-edge research in child health. These seminars foster collaboration\, spark new ideas\, and highlight ongoing work in pediatric science. \nWhat to Expect:\n\nTalks by top researchers from UNC and beyond\, with opportunities for collaboration.\nWorks-in-progress and career development reviews by early-career faculty and trainees.\nSpecial events focused on CRI\, NC Children’s\, and Department of Pediatrics initiatives.\n\nOpen to All:\nYou don’t need to be a CRI member to present or participate. Have an idea to share? We’d love to hear from you—contact childrensresearch@med.unc.edu
URL:https://www.med.unc.edu/pediatrics/event/childrens-research-institute-seminar-series-20260512/
LOCATION:3116 Mary Ellen Jones and Virtual\, Chapel Hill\, 27514\, United States
CATEGORIES:CRI Seminar,Research Symposium
ATTACH;FMTTYPE=image/png:https://www.med.unc.edu/pediatrics/wp-content/uploads/sites/1115/2025/07/FIMG_URO_Sturm-Renea.png
ORGANIZER;CN="Karen Sharpe":MAILTO:kfk@email.unc.edu
END:VEVENT
BEGIN:VEVENT
DTSTART;TZID=America/New_York:20260514T080000
DTEND;TZID=America/New_York:20260514T090000
DTSTAMP:20260423T173608
CREATED:20260423T170742Z
LAST-MODIFIED:20260423T170742Z
UID:10000893-1778745600-1778749200@www.med.unc.edu
SUMMARY:Pediatric Grand Rounds
DESCRIPTION:Fellow Presentations\nChristian Hochhalter\, MD\nUNC Pediatric Gastroenterology Fellow\nand \nMcCauley Massie\, MD\nUNC Pediatric Hematology/Oncology Fellow\nOld Clinic Auditorium (Rm. 4008)\nor JOIN THE ZOOM
URL:https://www.med.unc.edu/pediatrics/event/pgr-20260514/
LOCATION:Old Clinic Auditorium 4008 (and Virtual)\, 213 S Columbia St\, Chapel Hill\, NC\, 27516\, United States
CATEGORIES:Grand Rounds
ATTACH;FMTTYPE=image/png:https://www.med.unc.edu/pediatrics/wp-content/uploads/sites/1115/2026/04/FIMG_PGR_20260521-Hochhalter-Massie.png
END:VEVENT
BEGIN:VEVENT
DTSTART;TZID=America/New_York:20260521T080000
DTEND;TZID=America/New_York:20260521T090000
DTSTAMP:20260423T173608
CREATED:20260423T171336Z
LAST-MODIFIED:20260423T171336Z
UID:10000894-1779350400-1779354000@www.med.unc.edu
SUMMARY:Pediatric Grand Rounds
DESCRIPTION:Chief Residents Grand Rounds\n\n\nOld Clinic Auditorium (Rm. 4008)\nor JOIN THE ZOOM
URL:https://www.med.unc.edu/pediatrics/event/pgr-20260521/
LOCATION:Old Clinic Auditorium 4008 (and Virtual)\, 213 S Columbia St\, Chapel Hill\, NC\, 27516\, United States
CATEGORIES:Grand Rounds
ATTACH;FMTTYPE=image/png:https://www.med.unc.edu/pediatrics/wp-content/uploads/sites/1115/2025/05/FIMG_Stethoscope-Info-Icon.png
END:VEVENT
BEGIN:VEVENT
DTSTART;TZID=America/New_York:20260526T120000
DTEND;TZID=America/New_York:20260526T130000
DTSTAMP:20260423T173608
CREATED:20251222T205242Z
LAST-MODIFIED:20260113T191932Z
UID:10000872-1779796800-1779800400@www.med.unc.edu
SUMMARY:Children's Service Line Faculty & Staff Meeting
DESCRIPTION:Join your Children’s Hospital colleagues for updates on ongoing projects\, novel clinical programs\, featured research\, and more.\n2020 Bondurant\nDetails to Follow.
URL:https://www.med.unc.edu/pediatrics/event/childrens-service-line-faculty-staff-meeting/2026-05-26/
LOCATION:2020 Bondurant & ZOOM
CATEGORIES:Meeting,UNC Children's Meeting
ATTACH;FMTTYPE=image/png:https://www.med.unc.edu/pediatrics/wp-content/uploads/sites/1115/2022/03/FIMG_unc-childrens.png
ORGANIZER;CN="Karen Lucrezia":MAILTO:karen_lucrezia@med.unc.edu
END:VEVENT
BEGIN:VEVENT
DTSTART;TZID=America/New_York:20260528T080000
DTEND;TZID=America/New_York:20260528T090000
DTSTAMP:20260423T173608
CREATED:20260423T172146Z
LAST-MODIFIED:20260423T173243Z
UID:10000895-1779955200-1779958800@www.med.unc.edu
SUMMARY:Pediatric Grand Rounds
DESCRIPTION:Bench to Bedside: Sickle cell Disease – Genetic Therapy\nMichael Winstead\, MD\nAssociate Professor\nUNC Pediatric Hematology/Oncology\nand \nMaria O. Boucher\, MD\nAssociate Professor\nUNC Pediatric Hematology/Oncology\nOld Clinic Auditorium (Rm. 4008)\nor JOIN THE ZOOM
URL:https://www.med.unc.edu/pediatrics/event/pgr-20260528/
LOCATION:Old Clinic Auditorium 4008 (and Virtual)\, 213 S Columbia St\, Chapel Hill\, NC\, 27516\, United States
CATEGORIES:Grand Rounds
ATTACH;FMTTYPE=image/png:https://www.med.unc.edu/pediatrics/wp-content/uploads/sites/1115/2026/04/FIMG_PGR_20260528-Winstead-Boucher-.png
END:VEVENT
BEGIN:VEVENT
DTSTART;TZID=America/New_York:20260604T080000
DTEND;TZID=America/New_York:20260604T090000
DTSTAMP:20260423T173609
CREATED:20260423T173539Z
LAST-MODIFIED:20260423T173539Z
UID:10000896-1780560000-1780563600@www.med.unc.edu
SUMMARY:Pediatric Grand Rounds
DESCRIPTION:UNC + Duke Resident Community Engagement Showcase\n\n\nOld Clinic Auditorium (Rm. 4008)\nor JOIN THE ZOOM
URL:https://www.med.unc.edu/pediatrics/event/pgr-20260604/
LOCATION:Old Clinic Auditorium 4008 (and Virtual)\, 213 S Columbia St\, Chapel Hill\, NC\, 27516\, United States
CATEGORIES:Grand Rounds
ATTACH;FMTTYPE=image/png:https://www.med.unc.edu/pediatrics/wp-content/uploads/sites/1115/2026/04/FIMG_PGR_20260604-UNC-Duke.png
END:VEVENT
BEGIN:VEVENT
DTSTART;TZID=America/New_York:20260609T120000
DTEND;TZID=America/New_York:20260609T120000
DTSTAMP:20260423T173609
CREATED:20250724T203754Z
LAST-MODIFIED:20250724T204029Z
UID:10000819-1781006400-1781006400@www.med.unc.edu
SUMMARY:Children's Research Institute Seminar Series
DESCRIPTION:3116 Mary Ellen Jones \nLunch Provided\nor\nZoom Details to Follow\nJoin the Children’s Research Institute monthly for dynamic sessions where CRI members\, trainees\, and the broader scientific community connect to explore cutting-edge research in child health. These seminars foster collaboration\, spark new ideas\, and highlight ongoing work in pediatric science. \nWhat to Expect:\n\nTalks by top researchers from UNC and beyond\, with opportunities for collaboration.\nWorks-in-progress and career development reviews by early-career faculty and trainees.\nSpecial events focused on CRI\, NC Children’s\, and Department of Pediatrics initiatives.\n\nOpen to All:\nYou don’t need to be a CRI member to present or participate. Have an idea to share? We’d love to hear from you—contact childrensresearch@med.unc.edu
URL:https://www.med.unc.edu/pediatrics/event/childrens-research-institute-seminar-series-20260609/
LOCATION:3116 Mary Ellen Jones and Virtual\, Chapel Hill\, 27514\, United States
CATEGORIES:CRI Seminar,Research Symposium
ATTACH;FMTTYPE=image/png:https://www.med.unc.edu/pediatrics/wp-content/uploads/sites/1115/2025/06/FIMG_CRI_HOLD.png
ORGANIZER;CN="Karen Sharpe":MAILTO:kfk@email.unc.edu
END:VEVENT
BEGIN:VEVENT
DTSTART;TZID=America/New_York:20260611T080000
DTEND;TZID=America/New_York:20260611T090000
DTSTAMP:20260423T173609
CREATED:20260423T173906Z
LAST-MODIFIED:20260423T173906Z
UID:10000897-1781164800-1781168400@www.med.unc.edu
SUMMARY:Pediatric Grand Rounds
DESCRIPTION:End of Academic Year Celebration\n\n\nOld Clinic Auditorium (Rm. 4008)\nor JOIN THE ZOOM
URL:https://www.med.unc.edu/pediatrics/event/pgr-20260611/
LOCATION:Old Clinic Auditorium 4008 (and Virtual)\, 213 S Columbia St\, Chapel Hill\, NC\, 27516\, United States
CATEGORIES:Grand Rounds
ATTACH;FMTTYPE=image/png:https://www.med.unc.edu/pediatrics/wp-content/uploads/sites/1115/2025/06/FIMG_Graduation-Graphic.png
END:VEVENT
BEGIN:VEVENT
DTSTART;TZID=America/New_York:20260623T120000
DTEND;TZID=America/New_York:20260623T130000
DTSTAMP:20260423T173609
CREATED:20251222T205242Z
LAST-MODIFIED:20260113T191932Z
UID:10000873-1782216000-1782219600@www.med.unc.edu
SUMMARY:Children's Service Line Faculty & Staff Meeting
DESCRIPTION:Join your Children’s Hospital colleagues for updates on ongoing projects\, novel clinical programs\, featured research\, and more.\n2020 Bondurant\nDetails to Follow.
URL:https://www.med.unc.edu/pediatrics/event/childrens-service-line-faculty-staff-meeting/2026-06-23/
LOCATION:2020 Bondurant & ZOOM
CATEGORIES:Meeting,UNC Children's Meeting
ATTACH;FMTTYPE=image/png:https://www.med.unc.edu/pediatrics/wp-content/uploads/sites/1115/2022/03/FIMG_unc-childrens.png
ORGANIZER;CN="Karen Lucrezia":MAILTO:karen_lucrezia@med.unc.edu
END:VEVENT
END:VCALENDAR