BEGIN:VCALENDAR
VERSION:2.0
PRODID:-//Muenzer MPS Center - ECPv6.15.18//NONSGML v1.0//EN
CALSCALE:GREGORIAN
METHOD:PUBLISH
X-ORIGINAL-URL:https://www.med.unc.edu/pediatrics/muenzer-mps-center
X-WR-CALDESC:Events for Muenzer MPS Center
REFRESH-INTERVAL;VALUE=DURATION:PT1H
X-Robots-Tag:noindex
X-PUBLISHED-TTL:PT1H
BEGIN:VTIMEZONE
TZID:America/New_York
BEGIN:DAYLIGHT
TZOFFSETFROM:-0500
TZOFFSETTO:-0400
TZNAME:EDT
DTSTART:20240310T070000
END:DAYLIGHT
BEGIN:STANDARD
TZOFFSETFROM:-0400
TZOFFSETTO:-0500
TZNAME:EST
DTSTART:20241103T060000
END:STANDARD
BEGIN:DAYLIGHT
TZOFFSETFROM:-0500
TZOFFSETTO:-0400
TZNAME:EDT
DTSTART:20250309T070000
END:DAYLIGHT
BEGIN:STANDARD
TZOFFSETFROM:-0400
TZOFFSETTO:-0500
TZNAME:EST
DTSTART:20251102T060000
END:STANDARD
BEGIN:DAYLIGHT
TZOFFSETFROM:-0500
TZOFFSETTO:-0400
TZNAME:EDT
DTSTART:20260308T070000
END:DAYLIGHT
BEGIN:STANDARD
TZOFFSETFROM:-0400
TZOFFSETTO:-0500
TZNAME:EST
DTSTART:20261101T060000
END:STANDARD
END:VTIMEZONE
BEGIN:VEVENT
DTSTART;TZID=America/New_York:20250503T170000
DTEND;TZID=America/New_York:20250503T230000
DTSTAMP:20260424T144730
CREATED:20250417T173304Z
LAST-MODIFIED:20250417T174147Z
UID:10000004-1746291600-1746313200@www.med.unc.edu
SUMMARY:A Cure Within Reach Gala
DESCRIPTION:The Cure Within Reach Gala is a premier event dedicated to advancing research\, advocacy\, and care for individuals living with Mucopolysaccharidosis (MPS). Held in partnership with Project Alive and the Muenzer MPS Research and Treatment Center\, this inspiring evening brings together patients\, families\, clinicians\, researchers\, and supporters committed to finding cures and improving lives. \nThe event will feature powerful stories\, special guest speakers\, a silent auction\, and opportunities to support life-changing initiatives that bring hope and healing to the rare disease community.
URL:https://www.med.unc.edu/pediatrics/muenzer-mps-center/event/a-cure-within-reach-gala/
LOCATION:Carolina Club\, 150 Stadium Drive\, Chapel Hill\, NC\, 27514\, United States
END:VEVENT
END:VCALENDAR