BEGIN:VCALENDAR
VERSION:2.0
PRODID:-//PPMH - Program for Precision Medicine in Health Care - ECPv6.15.18//NONSGML v1.0//EN
CALSCALE:GREGORIAN
METHOD:PUBLISH
X-ORIGINAL-URL:https://www.med.unc.edu/ppmh
X-WR-CALDESC:Events for PPMH - Program for Precision Medicine in Health Care
REFRESH-INTERVAL;VALUE=DURATION:PT1H
X-Robots-Tag:noindex
X-PUBLISHED-TTL:PT1H
BEGIN:VTIMEZONE
TZID:America/New_York
BEGIN:DAYLIGHT
TZOFFSETFROM:-0500
TZOFFSETTO:-0400
TZNAME:EDT
DTSTART:20230312T070000
END:DAYLIGHT
BEGIN:STANDARD
TZOFFSETFROM:-0400
TZOFFSETTO:-0500
TZNAME:EST
DTSTART:20231105T060000
END:STANDARD
BEGIN:DAYLIGHT
TZOFFSETFROM:-0500
TZOFFSETTO:-0400
TZNAME:EDT
DTSTART:20240310T070000
END:DAYLIGHT
BEGIN:STANDARD
TZOFFSETFROM:-0400
TZOFFSETTO:-0500
TZNAME:EST
DTSTART:20241103T060000
END:STANDARD
BEGIN:DAYLIGHT
TZOFFSETFROM:-0500
TZOFFSETTO:-0400
TZNAME:EDT
DTSTART:20250309T070000
END:DAYLIGHT
BEGIN:STANDARD
TZOFFSETFROM:-0400
TZOFFSETTO:-0500
TZNAME:EST
DTSTART:20251102T060000
END:STANDARD
BEGIN:DAYLIGHT
TZOFFSETFROM:-0500
TZOFFSETTO:-0400
TZNAME:EDT
DTSTART:20260308T070000
END:DAYLIGHT
BEGIN:STANDARD
TZOFFSETFROM:-0400
TZOFFSETTO:-0500
TZNAME:EST
DTSTART:20261101T060000
END:STANDARD
BEGIN:DAYLIGHT
TZOFFSETFROM:-0500
TZOFFSETTO:-0400
TZNAME:EDT
DTSTART:20270314T070000
END:DAYLIGHT
BEGIN:STANDARD
TZOFFSETFROM:-0400
TZOFFSETTO:-0500
TZNAME:EST
DTSTART:20271107T060000
END:STANDARD
END:VTIMEZONE
BEGIN:VEVENT
DTSTART;TZID=America/New_York:20260418T090000
DTEND;TZID=America/New_York:20260418T140000
DTSTAMP:20260424T192325
CREATED:20260306T195251Z
LAST-MODIFIED:20260413T203424Z
UID:10006023-1776502800-1776520800@www.med.unc.edu
SUMMARY:Genetics-in-a-Day 2026: Careers from the Bench to the Bedside
DESCRIPTION:  \nWhen: Saturday April 18\, 2026\, 9:00am-2:00pm \nWhere: Mary Townes Science Building\, NCCU campus\, Durham NC \nCost: free \nLunch provided with registration for students who register by 5:00pm Friday April 10\, 2026. \nJoin speakers from University of North Carolina at Chapel Hill\, North Carolina Central University\, and more for a career workshop about the intersection of careers in genetics and support for patients with metabolic disorders. Workshop participants will hear from speakers with real-world experience from a diverse array of careers in genetics and genomics. This is a great opportunity to learn more about further training and internship opportunities. \nAgenda: \n\n\n\nTime\nSession\nSpeaker names\n\n\n8:30-9:00am\nCheck-in\n \n\n\n9:00-9:15am\nWelcome & Introductions\n \n\n\n9:15-9:30am\nGreetings\n \n\n\n9:30-10:00am\nGuest Speaker\nKimberly Stephens\n\n\n10:00-11:30am\nBreak-out Interactive Session Round 1\n \n\n\n \n    Research\nLindsay Torrice\, Jonathan Berg\n\n\n \n    Diagnostics & Treatment\nDeeksha Bali\, Sarah Young\, Catherine Rehder\n\n\n \n    Family Support\nLangston Harrison\, Kristin Clinard\n\n\n11:30am-12:15pm\nLunch\n \n\n\n12:15-1:45pm\nBreak-out Interactive Session Round 2\n \n\n\n \n    Research\nJenny Goldstein\, Matt Ellingwood\n\n\n \n    Diagnostics & Treatment\nMuge Calikoglu\, Heather Baudet\n\n\n \n    Family Support\nRami Major\, Diana Littlejohn\, Tiru Damodaran\n\n\n1:45-2:00pm\nWrap-up & Closing Remarks\n \n\n\n\nClick here to register. \nQuestions? Email precisionmedicine@med.unc.edu \n  \n 
URL:https://www.med.unc.edu/ppmh/event/genetics-in-a-day-2026-careers-from-the-bench-to-the-bedside/
LOCATION:Mary Townes Science Building\, NCCU campus\, 1900 Concord St\, Durham\, NC\, 27707\, United States
END:VEVENT
BEGIN:VEVENT
DTSTART;TZID=America/New_York:20250426T100000
DTEND;TZID=America/New_York:20250426T160000
DTSTAMP:20260424T192325
CREATED:20250207T142656Z
LAST-MODIFIED:20250313T183234Z
UID:10006014-1745661600-1745683200@www.med.unc.edu
SUMMARY:Genetics-in-a-Day 2025: Careers from the Bench to the Bedside
DESCRIPTION:Registration now open! \nSaturday April 26\, 2025\, 10:00am-4:00pm \nLocation: Mary Townes Science Building\, NCCU campus\, Durham NC \nLunch provided with registration. \nThe UNC Program for Precision Medicine in Health Care’s PARADIGM initiative and the North Carolina Central University Biological & Biomedical Sciences Department present a 1-day career workshop for undergraduate students.  The goals of the workshop are to 1) introduce NCCU undergraduates and local community college students to applications of genetics & genomics; 2) increase students’ awareness about potential careers in the field; and 3) highlight opportunities for internships and further training at area institutions.  The workshop will consist of concurrent breakout sessions featuring applications of genomics\, a poster session\, panel discussion\, and during lunch students will have the opportunity to chat with career professionals in several related fields.  \n  \nMore information about speakers and agenda will be coming soon. \nClick here to register.\nQuestions? Email precisionmedicine@med.unc.edu \n 
URL:https://www.med.unc.edu/ppmh/event/genetics-in-a-day-2025-careers-from-the-bench-to-the-bedside-2/
LOCATION:Mary Townes Science Building\, NCCU campus\, 1900 Concord St\, Durham\, NC\, 27707\, United States
CATEGORIES:events
END:VEVENT
BEGIN:VEVENT
DTSTART;TZID=America/New_York:20240323T100000
DTEND;TZID=America/New_York:20240323T140000
DTSTAMP:20260424T192325
CREATED:20240312T011223Z
LAST-MODIFIED:20250711T172303Z
UID:10006006-1711188000-1711202400@www.med.unc.edu
SUMMARY:Genetics-in-a-Day: Careers from the Bench to the Bedside
DESCRIPTION:Saturday March 23\, 2024\, 10am-2pm \nLocation: Mary Townes Science Building\, NCCU campus \nLunch provided with registration. \nThe UNC Program for Precision Medicine in Health Care and North Carolina Central University present a 1-day workshop for undergraduate students.  The goals of the workshop are to 1) introduce NCCU undergraduate students to applications of genetics & genomics; 2) increase students’ awareness about potential careers in the field; and 3) highlight opportunities for internships and further training at UNC.  The 4-hour workshop will consist of concurrent breakout sessions featuring applications of genomics\, and during lunch\, students will have the opportunity to chat with career professionals in several related fields.  The workshop will wrap up with a joint session to discuss takeaways\, future training opportunities\, and Q&A with panelists from various careers.   \n  \nTENTATIVE AGENDA  \n1. Welcome & Introductions – 10:00-10:20am \nGreetings from:  \n    Dean of the College of Health & Sciences (NCCU) – Dr. Mohammad Ahmed  \n    Chair of the Department of Biological and Biomedical Sciences (NCCU) – Dr. Veronica Nwosu  \n    Distinguished Professor & Director of PPMH (UNC) – Dr. Jonathan S. Berg  \nWorkshop overview – 10:20-10:30am \n  \n2. Breakout room interactive discussions (Round I) – 10:30-10:55am and 11:00-11:25am \n\n\n\n\nTopic Areas – Session I   \n\n\n Room #  \n\n\n Presenter(s)   \n\n\n\n\n Clinical Genetic Interpretation\n \n\n\n \n \n\n\n Shruthi Mohan\n \n\n\n\n\n Genetics & the Law\n \n\n\n  \n\n\n Brenda Raddix-Smalls \n \n\n\n\n\n Computational Biology\n \n\n\n  \n\n\n Markia Smith \n \n\n\n\n\n Genes\, Health\, and Disease\n \n\n\n  \n\n\n Courtney Thaxton \n \n\n\n\n\n Community Engagement for Health Equity\n \n\n\n  \n\n\n Laura Milko \n \n\n\n\n\n  \n3. LUNCH: Open discussion with career professionals -11:30am – 12:15pm   \n\n\n\n\nCareer Fields   \n\n\n Lunch table career professional facilitator(s)   \n\n\n\n\n Genetic Counseling  (2) \n\n\n Julianne O’Daniel & Dara McDougal\n \n\n\n\n\n Grad students/Med students/Postdocs   \n\n\n Jahnelle Jackson & Essence Kendall\n \n\n\n\n\n Undergrad trainees   \n\n\n Justine Siew\n \n\n\n\n\n Clinician: Nephrology & Ethnic Disparities\n \n\n\n  \n\n\n\n\n Clinician: Epilepsy Neurogenetics\n \n\n\n Keisha Gibson & Senyene Hunter\n \n\n\n\n\n Epigenetics (Genes + Environment) \n \n\n\n Folami Ideraabdullah\n \n\n\n\n\n Genetic Epidemiology\n \n\n\n Jessica Hunter \n \n\n\n\n\n  \n4. Breakout room interactive discussions (Round II) – 12:15-12:40pm and 12:45-1:10pm \n\n\n\n\nTopic Areas – Session II   \n \n\n\n Room #  \n \n\n\n Presenter(s)   \n\n\n\n\n Genetic Diagnostics\n \n\n\n  \n\n\n Tirupapuliyur Damodaran\n \n\n\n\n\n AI & Genomics\n \n\n\n  \n\n\n Keriayn Smith \n \n\n\n\n\n Genetic Testing \n \n\n\n  \n\n\n Jenny Goldstein \n \n\n\n\n\n Clinical Genomic Research\n \n\n\n  \n\n\n Tam Sneddon\n \n\n\n\n\n Science Communication\n \n\n\n  \n\n\n Sabrina Powell \n \n\n\n\n\n  \n5. General Discussion\, Career Panel Q&A\, and training opportunities – 1:10-1:50pm\n \n6. Wrap-up – 1:50-2:00pm \n  \n  \nPRESENTERS AND FACILITATORS  \nMarkia Smith\, PhD. Computational biologist\, Novartis Institutes for Biomedical Research \nMarkia Smith is a computational biologist at Novartis Institutes for Biomedical Research\, driven by her overarching goal to directly impact and enhance clinical outcomes through omics analyses and Ethical\, Legal\, and Social Implications (ELSI). Leveraging her expertise in cancer genetics/genomics\, computational biology\, and epidemiology\, her current role involves determining the effects of genomic alterations and developing/discovering genomic determinants of response therapy. \nMarkia earned her PhD in Pathobiology and Translational Science from the University of North Carolina at Chapel Hill\, building upon her Bachelor of Science degree in Biochemistry with a minor in Chinese Studies from the University of Delaware. Under the mentorship of Drs. Katherine A. Hoadley and Melissa A. Troester\, her research focused on employing integrative genomic approaches to investigate genetic and environmental determinants of cancer\, with a particular emphasis on understanding health disparities in historically marginalized populations. \nBeyond her scientific endeavors\, Markia is deeply committed to mentoring students in the STEM field\, especially within the realms of health and disability equity. Outside of her professional pursuits\, Markia is a passionate foodie\, traveler\, and avid lifter\, finding joy in exploring new cuisines\, cultures\, and fitness routines. \n  \nClick here to register.\nQuestions? Email precisionmedicine@med.unc.edu \n  \nDownload event flyer. \n \n 
URL:https://www.med.unc.edu/ppmh/event/genetics-in-a-day-careers-from-the-bench-to-the-bedside/
LOCATION:Mary Townes Science Building\, NCCU campus\, 1900 Concord St\, Durham\, NC\, 27707\, United States
CATEGORIES:events
END:VEVENT
END:VCALENDAR