BEGIN:VCALENDAR
VERSION:2.0
PRODID:-//Michael Hooker Metabolomics and Proteomics Core - ECPv6.15.18//NONSGML v1.0//EN
CALSCALE:GREGORIAN
METHOD:PUBLISH
X-ORIGINAL-URL:https://www.med.unc.edu/proteomics-metabolomics
X-WR-CALDESC:Events for Michael Hooker Metabolomics and Proteomics Core
REFRESH-INTERVAL;VALUE=DURATION:PT1H
X-Robots-Tag:noindex
X-PUBLISHED-TTL:PT1H
BEGIN:VTIMEZONE
TZID:America/New_York
BEGIN:DAYLIGHT
TZOFFSETFROM:-0500
TZOFFSETTO:-0400
TZNAME:EDT
DTSTART:20240310T070000
END:DAYLIGHT
BEGIN:STANDARD
TZOFFSETFROM:-0400
TZOFFSETTO:-0500
TZNAME:EST
DTSTART:20241103T060000
END:STANDARD
BEGIN:DAYLIGHT
TZOFFSETFROM:-0500
TZOFFSETTO:-0400
TZNAME:EDT
DTSTART:20250309T070000
END:DAYLIGHT
BEGIN:STANDARD
TZOFFSETFROM:-0400
TZOFFSETTO:-0500
TZNAME:EST
DTSTART:20251102T060000
END:STANDARD
BEGIN:DAYLIGHT
TZOFFSETFROM:-0500
TZOFFSETTO:-0400
TZNAME:EDT
DTSTART:20260308T070000
END:DAYLIGHT
BEGIN:STANDARD
TZOFFSETFROM:-0400
TZOFFSETTO:-0500
TZNAME:EST
DTSTART:20261101T060000
END:STANDARD
BEGIN:DAYLIGHT
TZOFFSETFROM:-0500
TZOFFSETTO:-0400
TZNAME:EDT
DTSTART:20270314T070000
END:DAYLIGHT
BEGIN:STANDARD
TZOFFSETFROM:-0400
TZOFFSETTO:-0500
TZNAME:EST
DTSTART:20271107T060000
END:STANDARD
END:VTIMEZONE
BEGIN:VEVENT
DTSTART;TZID=America/New_York:20260413T120000
DTEND;TZID=America/New_York:20260413T130000
DTSTAMP:20260424T143137
CREATED:20260330T191447Z
LAST-MODIFIED:20260330T191953Z
UID:10000020-1776081600-1776085200@www.med.unc.edu
SUMMARY:Inhibiting Glutamine Metabolism to Overcome KEAP1-NRF2-Mediated KRAS Inhibitor Resistance
DESCRIPTION:Presented by:\nWen-Hsuan Chang\, Ph.D.\nLineberger Comprehensive Cancer Center \n\n\n\nRegister Here\n\n\n                \n                        \n                             \n                        \n                        Name(Required)\n                            \n                            \n                                                    First\n                                                    \n                                                \n                            \n                            \n                                                            Last\n                                                            \n                                                        \n                            \n                        Email(Required)\n                            \n                        DepartmentAre you attending virtually or in-person?(Required)If attending via Zoom: \nhttps://zoom.us/j/97758170561In-personZoom\n          \n            \n            \n            \n            \n            \n            \n            \n            \n            \n            \n            \n            \n            \n        \n                        Δ \n                        \n\n\n\n\nHosted by: UNC Metabolomics and Proteomics (MAP) Core \nSponsored by: Lineberger Comprehensive Cancer Center (LCCC)
URL:https://www.med.unc.edu/proteomics-metabolomics/event/inhibiting-glutamine-metabolism-to-overcome-keap1-nrf2-mediated-kras-inhibitor-resistance-2/
LOCATION:6004 Marsico Hall and virtual
END:VEVENT
BEGIN:VEVENT
DTSTART;TZID=America/New_York:20260316T113000
DTEND;TZID=America/New_York:20260316T123000
DTSTAMP:20260424T143137
CREATED:20260225T222049Z
LAST-MODIFIED:20260316T115400Z
UID:10000016-1773660600-1773664200@www.med.unc.edu
SUMMARY:Re-examining 5-HT2A–mGluR2 Heterodimerization
DESCRIPTION:Presented by:\nBlake Fordyce\nPh.D. Candidate in Bryan Roth’s lab; Neuroscience program \n\n\n\nRegister Here\n\n                \n                        \n                             \n                        \n                        Name(Required)\n                            \n                            \n                                                    First\n                                                    \n                                                \n                            \n                            \n                                                            Last\n                                                            \n                                                        \n                            \n                        Email(Required)\n                            \n                        DepartmentAre you attending virtually or in-person?(Required)If attending via Zoom: \nhttps://zoom.us/j/99926025986In-personZoom\n          \n            \n            \n            \n            \n            \n            \n            \n            \n            \n            \n            \n            \n            \n        \n                        Δ \n                        \n\n\n\n\nHosted by: UNC Metabolomics and Proteomics (MAP) Core \nSponsored by: Lineberger Comprehensive Cancer Center (LCCC)
URL:https://www.med.unc.edu/proteomics-metabolomics/event/re-examining-5-ht2a-mglur2-heterodimerization/
LOCATION:6004 Marsico Hall and virtual
END:VEVENT
BEGIN:VEVENT
DTSTART;TZID=America/New_York:20250319T120000
DTEND;TZID=America/New_York:20250319T130000
DTSTAMP:20260424T143137
CREATED:20250305T213827Z
LAST-MODIFIED:20250318T172027Z
UID:10000007-1742385600-1742389200@www.med.unc.edu
SUMMARY:MS Seminar by Tigist Tamir - Deciphering the convergence of cellular signaling & metabolism in obesity
DESCRIPTION:Presented by:\nTigist Tamir\, Ph.D.\nDepartment of Biochemistry and Biophysics \n\n\n\nRegister Here\n\n                \n                        \n                             \n                        \n                        Name(Required)\n                            \n                            \n                                                    First\n                                                    \n                                                \n                            \n                            \n                                                            Last\n                                                            \n                                                        \n                            \n                        Email(Required)\n                            \n                        DepartmentAre you attending virtually or in-person?(Required)In-personZoom\n          \n            \n            \n            \n            \n            \n            \n            \n            \n            \n            \n            \n            \n            \n        \n                        Δ \n                        \n\n\n\n\nHosted by: UNC Metabolomics and Proteomics (MAP) Core \nSponsored by: UNC Lineberger Comprehensive Cancer Center (LCCC) &\nNutrition Obesity Research Center (NORC)
URL:https://www.med.unc.edu/proteomics-metabolomics/event/ms-seminar-by-tigist-tamir/
LOCATION:6004 Marsico Hall and virtual
END:VEVENT
END:VCALENDAR