BEGIN:VCALENDAR
VERSION:2.0
PRODID:-//UNC Center for Excellence in Community Mental Health - ECPv6.15.18//NONSGML v1.0//EN
CALSCALE:GREGORIAN
METHOD:PUBLISH
X-ORIGINAL-URL:https://www.med.unc.edu/psych/cecmh
X-WR-CALDESC:Events for UNC Center for Excellence in Community Mental Health
REFRESH-INTERVAL;VALUE=DURATION:PT1H
X-Robots-Tag:noindex
X-PUBLISHED-TTL:PT1H
BEGIN:VTIMEZONE
TZID:America/New_York
BEGIN:DAYLIGHT
TZOFFSETFROM:-0500
TZOFFSETTO:-0400
TZNAME:EDT
DTSTART:20190310T070000
END:DAYLIGHT
BEGIN:STANDARD
TZOFFSETFROM:-0400
TZOFFSETTO:-0500
TZNAME:EST
DTSTART:20191103T060000
END:STANDARD
BEGIN:DAYLIGHT
TZOFFSETFROM:-0500
TZOFFSETTO:-0400
TZNAME:EDT
DTSTART:20200308T070000
END:DAYLIGHT
BEGIN:STANDARD
TZOFFSETFROM:-0400
TZOFFSETTO:-0500
TZNAME:EST
DTSTART:20201101T060000
END:STANDARD
BEGIN:DAYLIGHT
TZOFFSETFROM:-0500
TZOFFSETTO:-0400
TZNAME:EDT
DTSTART:20210314T070000
END:DAYLIGHT
BEGIN:STANDARD
TZOFFSETFROM:-0400
TZOFFSETTO:-0500
TZNAME:EST
DTSTART:20211107T060000
END:STANDARD
END:VTIMEZONE
BEGIN:VEVENT
DTSTART;TZID=America/New_York:20200418T073000
DTEND;TZID=America/New_York:20200418T143000
DTSTAMP:20260421T032815
CREATED:20190808T143336Z
LAST-MODIFIED:20200315T144114Z
UID:10000711-1587195000-1587220200@www.med.unc.edu
SUMMARY:Cancelled Tenth Annual NC Community Psychiatrists' Leadership Network Symposium
DESCRIPTION:The Center’s Tenth Annual NC Community Psychiatrists’ Leadership Symposium has been cancelled! \nQuestions: alice_lockhart@med.unc.edu\n  \n  \n  \n  \n 
URL:https://www.med.unc.edu/psych/cecmh/event/tenth-annual-nc-community-psychiatrists-leadership-symposium/
LOCATION:The William and Ida Friday Center for Continuing Education\, 100 Friday Center Drive\, Chapel Hill\, NC\, 27517\, United States
ORGANIZER;CN="Alice Lockhart":MAILTO:alice_lockhart@med.unc.edu
END:VEVENT
END:VCALENDAR