BEGIN:VCALENDAR
VERSION:2.0
PRODID:-//UNC Center for Excellence in Community Mental Health - ECPv6.15.18//NONSGML v1.0//EN
CALSCALE:GREGORIAN
METHOD:PUBLISH
X-ORIGINAL-URL:https://www.med.unc.edu/psych/cecmh
X-WR-CALDESC:Events for UNC Center for Excellence in Community Mental Health
REFRESH-INTERVAL;VALUE=DURATION:PT1H
X-Robots-Tag:noindex
X-PUBLISHED-TTL:PT1H
BEGIN:VTIMEZONE
TZID:America/New_York
BEGIN:DAYLIGHT
TZOFFSETFROM:-0500
TZOFFSETTO:-0400
TZNAME:EDT
DTSTART:20210314T070000
END:DAYLIGHT
BEGIN:STANDARD
TZOFFSETFROM:-0400
TZOFFSETTO:-0500
TZNAME:EST
DTSTART:20211107T060000
END:STANDARD
BEGIN:DAYLIGHT
TZOFFSETFROM:-0500
TZOFFSETTO:-0400
TZNAME:EDT
DTSTART:20220313T070000
END:DAYLIGHT
BEGIN:STANDARD
TZOFFSETFROM:-0400
TZOFFSETTO:-0500
TZNAME:EST
DTSTART:20221106T060000
END:STANDARD
BEGIN:DAYLIGHT
TZOFFSETFROM:-0500
TZOFFSETTO:-0400
TZNAME:EDT
DTSTART:20230312T070000
END:DAYLIGHT
BEGIN:STANDARD
TZOFFSETFROM:-0400
TZOFFSETTO:-0500
TZNAME:EST
DTSTART:20231105T060000
END:STANDARD
END:VTIMEZONE
BEGIN:VEVENT
DTSTART;TZID=America/New_York:20221130T093000
DTEND;TZID=America/New_York:20221130T130000
DTSTAMP:20260421T043503
CREATED:20220908T171120Z
LAST-MODIFIED:20220908T171120Z
UID:10001388-1669800600-1669813200@www.med.unc.edu
SUMMARY:Career Profile
DESCRIPTION:Trainers: Matt & Melissa\nTime: 9:30 AM – 1:00 PM\nTraining: Career Profile\nContract: DHHS\nPlatform: Zoom\nContact: matt_diehl@med.unc.edu & melissa_dehaven@med.unc.edu
URL:https://www.med.unc.edu/psych/cecmh/event/career-profile-7/
CATEGORIES:Institute for Best Practices,IPS
END:VEVENT
END:VCALENDAR