BEGIN:VCALENDAR
VERSION:2.0
PRODID:-//UNC Center for Excellence in Community Mental Health - ECPv6.15.18//NONSGML v1.0//EN
CALSCALE:GREGORIAN
METHOD:PUBLISH
X-ORIGINAL-URL:https://www.med.unc.edu/psych/cecmh
X-WR-CALDESC:Events for UNC Center for Excellence in Community Mental Health
REFRESH-INTERVAL;VALUE=DURATION:PT1H
X-Robots-Tag:noindex
X-PUBLISHED-TTL:PT1H
BEGIN:VTIMEZONE
TZID:America/New_York
BEGIN:DAYLIGHT
TZOFFSETFROM:-0500
TZOFFSETTO:-0400
TZNAME:EDT
DTSTART:20220313T070000
END:DAYLIGHT
BEGIN:STANDARD
TZOFFSETFROM:-0400
TZOFFSETTO:-0500
TZNAME:EST
DTSTART:20221106T060000
END:STANDARD
BEGIN:DAYLIGHT
TZOFFSETFROM:-0500
TZOFFSETTO:-0400
TZNAME:EDT
DTSTART:20230312T070000
END:DAYLIGHT
BEGIN:STANDARD
TZOFFSETFROM:-0400
TZOFFSETTO:-0500
TZNAME:EST
DTSTART:20231105T060000
END:STANDARD
BEGIN:DAYLIGHT
TZOFFSETFROM:-0500
TZOFFSETTO:-0400
TZNAME:EDT
DTSTART:20240310T070000
END:DAYLIGHT
BEGIN:STANDARD
TZOFFSETFROM:-0400
TZOFFSETTO:-0500
TZNAME:EST
DTSTART:20241103T060000
END:STANDARD
END:VTIMEZONE
BEGIN:VEVENT
DTSTART;TZID=America/New_York:20231010T103000
DTEND;TZID=America/New_York:20231010T120000
DTSTAMP:20260420T023940
CREATED:20230919T155942Z
LAST-MODIFIED:20230919T155942Z
UID:10003744-1696933800-1696939200@www.med.unc.edu
SUMMARY:Brushes with Life (Virtual)
DESCRIPTION:This group provides visual and expressive arts activities where participants can select from a wide range of mediums to express their thoughts and feelings. All skill levels are encouraged. All skill levels are encouraged. \nDate: Every Tuesday \nTime: 10:30am – 12:00pm \nLocation: Virtual \n\nPlease let us know if you’d like to try out or sign up for a group. Some groups have a waitlist. If a group is currently full\, we will let you know when a spot opens up.\n\nFor questions or to signup\, please contact Matt Ballard\, Farm Program Manager\, matthew_ballard@med.unc.edu\, 919-966-0933 (office) OR 919-533-9397 (cell). You can also request UNC staff/clinician send a referral to Matthew Ballard through Epic In Basket.
URL:https://www.med.unc.edu/psych/cecmh/event/brushes-with-life-virtual/2023-10-10/
CATEGORIES:Farm at Penny Lane
END:VEVENT
BEGIN:VEVENT
DTSTART;TZID=America/New_York:20231010T110000
DTEND;TZID=America/New_York:20231010T123000
DTSTAMP:20260420T023940
CREATED:20230919T160824Z
LAST-MODIFIED:20230919T160824Z
UID:10003778-1696935600-1696941000@www.med.unc.edu
SUMMARY:Equine Therapy
DESCRIPTION:Learn healthy connection and communication from horses\, the ultimate teachers. They have a unique ability to physiologically reduce symptoms\, foster honesty and increase overall resilience. \nDate: Every Tuesday \nTime: 11:00am – 12:30pm \nLocation: Off-Site in Chapel Hill (Contact Matt Ballard for location details) \nPlease let us know if you’d like to try out or sign up for a group. Some groups have a waitlist. If a group is currently full\, we will let you know when a spot opens up.\nFor questions or to signup\, please contact Matt Ballard\, Farm Program Manager\, matthew_ballard@med.unc.edu\, 919-966-0933 (office) OR 919-533-9397 (cell). You can also request UNC staff/clinician send a referral to Matthew Ballard through Epic In Basket.
URL:https://www.med.unc.edu/psych/cecmh/event/equine-therapy-2/2023-10-10/
END:VEVENT
BEGIN:VEVENT
DTSTART;TZID=America/New_York:20231010T123000
DTEND;TZID=America/New_York:20231010T133000
DTSTAMP:20260420T023940
CREATED:20230919T163044Z
LAST-MODIFIED:20230919T163044Z
UID:10003810-1696941000-1696944600@www.med.unc.edu
SUMMARY:Communal Lunch with Food/Mood
DESCRIPTION:This group explores how food can influence how we feel about ourselves and help our symptoms. Topics include: healthy menus & budgeting strategies\, food journaling\, body image and the brain-gut axis. A free farm lunch is offered during the group. \nDate: Every Tuesday \nTime: 12:30-1:30pm \nLocation: In-person\, Farm at Penny Lane \nA shuttle is available from Carr Mill STEP but please reach out to schedule. The shuttle is a small blue bus that picks up at the outdoor pavilion in between CVS and Carr Mill Mall. The shuttle departs 30 minutes before the group starts and returns within 30 minutes after the group ends. When signing up for groups\, please note if you will need the shuttle and we will try to make it available. \nPlease let us know if you’d like to try out or sign up for a group. Some groups have a waitlist. If a group is currently full\, we will let you know when a spot opens up. \nFor questions or to signup\, please contact Matt Ballard\, Farm Program Manager\, matthew_ballard@med.unc.edu\, 919-966-0933 (office) OR 919-533-9397 (cell). You can also request UNC staff/clinician send a referral to Matthew Ballard through Epic In Basket.
URL:https://www.med.unc.edu/psych/cecmh/event/communal-lunch-with-food-mood/2023-10-10/
END:VEVENT
BEGIN:VEVENT
DTSTART;TZID=America/New_York:20231010T134500
DTEND;TZID=America/New_York:20231010T150000
DTSTAMP:20260420T023940
CREATED:20230919T163356Z
LAST-MODIFIED:20230919T163356Z
UID:10003818-1696945500-1696950000@www.med.unc.edu
SUMMARY:Moving through Life Social Skills
DESCRIPTION:Learn and practice social skills in an encouraging and low-pressure environment with the help of light movement. We’ll work alongside each other through negative symptoms around relationships and social situations and the emotions or thoughts that come up. \nDate: Every Tuesday \nTime: 1:45-3:00pm \nLocation: In-person\, Farm at Penny Lane \nA shuttle is available from Carr Mill STEP but please reach out to schedule. The shuttle is a small blue bus that picks up at the outdoor pavilion in between CVS and Carr Mill Mall. The shuttle departs 30 minutes before the group starts and returns within 30 minutes after the group ends. When signing up for groups\, please note if you will need the shuttle and we will try to make it available. \nPlease let us know if you’d like to try out or sign up for a group. Some groups have a waitlist. If a group is currently full\, we will let you know when a spot opens up. \nFor questions or to signup\, please contact Matt Ballard\, Farm Program Manager\, matthew_ballard@med.unc.edu\, 919-966-0933 (office) OR 919-533-9397 (cell). You can also request UNC staff/clinician send a referral to Matthew Ballard through Epic In Basket.
URL:https://www.med.unc.edu/psych/cecmh/event/moving-through-life-social-skills/2023-10-10/
CATEGORIES:Farm at Penny Lane
END:VEVENT
END:VCALENDAR