BEGIN:VCALENDAR
VERSION:2.0
PRODID:-//UNC Center for Excellence in Community Mental Health - ECPv6.15.18//NONSGML v1.0//EN
CALSCALE:GREGORIAN
METHOD:PUBLISH
X-ORIGINAL-URL:https://www.med.unc.edu/psych/cecmh
X-WR-CALDESC:Events for UNC Center for Excellence in Community Mental Health
REFRESH-INTERVAL;VALUE=DURATION:PT1H
X-Robots-Tag:noindex
X-PUBLISHED-TTL:PT1H
BEGIN:VTIMEZONE
TZID:America/New_York
BEGIN:DAYLIGHT
TZOFFSETFROM:-0500
TZOFFSETTO:-0400
TZNAME:EDT
DTSTART:20230312T070000
END:DAYLIGHT
BEGIN:STANDARD
TZOFFSETFROM:-0400
TZOFFSETTO:-0500
TZNAME:EST
DTSTART:20231105T060000
END:STANDARD
BEGIN:DAYLIGHT
TZOFFSETFROM:-0500
TZOFFSETTO:-0400
TZNAME:EDT
DTSTART:20240310T070000
END:DAYLIGHT
BEGIN:STANDARD
TZOFFSETFROM:-0400
TZOFFSETTO:-0500
TZNAME:EST
DTSTART:20241103T060000
END:STANDARD
BEGIN:DAYLIGHT
TZOFFSETFROM:-0500
TZOFFSETTO:-0400
TZNAME:EDT
DTSTART:20250309T070000
END:DAYLIGHT
BEGIN:STANDARD
TZOFFSETFROM:-0400
TZOFFSETTO:-0500
TZNAME:EST
DTSTART:20251102T060000
END:STANDARD
END:VTIMEZONE
BEGIN:VEVENT
DTSTART;TZID=America/New_York:20240215T090000
DTEND;TZID=America/New_York:20240215T160000
DTSTAMP:20260423T164218
CREATED:20240201T194501Z
LAST-MODIFIED:20240201T194541Z
UID:10004993-1707987600-1708012800@www.med.unc.edu
SUMMARY:Permanent Supported Housing
DESCRIPTION:Permanent Supported Housing: February 14th\, 15th\, and 16th from 9:00am-4:00pm\nTrainers: Kristin Lukasiewicz\, Ariel Reynolds & Stacy Smith\nContact: kristin_lukasiewicz@med.unc.edu & ariel_reynolds@med.unc.edu
URL:https://www.med.unc.edu/psych/cecmh/event/permanent-supported-housing/2024-02-15/
CATEGORIES:Institute for Best Practices
END:VEVENT
END:VCALENDAR