BEGIN:VCALENDAR
VERSION:2.0
PRODID:-//UNC Center for Excellence in Community Mental Health - ECPv6.15.18//NONSGML v1.0//EN
CALSCALE:GREGORIAN
METHOD:PUBLISH
X-ORIGINAL-URL:https://www.med.unc.edu/psych/cecmh
X-WR-CALDESC:Events for UNC Center for Excellence in Community Mental Health
REFRESH-INTERVAL;VALUE=DURATION:PT1H
X-Robots-Tag:noindex
X-PUBLISHED-TTL:PT1H
BEGIN:VTIMEZONE
TZID:America/New_York
BEGIN:DAYLIGHT
TZOFFSETFROM:-0500
TZOFFSETTO:-0400
TZNAME:EDT
DTSTART:20160313T070000
END:DAYLIGHT
BEGIN:STANDARD
TZOFFSETFROM:-0400
TZOFFSETTO:-0500
TZNAME:EST
DTSTART:20161106T060000
END:STANDARD
BEGIN:DAYLIGHT
TZOFFSETFROM:-0500
TZOFFSETTO:-0400
TZNAME:EDT
DTSTART:20170312T070000
END:DAYLIGHT
BEGIN:STANDARD
TZOFFSETFROM:-0400
TZOFFSETTO:-0500
TZNAME:EST
DTSTART:20171105T060000
END:STANDARD
BEGIN:DAYLIGHT
TZOFFSETFROM:-0500
TZOFFSETTO:-0400
TZNAME:EDT
DTSTART:20180311T070000
END:DAYLIGHT
BEGIN:STANDARD
TZOFFSETFROM:-0400
TZOFFSETTO:-0500
TZNAME:EST
DTSTART:20181104T060000
END:STANDARD
END:VTIMEZONE
BEGIN:VEVENT
DTSTART;TZID=America/New_York:20171102T180000
DTEND;TZID=America/New_York:20171102T210000
DTSTAMP:20260419T160647
CREATED:20170725T223000Z
LAST-MODIFIED:20181018T204343Z
UID:10000702-1509645600-1509656400@www.med.unc.edu
SUMMARY:Center's Fourth Annual No Limits Gala features Francis Greenburger
DESCRIPTION:Please join us Nov. 2\, 2017. Francis Greenburger\, successful real estate developer\, author\, and mental health advocate\, will be the featured speaker at the Center’s Fourth Annual No Limits Gala at the George Watts Hill Alumni Center  from 6-9:00 p.m. This annual fundraiser features an auction\, reception\, dinner and music. Proceeds from the event benefit the Center’s programs.\n\nFrancis Greenburger is the founder and CEO of Time Equities\, Inc.\, a multibillion-dollar real estate investment\, and development company\, as well as chairman of Sanford J. Greenburger Associates\, a literary agency representing some of the most successful writers of our time. He is the founder of two not- for-profit organizations\, the Omi International Arts Center and the Greenburger Center for Social & Criminal Justice. He has served on the boards of over 15 nonprofit organizations for the arts\, education\, and criminal justice reform. \n Read a recent Huffington Post about the author http://www.huffingtonpost.com/entry/francis-greenburger-a-man-on-many-a-mission a-profile_us_58ab7b05e4b0417c4066c1e1 For additional information:   \nRegister now. \nQuestions:  Ed Binanay at 919 523 1547  or ebinanay@med.unc.edu
URL:https://www.med.unc.edu/psych/cecmh/event/fourth-annual-no-limits-gala-1/
ATTACH;FMTTYPE=image/jpeg:https://www.med.unc.edu/psych/cecmh/wp-content/uploads/sites/880/2018/10/francis-greenburger-1.jpeg
END:VEVENT
END:VCALENDAR