BEGIN:VCALENDAR
VERSION:2.0
PRODID:-//UNC Center for Excellence in Community Mental Health - ECPv6.15.18//NONSGML v1.0//EN
CALSCALE:GREGORIAN
METHOD:PUBLISH
X-ORIGINAL-URL:https://www.med.unc.edu/psych/cecmh
X-WR-CALDESC:Events for UNC Center for Excellence in Community Mental Health
REFRESH-INTERVAL;VALUE=DURATION:PT1H
X-Robots-Tag:noindex
X-PUBLISHED-TTL:PT1H
BEGIN:VTIMEZONE
TZID:America/New_York
BEGIN:DAYLIGHT
TZOFFSETFROM:-0500
TZOFFSETTO:-0400
TZNAME:EDT
DTSTART:20190310T070000
END:DAYLIGHT
BEGIN:STANDARD
TZOFFSETFROM:-0400
TZOFFSETTO:-0500
TZNAME:EST
DTSTART:20191103T060000
END:STANDARD
BEGIN:DAYLIGHT
TZOFFSETFROM:-0500
TZOFFSETTO:-0400
TZNAME:EDT
DTSTART:20200308T070000
END:DAYLIGHT
BEGIN:STANDARD
TZOFFSETFROM:-0400
TZOFFSETTO:-0500
TZNAME:EST
DTSTART:20201101T060000
END:STANDARD
BEGIN:DAYLIGHT
TZOFFSETFROM:-0500
TZOFFSETTO:-0400
TZNAME:EDT
DTSTART:20210314T070000
END:DAYLIGHT
BEGIN:STANDARD
TZOFFSETFROM:-0400
TZOFFSETTO:-0500
TZNAME:EST
DTSTART:20211107T060000
END:STANDARD
END:VTIMEZONE
BEGIN:VEVENT
DTSTART;TZID=America/New_York:20200309T133000
DTEND;TZID=America/New_York:20200309T143000
DTSTAMP:20260422T032536
CREATED:20200224T121728Z
LAST-MODIFIED:20200304T114317Z
UID:10000716-1583760600-1583764200@www.med.unc.edu
SUMMARY:Community Psychiatrists Leadership Videoconference Series features Shannon Dowler\, MD
DESCRIPTION:Mark you calendar for  March 9\, 2020  at 1:30 PM for a special video conference featuring Shannon Dowler\, MD\, Chief Medical Officer\, North Carolina Medicaid. \nHost: John Gilmore\, MD\, Director of Community Psychiatrists’ Leadership Program and the UNC Center for Excellence in Community Mental Health\, Eure Professor\, Vice Chair Research and Scientific Affairs\, Department of Psychiatry. \nQuestions: alice_lockhart@med.unc.eedu \n  \nShannon Dowler\, MD \nChief Medical Officer\, North Carolina Medicaid \nTopic: Community Psychiatrists\, Medicaid Update Videoconference \nTime: Mar 9\, 2020 01:30 PM Eastern Time (US and Canada) \n  \nJoin Zoom Meeting \nhttps://zoom.us/j/125436770 \n  \nMeeting ID: 125 436 770 \n  \nOne tap mobile \n+19292056099\,\,125436770# US (New York) \n+16699006833\,\,125436770# US (San Jose) \n  \nDial by your location \n+1 929 205 6099 US (New York) \n+1 669 900 6833 US (San Jose) \n  \nMeeting ID: 125 436 770 \nFind your local number: https://zoom.us/u/adDAQwWtaY \n  \n  \n  \nVideoconference series is a collaboration with NC AHEC.
URL:https://www.med.unc.edu/psych/cecmh/event/community-psychiatrists-leadership-videoconference-features-shannon-dowler-md/
ATTACH;FMTTYPE=image/jpeg:https://www.med.unc.edu/psych/cecmh/wp-content/uploads/sites/880/2020/02/Shannon-Dowler-MD-2.jpg
ORGANIZER;CN="Alice Lockhart":MAILTO:alice_lockhart@med.unc.edu
END:VEVENT
END:VCALENDAR