BEGIN:VCALENDAR
VERSION:2.0
PRODID:-//UNC Center for Excellence in Community Mental Health - ECPv6.15.18//NONSGML v1.0//EN
CALSCALE:GREGORIAN
METHOD:PUBLISH
X-ORIGINAL-URL:https://www.med.unc.edu/psych/cecmh
X-WR-CALDESC:Events for UNC Center for Excellence in Community Mental Health
REFRESH-INTERVAL;VALUE=DURATION:PT1H
X-Robots-Tag:noindex
X-PUBLISHED-TTL:PT1H
BEGIN:VTIMEZONE
TZID:America/New_York
BEGIN:DAYLIGHT
TZOFFSETFROM:-0500
TZOFFSETTO:-0400
TZNAME:EDT
DTSTART:20190310T070000
END:DAYLIGHT
BEGIN:STANDARD
TZOFFSETFROM:-0400
TZOFFSETTO:-0500
TZNAME:EST
DTSTART:20191103T060000
END:STANDARD
BEGIN:DAYLIGHT
TZOFFSETFROM:-0500
TZOFFSETTO:-0400
TZNAME:EDT
DTSTART:20200308T070000
END:DAYLIGHT
BEGIN:STANDARD
TZOFFSETFROM:-0400
TZOFFSETTO:-0500
TZNAME:EST
DTSTART:20201101T060000
END:STANDARD
BEGIN:DAYLIGHT
TZOFFSETFROM:-0500
TZOFFSETTO:-0400
TZNAME:EDT
DTSTART:20210314T070000
END:DAYLIGHT
BEGIN:STANDARD
TZOFFSETFROM:-0400
TZOFFSETTO:-0500
TZNAME:EST
DTSTART:20211107T060000
END:STANDARD
END:VTIMEZONE
BEGIN:VEVENT
DTSTART;TZID=America/New_York:20200511T150000
DTEND;TZID=America/New_York:20200511T170000
DTSTAMP:20260419T154725
CREATED:20200213T202351Z
LAST-MODIFIED:20200408T201945Z
UID:10000715-1589209200-1589216400@www.med.unc.edu
SUMMARY:CANCELLED Community Resource Court Program celebrates twenty-year anniversary May 11
DESCRIPTION:Community Resource Court Celebration will be rescheduled and posted on this calendar.\nThe  Community Resource Court\, (CRC)\, an innovative collaboration between Judicial District15-Orange and Chatham counties and the UNC Center for Excellence in Community Mental Health\, will celebrate its 20th Anniversary May 11 at  the Southern Human Services Center Building in Chapel Hill from 3.00-5.00 PM. \nCRC serves justice involved individuals with serious mental illness in Orange and Chatham counties \nA planning committee will soon distribute invitations with additional information for this event \n  \nQuestions: Contact Caroline Ginley\, Program Manager\, MSW\, LCSW-A\,  caroline_ginley@med.unc.edu\nSave the Date CRC 20 \nCRC Brochure:  community-resource-court \n  \n  \n.
URL:https://www.med.unc.edu/psych/cecmh/event/community-resource-court-program-twenty-year-celebration-may-11-mark-you-calendar/
END:VEVENT
END:VCALENDAR