BEGIN:VCALENDAR
VERSION:2.0
PRODID:-//SHAC: Student Health Action Coalition - ECPv6.15.18//NONSGML v1.0//EN
CALSCALE:GREGORIAN
METHOD:PUBLISH
X-ORIGINAL-URL:https://www.med.unc.edu/shac
X-WR-CALDESC:Events for SHAC: Student Health Action Coalition
REFRESH-INTERVAL;VALUE=DURATION:PT1H
X-Robots-Tag:noindex
X-PUBLISHED-TTL:PT1H
BEGIN:VTIMEZONE
TZID:America/New_York
BEGIN:DAYLIGHT
TZOFFSETFROM:-0500
TZOFFSETTO:-0400
TZNAME:EDT
DTSTART:20230312T070000
END:DAYLIGHT
BEGIN:STANDARD
TZOFFSETFROM:-0400
TZOFFSETTO:-0500
TZNAME:EST
DTSTART:20231105T060000
END:STANDARD
BEGIN:DAYLIGHT
TZOFFSETFROM:-0500
TZOFFSETTO:-0400
TZNAME:EDT
DTSTART:20240310T070000
END:DAYLIGHT
BEGIN:STANDARD
TZOFFSETFROM:-0400
TZOFFSETTO:-0500
TZNAME:EST
DTSTART:20241103T060000
END:STANDARD
BEGIN:DAYLIGHT
TZOFFSETFROM:-0500
TZOFFSETTO:-0400
TZNAME:EDT
DTSTART:20250309T070000
END:DAYLIGHT
BEGIN:STANDARD
TZOFFSETFROM:-0400
TZOFFSETTO:-0500
TZNAME:EST
DTSTART:20251102T060000
END:STANDARD
BEGIN:DAYLIGHT
TZOFFSETFROM:-0500
TZOFFSETTO:-0400
TZNAME:EDT
DTSTART:20260308T070000
END:DAYLIGHT
BEGIN:STANDARD
TZOFFSETFROM:-0400
TZOFFSETTO:-0500
TZNAME:EST
DTSTART:20261101T060000
END:STANDARD
END:VTIMEZONE
BEGIN:VEVENT
DTSTART;TZID=America/New_York:20250416T180000
DTEND;TZID=America/New_York:20250416T220000
DTSTAMP:20260424T105852
CREATED:20250215T223346Z
LAST-MODIFIED:20250303T174710Z
UID:10000109-1744826400-1744840800@www.med.unc.edu
SUMMARY:Nutrition Counseling
DESCRIPTION:
URL:https://www.med.unc.edu/shac/event/nutrition-counseling-2/2025-04-16/
LOCATION:Piedmont Health Services Carrboro Community Health Center\, 301 Lloyd Street\, Carrboro\, NC\, 27510\, United States
END:VEVENT
BEGIN:VEVENT
DTSTART;TZID=America/New_York:20250416T180000
DTEND;TZID=America/New_York:20250416T220000
DTSTAMP:20260424T105852
CREATED:20250111T195515Z
LAST-MODIFIED:20250111T200418Z
UID:10000059-1744826400-1744840800@www.med.unc.edu
SUMMARY:Medical Clinic
DESCRIPTION:
URL:https://www.med.unc.edu/shac/event/medical-clinic-2/2025-04-16/
LOCATION:Piedmont Health Services Carrboro Community Health Center\, 301 Lloyd Street\, Carrboro\, NC\, 27510\, United States
END:VEVENT
BEGIN:VEVENT
DTSTART;TZID=America/New_York:20250409T180000
DTEND;TZID=America/New_York:20250409T220000
DTSTAMP:20260424T105852
CREATED:20250111T195515Z
LAST-MODIFIED:20250111T200418Z
UID:10000058-1744221600-1744236000@www.med.unc.edu
SUMMARY:Medical Clinic
DESCRIPTION:
URL:https://www.med.unc.edu/shac/event/medical-clinic-2/2025-04-09/
LOCATION:Piedmont Health Services Carrboro Community Health Center\, 301 Lloyd Street\, Carrboro\, NC\, 27510\, United States
END:VEVENT
BEGIN:VEVENT
DTSTART;TZID=America/New_York:20250402T180000
DTEND;TZID=America/New_York:20250402T220000
DTSTAMP:20260424T105852
CREATED:20250215T223346Z
LAST-MODIFIED:20250303T174710Z
UID:10000108-1743616800-1743631200@www.med.unc.edu
SUMMARY:Nutrition Counseling
DESCRIPTION:
URL:https://www.med.unc.edu/shac/event/nutrition-counseling-2/2025-04-02/
LOCATION:Piedmont Health Services Carrboro Community Health Center\, 301 Lloyd Street\, Carrboro\, NC\, 27510\, United States
END:VEVENT
BEGIN:VEVENT
DTSTART;TZID=America/New_York:20250402T180000
DTEND;TZID=America/New_York:20250402T220000
DTSTAMP:20260424T105852
CREATED:20250111T195515Z
LAST-MODIFIED:20250111T200418Z
UID:10000057-1743616800-1743631200@www.med.unc.edu
SUMMARY:Medical Clinic
DESCRIPTION:
URL:https://www.med.unc.edu/shac/event/medical-clinic-2/2025-04-02/
LOCATION:Piedmont Health Services Carrboro Community Health Center\, 301 Lloyd Street\, Carrboro\, NC\, 27510\, United States
END:VEVENT
BEGIN:VEVENT
DTSTART;TZID=America/New_York:20250319T180000
DTEND;TZID=America/New_York:20250319T220000
DTSTAMP:20260424T105852
CREATED:20250111T195515Z
LAST-MODIFIED:20250111T200418Z
UID:10000056-1742407200-1742421600@www.med.unc.edu
SUMMARY:Medical Clinic
DESCRIPTION:
URL:https://www.med.unc.edu/shac/event/medical-clinic-2/2025-03-19/
LOCATION:Piedmont Health Services Carrboro Community Health Center\, 301 Lloyd Street\, Carrboro\, NC\, 27510\, United States
END:VEVENT
BEGIN:VEVENT
DTSTART;TZID=America/New_York:20250305T180000
DTEND;TZID=America/New_York:20250305T220000
DTSTAMP:20260424T105852
CREATED:20250215T223346Z
LAST-MODIFIED:20250303T174710Z
UID:10000106-1741197600-1741212000@www.med.unc.edu
SUMMARY:Nutrition Counseling
DESCRIPTION:
URL:https://www.med.unc.edu/shac/event/nutrition-counseling-2/2025-03-05/
LOCATION:Piedmont Health Services Carrboro Community Health Center\, 301 Lloyd Street\, Carrboro\, NC\, 27510\, United States
END:VEVENT
BEGIN:VEVENT
DTSTART;TZID=America/New_York:20250305T180000
DTEND;TZID=America/New_York:20250305T220000
DTSTAMP:20260424T105852
CREATED:20250111T195515Z
LAST-MODIFIED:20250111T200418Z
UID:10000055-1741197600-1741212000@www.med.unc.edu
SUMMARY:Medical Clinic
DESCRIPTION:
URL:https://www.med.unc.edu/shac/event/medical-clinic-2/2025-03-05/
LOCATION:Piedmont Health Services Carrboro Community Health Center\, 301 Lloyd Street\, Carrboro\, NC\, 27510\, United States
END:VEVENT
BEGIN:VEVENT
DTSTART;TZID=America/New_York:20250226T180000
DTEND;TZID=America/New_York:20250226T220000
DTSTAMP:20260424T105852
CREATED:20250111T195515Z
LAST-MODIFIED:20250111T200418Z
UID:10000054-1740592800-1740607200@www.med.unc.edu
SUMMARY:Medical Clinic
DESCRIPTION:
URL:https://www.med.unc.edu/shac/event/medical-clinic-2/2025-02-26/
LOCATION:Piedmont Health Services Carrboro Community Health Center\, 301 Lloyd Street\, Carrboro\, NC\, 27510\, United States
END:VEVENT
BEGIN:VEVENT
DTSTART;TZID=America/New_York:20250219T180000
DTEND;TZID=America/New_York:20250219T220000
DTSTAMP:20260424T105852
CREATED:20250111T195515Z
LAST-MODIFIED:20250111T200418Z
UID:10000053-1739988000-1740002400@www.med.unc.edu
SUMMARY:Medical Clinic
DESCRIPTION:
URL:https://www.med.unc.edu/shac/event/medical-clinic-2/2025-02-19/
LOCATION:Piedmont Health Services Carrboro Community Health Center\, 301 Lloyd Street\, Carrboro\, NC\, 27510\, United States
END:VEVENT
BEGIN:VEVENT
DTSTART;TZID=America/New_York:20250212T180000
DTEND;TZID=America/New_York:20250212T220000
DTSTAMP:20260424T105852
CREATED:20250215T223346Z
LAST-MODIFIED:20250303T174710Z
UID:10000105-1739383200-1739397600@www.med.unc.edu
SUMMARY:Nutrition Counseling
DESCRIPTION:
URL:https://www.med.unc.edu/shac/event/nutrition-counseling-2/2025-02-12/
LOCATION:Piedmont Health Services Carrboro Community Health Center\, 301 Lloyd Street\, Carrboro\, NC\, 27510\, United States
END:VEVENT
BEGIN:VEVENT
DTSTART;TZID=America/New_York:20250212T180000
DTEND;TZID=America/New_York:20250212T220000
DTSTAMP:20260424T105852
CREATED:20250111T195515Z
LAST-MODIFIED:20250111T200418Z
UID:10000052-1739383200-1739397600@www.med.unc.edu
SUMMARY:Medical Clinic
DESCRIPTION:
URL:https://www.med.unc.edu/shac/event/medical-clinic-2/2025-02-12/
LOCATION:Piedmont Health Services Carrboro Community Health Center\, 301 Lloyd Street\, Carrboro\, NC\, 27510\, United States
END:VEVENT
BEGIN:VEVENT
DTSTART;TZID=America/New_York:20250205T180000
DTEND;TZID=America/New_York:20250205T220000
DTSTAMP:20260424T105852
CREATED:20250215T223346Z
LAST-MODIFIED:20250303T174710Z
UID:10000104-1738778400-1738792800@www.med.unc.edu
SUMMARY:Nutrition Counseling
DESCRIPTION:
URL:https://www.med.unc.edu/shac/event/nutrition-counseling-2/2025-02-05/
LOCATION:Piedmont Health Services Carrboro Community Health Center\, 301 Lloyd Street\, Carrboro\, NC\, 27510\, United States
END:VEVENT
BEGIN:VEVENT
DTSTART;TZID=America/New_York:20250205T180000
DTEND;TZID=America/New_York:20250205T220000
DTSTAMP:20260424T105852
CREATED:20250111T195515Z
LAST-MODIFIED:20250111T200418Z
UID:10000051-1738778400-1738792800@www.med.unc.edu
SUMMARY:Medical Clinic
DESCRIPTION:
URL:https://www.med.unc.edu/shac/event/medical-clinic-2/2025-02-05/
LOCATION:Piedmont Health Services Carrboro Community Health Center\, 301 Lloyd Street\, Carrboro\, NC\, 27510\, United States
END:VEVENT
BEGIN:VEVENT
DTSTART;TZID=America/New_York:20250129T180000
DTEND;TZID=America/New_York:20250129T220000
DTSTAMP:20260424T105852
CREATED:20250215T223346Z
LAST-MODIFIED:20250303T174710Z
UID:10000103-1738173600-1738188000@www.med.unc.edu
SUMMARY:Nutrition Counseling
DESCRIPTION:
URL:https://www.med.unc.edu/shac/event/nutrition-counseling-2/2025-01-29/
LOCATION:Piedmont Health Services Carrboro Community Health Center\, 301 Lloyd Street\, Carrboro\, NC\, 27510\, United States
END:VEVENT
BEGIN:VEVENT
DTSTART;TZID=America/New_York:20250129T180000
DTEND;TZID=America/New_York:20250129T220000
DTSTAMP:20260424T105852
CREATED:20250111T195515Z
LAST-MODIFIED:20250111T200418Z
UID:10000050-1738173600-1738188000@www.med.unc.edu
SUMMARY:Medical Clinic
DESCRIPTION:
URL:https://www.med.unc.edu/shac/event/medical-clinic-2/2025-01-29/
LOCATION:Piedmont Health Services Carrboro Community Health Center\, 301 Lloyd Street\, Carrboro\, NC\, 27510\, United States
END:VEVENT
BEGIN:VEVENT
DTSTART;TZID=America/New_York:20250122T180000
DTEND;TZID=America/New_York:20250122T220000
DTSTAMP:20260424T105852
CREATED:20250111T195515Z
LAST-MODIFIED:20250111T200418Z
UID:10000049-1737568800-1737583200@www.med.unc.edu
SUMMARY:Medical Clinic
DESCRIPTION:
URL:https://www.med.unc.edu/shac/event/medical-clinic-2/2025-01-22/
LOCATION:Piedmont Health Services Carrboro Community Health Center\, 301 Lloyd Street\, Carrboro\, NC\, 27510\, United States
END:VEVENT
BEGIN:VEVENT
DTSTART;TZID=America/New_York:20250115T180000
DTEND;TZID=America/New_York:20250115T220000
DTSTAMP:20260424T105852
CREATED:20250215T223346Z
LAST-MODIFIED:20250303T174710Z
UID:10000102-1736964000-1736978400@www.med.unc.edu
SUMMARY:Nutrition Counseling
DESCRIPTION:
URL:https://www.med.unc.edu/shac/event/nutrition-counseling-2/2025-01-15/
LOCATION:Piedmont Health Services Carrboro Community Health Center\, 301 Lloyd Street\, Carrboro\, NC\, 27510\, United States
END:VEVENT
BEGIN:VEVENT
DTSTART;TZID=America/New_York:20250115T180000
DTEND;TZID=America/New_York:20250115T220000
DTSTAMP:20260424T105852
CREATED:20250111T195515Z
LAST-MODIFIED:20250111T200418Z
UID:10000048-1736964000-1736978400@www.med.unc.edu
SUMMARY:Medical Clinic
DESCRIPTION:
URL:https://www.med.unc.edu/shac/event/medical-clinic-2/2025-01-15/
LOCATION:Piedmont Health Services Carrboro Community Health Center\, 301 Lloyd Street\, Carrboro\, NC\, 27510\, United States
END:VEVENT
BEGIN:VEVENT
DTSTART;TZID=America/New_York:20250108T180000
DTEND;TZID=America/New_York:20250108T220000
DTSTAMP:20260424T105852
CREATED:20250111T195515Z
LAST-MODIFIED:20250111T200418Z
UID:10000047-1736359200-1736373600@www.med.unc.edu
SUMMARY:Medical Clinic
DESCRIPTION:
URL:https://www.med.unc.edu/shac/event/medical-clinic-2/2025-01-08/
LOCATION:Piedmont Health Services Carrboro Community Health Center\, 301 Lloyd Street\, Carrboro\, NC\, 27510\, United States
END:VEVENT
BEGIN:VEVENT
DTSTART;TZID=America/New_York:20240731T180000
DTEND;TZID=America/New_York:20240731T220000
DTSTAMP:20260424T105852
CREATED:20240612T232037Z
LAST-MODIFIED:20240612T232037Z
UID:10000036-1722448800-1722463200@www.med.unc.edu
SUMMARY:Medical Clinic
DESCRIPTION:
URL:https://www.med.unc.edu/shac/event/medical-clinic/2024-07-31/
LOCATION:Piedmont Health Services Carrboro Community Health Center\, 301 Lloyd Street\, Carrboro\, NC\, 27510\, United States
END:VEVENT
BEGIN:VEVENT
DTSTART;TZID=America/New_York:20240724T180000
DTEND;TZID=America/New_York:20240724T220000
DTSTAMP:20260424T105852
CREATED:20240612T232037Z
LAST-MODIFIED:20240612T232037Z
UID:10000035-1721844000-1721858400@www.med.unc.edu
SUMMARY:Medical Clinic
DESCRIPTION:
URL:https://www.med.unc.edu/shac/event/medical-clinic/2024-07-24/
LOCATION:Piedmont Health Services Carrboro Community Health Center\, 301 Lloyd Street\, Carrboro\, NC\, 27510\, United States
END:VEVENT
BEGIN:VEVENT
DTSTART;TZID=America/New_York:20240717T180000
DTEND;TZID=America/New_York:20240717T220000
DTSTAMP:20260424T105852
CREATED:20240612T232037Z
LAST-MODIFIED:20240612T232037Z
UID:10000034-1721239200-1721253600@www.med.unc.edu
SUMMARY:Medical Clinic
DESCRIPTION:
URL:https://www.med.unc.edu/shac/event/medical-clinic/2024-07-17/
LOCATION:Piedmont Health Services Carrboro Community Health Center\, 301 Lloyd Street\, Carrboro\, NC\, 27510\, United States
END:VEVENT
BEGIN:VEVENT
DTSTART;TZID=America/New_York:20240710T180000
DTEND;TZID=America/New_York:20240710T220000
DTSTAMP:20260424T105852
CREATED:20240612T232037Z
LAST-MODIFIED:20240612T232037Z
UID:10000033-1720634400-1720648800@www.med.unc.edu
SUMMARY:Medical Clinic
DESCRIPTION:
URL:https://www.med.unc.edu/shac/event/medical-clinic/2024-07-10/
LOCATION:Piedmont Health Services Carrboro Community Health Center\, 301 Lloyd Street\, Carrboro\, NC\, 27510\, United States
END:VEVENT
BEGIN:VEVENT
DTSTART;TZID=America/New_York:20240703T180000
DTEND;TZID=America/New_York:20240703T220000
DTSTAMP:20260424T105852
CREATED:20240612T232037Z
LAST-MODIFIED:20240612T232037Z
UID:10000032-1720029600-1720044000@www.med.unc.edu
SUMMARY:Medical Clinic
DESCRIPTION:
URL:https://www.med.unc.edu/shac/event/medical-clinic/2024-07-03/
LOCATION:Piedmont Health Services Carrboro Community Health Center\, 301 Lloyd Street\, Carrboro\, NC\, 27510\, United States
END:VEVENT
BEGIN:VEVENT
DTSTART;TZID=America/New_York:20240626T180000
DTEND;TZID=America/New_York:20240626T220000
DTSTAMP:20260424T105852
CREATED:20240612T232037Z
LAST-MODIFIED:20240612T232037Z
UID:10000031-1719424800-1719439200@www.med.unc.edu
SUMMARY:Medical Clinic
DESCRIPTION:
URL:https://www.med.unc.edu/shac/event/medical-clinic/2024-06-26/
LOCATION:Piedmont Health Services Carrboro Community Health Center\, 301 Lloyd Street\, Carrboro\, NC\, 27510\, United States
END:VEVENT
END:VCALENDAR