BEGIN:VCALENDAR
VERSION:2.0
PRODID:-//SHAC: Student Health Action Coalition - ECPv6.15.18//NONSGML v1.0//EN
CALSCALE:GREGORIAN
METHOD:PUBLISH
X-ORIGINAL-URL:https://www.med.unc.edu/shac
X-WR-CALDESC:Events for SHAC: Student Health Action Coalition
REFRESH-INTERVAL;VALUE=DURATION:PT1H
X-Robots-Tag:noindex
X-PUBLISHED-TTL:PT1H
BEGIN:VTIMEZONE
TZID:America/New_York
BEGIN:DAYLIGHT
TZOFFSETFROM:-0500
TZOFFSETTO:-0400
TZNAME:EDT
DTSTART:20240310T070000
END:DAYLIGHT
BEGIN:STANDARD
TZOFFSETFROM:-0400
TZOFFSETTO:-0500
TZNAME:EST
DTSTART:20241103T060000
END:STANDARD
BEGIN:DAYLIGHT
TZOFFSETFROM:-0500
TZOFFSETTO:-0400
TZNAME:EDT
DTSTART:20250309T070000
END:DAYLIGHT
BEGIN:STANDARD
TZOFFSETFROM:-0400
TZOFFSETTO:-0500
TZNAME:EST
DTSTART:20251102T060000
END:STANDARD
BEGIN:DAYLIGHT
TZOFFSETFROM:-0500
TZOFFSETTO:-0400
TZNAME:EDT
DTSTART:20260308T070000
END:DAYLIGHT
BEGIN:STANDARD
TZOFFSETFROM:-0400
TZOFFSETTO:-0500
TZNAME:EST
DTSTART:20261101T060000
END:STANDARD
END:VTIMEZONE
BEGIN:VEVENT
DTSTART;TZID=America/New_York:20251119T180000
DTEND;TZID=America/New_York:20251119T210000
DTSTAMP:20260424T153657
CREATED:20250820T131852Z
LAST-MODIFIED:20250820T132250Z
UID:10000127-1763575200-1763586000@www.med.unc.edu
SUMMARY:Dental Clinic
DESCRIPTION:Please see the Dental Clinic page for more information:
URL:https://www.med.unc.edu/shac/event/dental-clinic-5/2025-11-19/
LOCATION:UNC School of Dentistry – Tarrson Hall\, 120 Dental Circle\, Chapel Hill\, NC\, 27599\, United States
END:VEVENT
BEGIN:VEVENT
DTSTART;TZID=America/New_York:20251112T180000
DTEND;TZID=America/New_York:20251112T210000
DTSTAMP:20260424T153657
CREATED:20250820T131852Z
LAST-MODIFIED:20250820T132250Z
UID:10000126-1762970400-1762981200@www.med.unc.edu
SUMMARY:Dental Clinic
DESCRIPTION:Please see the Dental Clinic page for more information:
URL:https://www.med.unc.edu/shac/event/dental-clinic-5/2025-11-12/
LOCATION:UNC School of Dentistry – Tarrson Hall\, 120 Dental Circle\, Chapel Hill\, NC\, 27599\, United States
END:VEVENT
BEGIN:VEVENT
DTSTART;TZID=America/New_York:20251029T180000
DTEND;TZID=America/New_York:20251029T210000
DTSTAMP:20260424T153657
CREATED:20250820T131852Z
LAST-MODIFIED:20250820T132250Z
UID:10000125-1761760800-1761771600@www.med.unc.edu
SUMMARY:Dental Clinic
DESCRIPTION:Please see the Dental Clinic page for more information:
URL:https://www.med.unc.edu/shac/event/dental-clinic-5/2025-10-29/
LOCATION:UNC School of Dentistry – Tarrson Hall\, 120 Dental Circle\, Chapel Hill\, NC\, 27599\, United States
END:VEVENT
BEGIN:VEVENT
DTSTART;TZID=America/New_York:20251008T180000
DTEND;TZID=America/New_York:20251008T210000
DTSTAMP:20260424T153657
CREATED:20250820T131852Z
LAST-MODIFIED:20250820T132250Z
UID:10000124-1759946400-1759957200@www.med.unc.edu
SUMMARY:Dental Clinic
DESCRIPTION:Please see the Dental Clinic page for more information:
URL:https://www.med.unc.edu/shac/event/dental-clinic-5/2025-10-08/
LOCATION:UNC School of Dentistry – Tarrson Hall\, 120 Dental Circle\, Chapel Hill\, NC\, 27599\, United States
END:VEVENT
BEGIN:VEVENT
DTSTART;TZID=America/New_York:20250924T180000
DTEND;TZID=America/New_York:20250924T210000
DTSTAMP:20260424T153657
CREATED:20250820T131852Z
LAST-MODIFIED:20250820T132250Z
UID:10000123-1758736800-1758747600@www.med.unc.edu
SUMMARY:Dental Clinic
DESCRIPTION:Please see the Dental Clinic page for more information:
URL:https://www.med.unc.edu/shac/event/dental-clinic-5/2025-09-24/
LOCATION:UNC School of Dentistry – Tarrson Hall\, 120 Dental Circle\, Chapel Hill\, NC\, 27599\, United States
END:VEVENT
BEGIN:VEVENT
DTSTART;TZID=America/New_York:20250917T180000
DTEND;TZID=America/New_York:20250917T210000
DTSTAMP:20260424T153657
CREATED:20250820T131852Z
LAST-MODIFIED:20250820T132250Z
UID:10000122-1758132000-1758142800@www.med.unc.edu
SUMMARY:Dental Clinic
DESCRIPTION:Please see the Dental Clinic page for more information:
URL:https://www.med.unc.edu/shac/event/dental-clinic-5/2025-09-17/
LOCATION:UNC School of Dentistry – Tarrson Hall\, 120 Dental Circle\, Chapel Hill\, NC\, 27599\, United States
END:VEVENT
BEGIN:VEVENT
DTSTART;TZID=America/New_York:20250910T180000
DTEND;TZID=America/New_York:20250910T210000
DTSTAMP:20260424T153657
CREATED:20250820T131852Z
LAST-MODIFIED:20250820T132250Z
UID:10000121-1757527200-1757538000@www.med.unc.edu
SUMMARY:Dental Clinic
DESCRIPTION:Please see the Dental Clinic page for more information:
URL:https://www.med.unc.edu/shac/event/dental-clinic-5/2025-09-10/
LOCATION:UNC School of Dentistry – Tarrson Hall\, 120 Dental Circle\, Chapel Hill\, NC\, 27599\, United States
END:VEVENT
BEGIN:VEVENT
DTSTART;TZID=America/New_York:20250827T180000
DTEND;TZID=America/New_York:20250827T210000
DTSTAMP:20260424T153657
CREATED:20250820T131852Z
LAST-MODIFIED:20250820T132250Z
UID:10000120-1756317600-1756328400@www.med.unc.edu
SUMMARY:Dental Clinic
DESCRIPTION:Please see the Dental Clinic page for more information:
URL:https://www.med.unc.edu/shac/event/dental-clinic-5/2025-08-27/
LOCATION:UNC School of Dentistry – Tarrson Hall\, 120 Dental Circle\, Chapel Hill\, NC\, 27599\, United States
END:VEVENT
BEGIN:VEVENT
DTSTART;TZID=America/New_York:20250820T180000
DTEND;TZID=America/New_York:20250820T210000
DTSTAMP:20260424T153657
CREATED:20250820T131852Z
LAST-MODIFIED:20250820T132250Z
UID:10000119-1755712800-1755723600@www.med.unc.edu
SUMMARY:Dental Clinic
DESCRIPTION:Please see the Dental Clinic page for more information:
URL:https://www.med.unc.edu/shac/event/dental-clinic-5/2025-08-20/
LOCATION:UNC School of Dentistry – Tarrson Hall\, 120 Dental Circle\, Chapel Hill\, NC\, 27599\, United States
END:VEVENT
BEGIN:VEVENT
DTSTART;TZID=America/New_York:20250813T180000
DTEND;TZID=America/New_York:20250813T210000
DTSTAMP:20260424T153657
CREATED:20250820T131852Z
LAST-MODIFIED:20250820T132250Z
UID:10000118-1755108000-1755118800@www.med.unc.edu
SUMMARY:Dental Clinic
DESCRIPTION:Please see the Dental Clinic page for more information:
URL:https://www.med.unc.edu/shac/event/dental-clinic-5/2025-08-13/
LOCATION:UNC School of Dentistry – Tarrson Hall\, 120 Dental Circle\, Chapel Hill\, NC\, 27599\, United States
END:VEVENT
END:VCALENDAR