BEGIN:VCALENDAR
VERSION:2.0
PRODID:-//Department of Social Medicine - ECPv6.15.18//NONSGML v1.0//EN
CALSCALE:GREGORIAN
METHOD:PUBLISH
X-ORIGINAL-URL:https://www.med.unc.edu/socialmed
X-WR-CALDESC:Events for Department of Social Medicine
REFRESH-INTERVAL;VALUE=DURATION:PT1H
X-Robots-Tag:noindex
X-PUBLISHED-TTL:PT1H
BEGIN:VTIMEZONE
TZID:America/New_York
BEGIN:DAYLIGHT
TZOFFSETFROM:-0500
TZOFFSETTO:-0400
TZNAME:EDT
DTSTART:20250309T070000
END:DAYLIGHT
BEGIN:STANDARD
TZOFFSETFROM:-0400
TZOFFSETTO:-0500
TZNAME:EST
DTSTART:20251102T060000
END:STANDARD
BEGIN:DAYLIGHT
TZOFFSETFROM:-0500
TZOFFSETTO:-0400
TZNAME:EDT
DTSTART:20260308T070000
END:DAYLIGHT
BEGIN:STANDARD
TZOFFSETFROM:-0400
TZOFFSETTO:-0500
TZNAME:EST
DTSTART:20261101T060000
END:STANDARD
BEGIN:DAYLIGHT
TZOFFSETFROM:-0500
TZOFFSETTO:-0400
TZNAME:EDT
DTSTART:20270314T070000
END:DAYLIGHT
BEGIN:STANDARD
TZOFFSETFROM:-0400
TZOFFSETTO:-0500
TZNAME:EST
DTSTART:20271107T060000
END:STANDARD
END:VTIMEZONE
BEGIN:VEVENT
DTSTART;TZID=America/New_York:20260508T120000
DTEND;TZID=America/New_York:20260508T130000
DTSTAMP:20260421T151233
CREATED:20260416T150748Z
LAST-MODIFIED:20260416T150748Z
UID:10000634-1778241600-1778245200@www.med.unc.edu
SUMMARY:ELSI Friday Forum - Making Genomics Matter: Science\, Storytelling\, and Public Engagement
DESCRIPTION:
URL:https://www.med.unc.edu/elsi/2026/04/elsi-friday-forum-2025-sept-12p-2-3-2-2-2-2/
ATTACH;FMTTYPE=image/png:https://www.med.unc.edu/socialmed/wp-content/uploads/sites/462/2025/07/Screenshot-2025-07-08-144357.png
ORGANIZER;CN="UNC Center for the ELSI of Biotechnology":MAILTO:kriste.kuczynski@unc.edu
END:VEVENT
END:VCALENDAR