BEGIN:VCALENDAR
VERSION:2.0
PRODID:-//Department of Social Medicine - ECPv6.15.18//NONSGML v1.0//EN
CALSCALE:GREGORIAN
METHOD:PUBLISH
X-ORIGINAL-URL:https://www.med.unc.edu/socialmed
X-WR-CALDESC:Events for Department of Social Medicine
REFRESH-INTERVAL;VALUE=DURATION:PT1H
X-Robots-Tag:noindex
X-PUBLISHED-TTL:PT1H
BEGIN:VTIMEZONE
TZID:America/New_York
BEGIN:DAYLIGHT
TZOFFSETFROM:-0500
TZOFFSETTO:-0400
TZNAME:EDT
DTSTART:20240310T070000
END:DAYLIGHT
BEGIN:STANDARD
TZOFFSETFROM:-0400
TZOFFSETTO:-0500
TZNAME:EST
DTSTART:20241103T060000
END:STANDARD
BEGIN:DAYLIGHT
TZOFFSETFROM:-0500
TZOFFSETTO:-0400
TZNAME:EDT
DTSTART:20250309T070000
END:DAYLIGHT
BEGIN:STANDARD
TZOFFSETFROM:-0400
TZOFFSETTO:-0500
TZNAME:EST
DTSTART:20251102T060000
END:STANDARD
BEGIN:DAYLIGHT
TZOFFSETFROM:-0500
TZOFFSETTO:-0400
TZNAME:EDT
DTSTART:20260308T070000
END:DAYLIGHT
BEGIN:STANDARD
TZOFFSETFROM:-0400
TZOFFSETTO:-0500
TZNAME:EST
DTSTART:20261101T060000
END:STANDARD
END:VTIMEZONE
BEGIN:VEVENT
DTSTART;TZID=America/New_York:20251107T120000
DTEND;TZID=America/New_York:20251107T130000
DTSTAMP:20260423T045753
CREATED:20251010T120705Z
LAST-MODIFIED:20251010T120705Z
UID:10000615-1762516800-1762520400@www.med.unc.edu
SUMMARY:Moral Distress and Burnout Among OB-GYNs After Dobbs
DESCRIPTION:Nov 7 2025 | 12 – 1pm\n\n\nZoom | Free | Open to All\nVISIT EVENT WEBSITE TO REGISTER \n\n\nSince the US Supreme Court’s 2022 decision in Dobbs v. Jackson\, 17 U.S. states have functionally banned abortion\, creating clinical and ethical challenges for physicians practicing in these jurisdictions. In this presentation\, Dr. Buchbinder will present findings from her qualitative research with obstetrician-gynecologists (OB-GYNs) providing care in states with abortion bans. Findings reveal pervasive impacts of state abortion bans on OB-GYNs—including moral distress\, conflicts with clinical colleagues\, health and wellbeing consequences\, and reduced job satisfaction—with implications for physician health\, workforce sustainability\, and patient outcomes. Institutional practices to support and protect OB-GYNs in restrictive policy environments may help to mitigate the impacts of abortion bans on physicians’ wellbeing. \n Learning Objectives: After this webinar\, attendees will be able to: \n\nUnderstand how abortion laws and policies are impacting the ability to provide comprehensive reproductive health care.\nDescribe ethical challenges that abortion bans raise for physicians.\nIdentify tangible solutions for supporting and improving professional wellbeing among clinicians engaged in reproductive healthcare.\n\n  \nThis is an event of the Office of Academic Clinical Affairs (OACA)\, hosted by the Center for Bioethics\, and co-sponsored by the following U of MN Units: Program in Health Disparities Research\, Medical School; Center for Race\, Indigeneity\, Disability\, Gender\, and Sexuality Studies\, College of Liberal Arts; Community-University Health Care Center (CUHCC); Hubbard School of Journalism and Mass Communication\, College of Liberal Arts; Center for the Study of Political Psychology\, College of Liberal Arts; Masonic Cancer Center (MCC); Minnesota Population Center; Healthy Weight Research Center; Rural Health Research Center; Business Advancement Center for Health (BACH)\, Carlson School of Management\, College of Pharmacy; Medical School; School of Public Health; School of Nursing.
URL:https://www.med.unc.edu/socialmed/event/moral-distress-and-burnout-among-ob-gyns-after-dobbs/
ATTACH;FMTTYPE=image/png:https://www.med.unc.edu/socialmed/wp-content/uploads/sites/462/2025/01/Mara_cropped.png
LOCATION:https://www.med.unc.edu/socialmed/event/moral-distress-and-burnout-among-ob-gyns-after-dobbs/
END:VEVENT
END:VCALENDAR