BEGIN:VCALENDAR
VERSION:2.0
PRODID:-//Department of Social Medicine - ECPv6.15.18//NONSGML v1.0//EN
CALSCALE:GREGORIAN
METHOD:PUBLISH
X-ORIGINAL-URL:https://www.med.unc.edu/socialmed
X-WR-CALDESC:Events for Department of Social Medicine
REFRESH-INTERVAL;VALUE=DURATION:PT1H
X-Robots-Tag:noindex
X-PUBLISHED-TTL:PT1H
BEGIN:VTIMEZONE
TZID:America/New_York
BEGIN:DAYLIGHT
TZOFFSETFROM:-0500
TZOFFSETTO:-0400
TZNAME:EDT
DTSTART:20230312T070000
END:DAYLIGHT
BEGIN:STANDARD
TZOFFSETFROM:-0400
TZOFFSETTO:-0500
TZNAME:EST
DTSTART:20231105T060000
END:STANDARD
BEGIN:DAYLIGHT
TZOFFSETFROM:-0500
TZOFFSETTO:-0400
TZNAME:EDT
DTSTART:20240310T070000
END:DAYLIGHT
BEGIN:STANDARD
TZOFFSETFROM:-0400
TZOFFSETTO:-0500
TZNAME:EST
DTSTART:20241103T060000
END:STANDARD
BEGIN:DAYLIGHT
TZOFFSETFROM:-0500
TZOFFSETTO:-0400
TZNAME:EDT
DTSTART:20250309T070000
END:DAYLIGHT
BEGIN:STANDARD
TZOFFSETFROM:-0400
TZOFFSETTO:-0500
TZNAME:EST
DTSTART:20251102T060000
END:STANDARD
BEGIN:DAYLIGHT
TZOFFSETFROM:-0500
TZOFFSETTO:-0400
TZNAME:EDT
DTSTART:20260308T070000
END:DAYLIGHT
BEGIN:STANDARD
TZOFFSETFROM:-0400
TZOFFSETTO:-0500
TZNAME:EST
DTSTART:20261101T060000
END:STANDARD
END:VTIMEZONE
BEGIN:VEVENT
DTSTART;VALUE=DATE:20250407
DTEND;VALUE=DATE:20250411
DTSTAMP:20260423T214816
CREATED:20250129T183839Z
LAST-MODIFIED:20250129T183839Z
UID:10000601-1743984000-1744329599@www.med.unc.edu
SUMMARY:Paul A. Godley Health Equity Research Week
DESCRIPTION:  \n \nThe 2025 Paul A. Godley Health Equity Research Week (HERW) is coming! \nAbout HERW\nHERW\, hosted by the Center for Health Equity Research (CHER)\, brings faculty\, staff\, students and community members together to share health equity research at UNC. HERW is an opportunity to facilitate collaboration\, innovation and equity in the UNC School of Medicine\, across Carolina’s communities and beyond. All sessions are open to the entire Carolina community and the general public. \nIn 2020\, the UNC School of Medicine collaborated with CHER to host the first Paul A. Godley Health Equity Symposium. In 2023\, the symposium expanded into a week dedicated to highlighting health equity research at Carolina. HERW 2025 will include research presentations\, panel discussions and more. \nNew this year\, we’re excited to announce the Ada Adimora Student Research Award!
URL:https://www.med.unc.edu/socialmed/event/paul-a-godley-health-equity-research-week/
END:VEVENT
BEGIN:VEVENT
DTSTART;TZID=America/New_York:20241021T120000
DTEND;TZID=America/New_York:20241021T125000
DTSTAMP:20260423T214816
CREATED:20241004T173842Z
LAST-MODIFIED:20241004T173946Z
UID:10000597-1729512000-1729515000@www.med.unc.edu
SUMMARY:Spark Series on Faculty Research with Seth Berkowitz
DESCRIPTION:October 21 @ 12:00 pm – 12:50 pm\n\n\n\nDr. Seth Berkowitz will discuss his new book\, Equal Care: Health Equity\, Social Democracy\, and the Egalitarian State.\nA general internist and primary care doctor\, Dr. Berkowitz will present on how social conditions and mechanisms link injustice to poor health. He’ll share what policies may be effective at achieving better systems to improve health for all. After the talk\, attendees will dive deeper into the topic in smaller groups and have a chance to learn about one another’s work and practices.\nAbout the Spark Series\nThe new Spark Series on Faculty Research is meant to ignite new ideas and connections for faculty health researchers. Sessions will feature guest presenters and networking opportunities.\nThe series is a chance for faculty researchers advancing equity through their work to hear and learn from one another. Topics will include health equity research concepts\, methodology\, principles\, impacts and more. The series goal is to generate new thinking and innovation in the practice of research.
URL:https://www.med.unc.edu/socialmed/event/spark-series-on-faculty-research-with-seth-berkowitz/
ATTACH;FMTTYPE=image/jpeg:https://www.med.unc.edu/socialmed/wp-content/uploads/sites/462/2024/10/Berkowitz-Seth2.jpg
LOCATION:https://www.med.unc.edu/cher/event/lunch-learn-faculty-research-webinar/
END:VEVENT
END:VCALENDAR