BEGIN:VCALENDAR
VERSION:2.0
PRODID:-//Department of Social Medicine - ECPv6.15.18//NONSGML v1.0//EN
CALSCALE:GREGORIAN
METHOD:PUBLISH
X-ORIGINAL-URL:https://www.med.unc.edu/socialmed
X-WR-CALDESC:Events for Department of Social Medicine
REFRESH-INTERVAL;VALUE=DURATION:PT1H
X-Robots-Tag:noindex
X-PUBLISHED-TTL:PT1H
BEGIN:VTIMEZONE
TZID:America/New_York
BEGIN:DAYLIGHT
TZOFFSETFROM:-0500
TZOFFSETTO:-0400
TZNAME:EDT
DTSTART:20220313T070000
END:DAYLIGHT
BEGIN:STANDARD
TZOFFSETFROM:-0400
TZOFFSETTO:-0500
TZNAME:EST
DTSTART:20221106T060000
END:STANDARD
BEGIN:DAYLIGHT
TZOFFSETFROM:-0500
TZOFFSETTO:-0400
TZNAME:EDT
DTSTART:20230312T070000
END:DAYLIGHT
BEGIN:STANDARD
TZOFFSETFROM:-0400
TZOFFSETTO:-0500
TZNAME:EST
DTSTART:20231105T060000
END:STANDARD
BEGIN:DAYLIGHT
TZOFFSETFROM:-0500
TZOFFSETTO:-0400
TZNAME:EDT
DTSTART:20240310T070000
END:DAYLIGHT
BEGIN:STANDARD
TZOFFSETFROM:-0400
TZOFFSETTO:-0500
TZNAME:EST
DTSTART:20241103T060000
END:STANDARD
BEGIN:DAYLIGHT
TZOFFSETFROM:-0500
TZOFFSETTO:-0400
TZNAME:EDT
DTSTART:20250309T070000
END:DAYLIGHT
BEGIN:STANDARD
TZOFFSETFROM:-0400
TZOFFSETTO:-0500
TZNAME:EST
DTSTART:20251102T060000
END:STANDARD
BEGIN:DAYLIGHT
TZOFFSETFROM:-0500
TZOFFSETTO:-0400
TZNAME:EDT
DTSTART:20260308T070000
END:DAYLIGHT
BEGIN:STANDARD
TZOFFSETFROM:-0400
TZOFFSETTO:-0500
TZNAME:EST
DTSTART:20261101T060000
END:STANDARD
END:VTIMEZONE
BEGIN:VEVENT
DTSTART;TZID=America/New_York:20250924T120000
DTEND;TZID=America/New_York:20250924T130000
DTSTAMP:20260425T041322
CREATED:20250708T183825Z
LAST-MODIFIED:20250708T183859Z
UID:10000612-1758715200-1758718800@www.med.unc.edu
SUMMARY:Ethics Grand Rounds: Hugh M. Lee\, J.D.
DESCRIPTION:Save the Date\n\nClinical Ethics Grand Rounds\n\nWednesday\, September 24\, 2025\n12:00 – 1:00 pm ET\nLocation: 4008 Old Clinic Auditoriu\n\n\nHugh M. Lee\, J.D\n\n\nTeaching Professor\nCo-Director of Accreditation & Continuous\nQuality Improvement\nDept. of Bioethics & Interdisciplinary Studies\nBrody School of Medicine\nEast Carolina University \nIn January 2015\, Hugh M. Lee joined the Department of Bioethics and Interdisciplinary Studies. His research focuses on health policy and the ethics of substituted decision-making in the medical context.  Prof. Lee holds a Bachelor of Arts degree from Davidson College and a Juris Doctor from the Florida State University College of Law. Before joining the Department\, Prof. Lee taught for 19 years at the University of Alabama School of Law. \nProf. Lee has published extensively on legal issues\, such as election law\, HUD housing programs\, Medicare\, Social Security\, Medicaid\, Guardianship\, and health policy\, and has presented both regionally and nationally on these issues. \n  \n  \nDisclaimer: The views expressed herein are those of the presenter\, they do not necessarily reflect the views of the contracted organization\, department\, School of Medicine\, nor the University of North Carolina at Chapel Hill.
URL:https://www.med.unc.edu/socialmed/event/5240/
LOCATION:4008 Old Clinic Auditorium
ATTACH;FMTTYPE=image/png:https://www.med.unc.edu/socialmed/wp-content/uploads/sites/462/2025/07/Screenshot-2025-07-08-143534.png
END:VEVENT
BEGIN:VEVENT
DTSTART;TZID=America/New_York:20250918T080000
DTEND;TZID=America/New_York:20250918T090000
DTSTAMP:20260425T041322
CREATED:20250708T183333Z
LAST-MODIFIED:20250708T184050Z
UID:10000611-1758182400-1758186000@www.med.unc.edu
SUMMARY:Annual Pediatric Visiting Ethics Scholar: Kelly N. Michelson\, MD\, MPH
DESCRIPTION:Save the Date\n\nClinical Ethics Grand Rounds\n\nThursday\, September 18\, 2025\n8:00 – 9:00 AM ET\nLocation: 4008 Old Clinic Auditorium\n\n\nKelly N. Michelson\, MD\, MPH\n\n\nDirector\, Institute for Public Health and Medicine (IPHAM) – Center for Bioethics and Medical Humanities\nJulia and David Uihlein Professor of Bioethics and Medical Humanities\nProfessor\, Pediatrics (Critical Care) \n  \nKelly Michelson\, MD\, MPH is Professor of Pediatrics\, Julia and David Uihlein Professor of Bioethics and Medical Humanities\, Director of the Center for Bioethics and Medical Humanities\, and Chief Ethics Officer of the Institute for Artificial Intelligence and Medicine at Northwestern University Feinberg School of Medicine. She is an attending physician at Ann & Robert H. Lurie Children’s Hospital of Chicago in the division of pediatric critical care medicine. \n  \nCo-hosted with the Department of Pediatrics \nDisclaimer: The views expressed herein are those of the presenter\, they do not necessarily reflect the views of the contracted organization\, department\, School of Medicine\, nor the University of North Carolina at Chapel Hill.
URL:https://www.med.unc.edu/socialmed/event/annual-pediatric-visiting-ethics-scholar/
LOCATION:4008 Old Clinic Auditorium
ATTACH;FMTTYPE=image/png:https://www.med.unc.edu/socialmed/wp-content/uploads/sites/462/2025/06/Kelly-Michelson-MD.png
END:VEVENT
BEGIN:VEVENT
DTSTART;TZID=America/New_York:20231026T120000
DTEND;TZID=America/New_York:20231026T133000
DTSTAMP:20260425T041322
CREATED:20230922T133604Z
LAST-MODIFIED:20230922T133604Z
UID:10000589-1698321600-1698327000@www.med.unc.edu
SUMMARY:Merrimon Lecture: Integrating Artificial Intelligence Into Health Care: Ethical and Legal Challenges
DESCRIPTION:I. Glenn Cohen \nDeputy Dean and James A. Attwood and Leslie Williams Professor of Law\, Harvard Law School\nFaculty Director\, Petrie-Flom Center for Health Law Policy\, Biotechnology & Bioethics \nMerrimon Lecture \n 
URL:https://www.med.unc.edu/socialmed/event/merrimon-lecture-integrating-artificial-intelligence-into-health-care-ethical-and-legal-challenges/
LOCATION:4008 Old Clinic Auditorium
ORGANIZER;CN="Brandy Elsenrath":MAILTO:brandyelsenrath@unc.edu
END:VEVENT
END:VCALENDAR