BEGIN:VCALENDAR
VERSION:2.0
PRODID:-//Sponsored Programs Office - ECPv6.15.18//NONSGML v1.0//EN
CALSCALE:GREGORIAN
METHOD:PUBLISH
X-ORIGINAL-URL:https://www.med.unc.edu/spo
X-WR-CALDESC:Events for Sponsored Programs Office
REFRESH-INTERVAL;VALUE=DURATION:PT1H
X-Robots-Tag:noindex
X-PUBLISHED-TTL:PT1H
BEGIN:VTIMEZONE
TZID:America/New_York
BEGIN:DAYLIGHT
TZOFFSETFROM:-0500
TZOFFSETTO:-0400
TZNAME:EDT
DTSTART:20270314T070000
END:DAYLIGHT
BEGIN:STANDARD
TZOFFSETFROM:-0400
TZOFFSETTO:-0500
TZNAME:EST
DTSTART:20271107T060000
END:STANDARD
BEGIN:DAYLIGHT
TZOFFSETFROM:-0500
TZOFFSETTO:-0400
TZNAME:EDT
DTSTART:20280312T070000
END:DAYLIGHT
BEGIN:STANDARD
TZOFFSETFROM:-0400
TZOFFSETTO:-0500
TZNAME:EST
DTSTART:20281105T060000
END:STANDARD
BEGIN:DAYLIGHT
TZOFFSETFROM:-0500
TZOFFSETTO:-0400
TZNAME:EDT
DTSTART:20290311T070000
END:DAYLIGHT
BEGIN:STANDARD
TZOFFSETFROM:-0400
TZOFFSETTO:-0500
TZNAME:EST
DTSTART:20291104T060000
END:STANDARD
END:VTIMEZONE
BEGIN:VEVENT
DTSTART;TZID=America/New_York:20280125T170000
DTEND;TZID=America/New_York:20280125T170000
DTSTAMP:20260420T003212
CREATED:20230320T204506Z
LAST-MODIFIED:20250121T210448Z
UID:10000401-1832432400-1832432400@www.med.unc.edu
SUMMARY:Research Demonstration Education Projects
DESCRIPTION:Research Demonstration Education Projects\nR18\, U18\, R25\nAll – New\, Renewal\, Resubmission\, Revision
URL:https://www.med.unc.edu/spo/event/research-demonstration-education-projects/2028-01-25/
LOCATION:Research Demonstration Education Projects
CATEGORIES:NIH
END:VEVENT
BEGIN:VEVENT
DTSTART;TZID=America/New_York:20280125T170000
DTEND;TZID=America/New_York:20280125T170000
DTSTAMP:20260420T003212
CREATED:20230320T205456Z
LAST-MODIFIED:20250121T204628Z
UID:10000355-1832432400-1832432400@www.med.unc.edu
SUMMARY:Institutional National Research Service Awards Other Training Grants
DESCRIPTION:Institutional National Research Service Awards\nOther Training Grants\nT Series\nD Series\nAll – New\, Renewal\, Resubmission\, Revision\nNOTE: Applicants should check with the relevant Institute or Center (IC)\, since some do not accept T series applications for all three receipt/review/award cycles. Applicants should refer to the IC Table of Contacts for information for each IC’s scientific/research contact for the NRSA T32 program.
URL:https://www.med.unc.edu/spo/event/institutional-national-research-service-awards-other-training-grants/2028-01-25/
LOCATION:Institutional National Research    Service Awards Other Training Grants
CATEGORIES:NIH
END:VEVENT
BEGIN:VEVENT
DTSTART;TZID=America/New_York:20280125T170000
DTEND;TZID=America/New_York:20280125T170000
DTSTAMP:20260420T003212
CREATED:20230321T131056Z
LAST-MODIFIED:20250121T204500Z
UID:10000347-1832432400-1832432400@www.med.unc.edu
SUMMARY:Construction Grants
DESCRIPTION:Construction Grants\nC06/UC6\nAll – New\, Renewal\, Resubmission\, Revision
URL:https://www.med.unc.edu/spo/event/construction-grants/2028-01-25/
LOCATION:Construction Grants
CATEGORIES:NIH
END:VEVENT
BEGIN:VEVENT
DTSTART;TZID=America/New_York:20280125T170000
DTEND;TZID=America/New_York:20280125T170000
DTSTAMP:20260420T003212
CREATED:20230321T131507Z
LAST-MODIFIED:20250121T210410Z
UID:10000397-1832432400-1832432400@www.med.unc.edu
SUMMARY:Other Activity Codes
DESCRIPTION:Other Activity Codes\nG07\, G08\, G11\, G12\, G13\, G20\, R24\, S06\, S11\, S21\, S22\, SC1\, SC2\, SC3\, UG1\, U10\, U19\, U24\, U2C\, U41\, U42\, U45\, U54\, U56\nAll – New\, Renewal\, Resubmission\, Revision
URL:https://www.med.unc.edu/spo/event/other-activity-codes/2028-01-25/
LOCATION:Other Activity Codes
CATEGORIES:NIH
END:VEVENT
BEGIN:VEVENT
DTSTART;TZID=America/New_York:20280125T170000
DTEND;TZID=America/New_York:20280125T170000
DTSTAMP:20260420T003212
CREATED:20250121T150044Z
LAST-MODIFIED:20250121T150044Z
UID:10000287-1832432400-1832432400@www.med.unc.edu
SUMMARY:Program Project Grants and Center Grants
DESCRIPTION:Program Project Grants and Center Grants\nP Series\nAll – New\, Renewal\, Resubmission\, Revisions\nNOTE: Applicants should check with the relevant Institute or Center (IC)\, since some do not accept P series applications for all three receipt/review/award cycles. \n 
URL:https://www.med.unc.edu/spo/event/program-project-grants-and-center-grants/2028-01-25/
LOCATION:Program Project Grants and Center Grants
CATEGORIES:NIH
END:VEVENT
END:VCALENDAR