BEGIN:VCALENDAR
VERSION:2.0
PRODID:-//Sponsored Programs Office - ECPv6.15.18//NONSGML v1.0//EN
CALSCALE:GREGORIAN
METHOD:PUBLISH
X-ORIGINAL-URL:https://www.med.unc.edu/spo
X-WR-CALDESC:Events for Sponsored Programs Office
REFRESH-INTERVAL;VALUE=DURATION:PT1H
X-Robots-Tag:noindex
X-PUBLISHED-TTL:PT1H
BEGIN:VTIMEZONE
TZID:America/New_York
BEGIN:DAYLIGHT
TZOFFSETFROM:-0500
TZOFFSETTO:-0400
TZNAME:EDT
DTSTART:20270314T070000
END:DAYLIGHT
BEGIN:STANDARD
TZOFFSETFROM:-0400
TZOFFSETTO:-0500
TZNAME:EST
DTSTART:20271107T060000
END:STANDARD
BEGIN:DAYLIGHT
TZOFFSETFROM:-0500
TZOFFSETTO:-0400
TZNAME:EDT
DTSTART:20280312T070000
END:DAYLIGHT
BEGIN:STANDARD
TZOFFSETFROM:-0400
TZOFFSETTO:-0500
TZNAME:EST
DTSTART:20281105T060000
END:STANDARD
BEGIN:DAYLIGHT
TZOFFSETFROM:-0500
TZOFFSETTO:-0400
TZNAME:EDT
DTSTART:20290311T070000
END:DAYLIGHT
BEGIN:STANDARD
TZOFFSETFROM:-0400
TZOFFSETTO:-0500
TZNAME:EST
DTSTART:20291104T060000
END:STANDARD
END:VTIMEZONE
BEGIN:VEVENT
DTSTART;TZID=America/New_York:20280205T170000
DTEND;TZID=America/New_York:20280205T170000
DTSTAMP:20260420T062852
CREATED:20250121T155728Z
LAST-MODIFIED:20250121T210234Z
UID:10000389-1833382800-1833382800@www.med.unc.edu
SUMMARY:Research Grants
DESCRIPTION:Research Grants\nR01\nNew
URL:https://www.med.unc.edu/spo/event/research-grants-3/2028-02-05/
LOCATION:Research Grants
CATEGORIES:NIH
END:VEVENT
BEGIN:VEVENT
DTSTART;TZID=America/New_York:20280205T170000
DTEND;TZID=America/New_York:20280205T170000
DTSTAMP:20260420T062852
CREATED:20250121T160240Z
LAST-MODIFIED:20250121T210305Z
UID:10000393-1833382800-1833382800@www.med.unc.edu
SUMMARY:Research Grants - Cooperative Agreements
DESCRIPTION:Research Grants – Cooperative Agreements\nU01\nNew
URL:https://www.med.unc.edu/spo/event/research-grants-cooperative-agreements-2/2028-02-05/
LOCATION:Research Grants – Cooperative Agreements
CATEGORIES:NIH
END:VEVENT
BEGIN:VEVENT
DTSTART;TZID=America/New_York:20280212T170000
DTEND;TZID=America/New_York:20280212T170000
DTSTAMP:20260420T062852
CREATED:20230622T185228Z
LAST-MODIFIED:20250121T210156Z
UID:10000385-1833987600-1833987600@www.med.unc.edu
SUMMARY:Research Career Development
DESCRIPTION:Research Career Development\nK series\nNew
URL:https://www.med.unc.edu/spo/event/research-career-development-2/2028-02-12/
LOCATION:Research Career Development Awards
CATEGORIES:NIH
END:VEVENT
BEGIN:VEVENT
DTSTART;TZID=America/New_York:20280216T170000
DTEND;TZID=America/New_York:20280216T170000
DTSTAMP:20260420T062852
CREATED:20230321T142534Z
LAST-MODIFIED:20250121T210036Z
UID:10000381-1834333200-1834333200@www.med.unc.edu
SUMMARY:Other Research Grants and Cooperative Agreements
DESCRIPTION:Other Research Grants and Cooperative Agreements\nR03\, R21\, R33\, R21/R33\, R34\, R36\, U34\, UH2\, UH3\, UH2/UH3\nNew
URL:https://www.med.unc.edu/spo/event/other-research-grants-and-cooperative-agreements-2/2028-02-16/
LOCATION:Other Research Grants and Cooperative Agreements
CATEGORIES:NIH
END:VEVENT
BEGIN:VEVENT
DTSTART;TZID=America/New_York:20280225T170000
DTEND;TZID=America/New_York:20280225T170000
DTSTAMP:20260420T062852
CREATED:20170906T013716Z
LAST-MODIFIED:20250121T195712Z
UID:10000328-1835110800-1835110800@www.med.unc.edu
SUMMARY:Academic Research Enhancement Award (AREA)
DESCRIPTION:R15\nAll – new\, renewal\, resubmission\, revision
URL:https://www.med.unc.edu/spo/event/r15-all-new-renewal-resubmission-revision/2028-02-25/
CATEGORIES:NIH
END:VEVENT
END:VCALENDAR