BEGIN:VCALENDAR
VERSION:2.0
PRODID:-//Sponsored Programs Office - ECPv6.15.18//NONSGML v1.0//EN
CALSCALE:GREGORIAN
METHOD:PUBLISH
X-ORIGINAL-URL:https://www.med.unc.edu/spo
X-WR-CALDESC:Events for Sponsored Programs Office
REFRESH-INTERVAL;VALUE=DURATION:PT1H
X-Robots-Tag:noindex
X-PUBLISHED-TTL:PT1H
BEGIN:VTIMEZONE
TZID:America/New_York
BEGIN:DAYLIGHT
TZOFFSETFROM:-0500
TZOFFSETTO:-0400
TZNAME:EDT
DTSTART:20230312T070000
END:DAYLIGHT
BEGIN:STANDARD
TZOFFSETFROM:-0400
TZOFFSETTO:-0500
TZNAME:EST
DTSTART:20231105T060000
END:STANDARD
BEGIN:DAYLIGHT
TZOFFSETFROM:-0500
TZOFFSETTO:-0400
TZNAME:EDT
DTSTART:20240310T070000
END:DAYLIGHT
BEGIN:STANDARD
TZOFFSETFROM:-0400
TZOFFSETTO:-0500
TZNAME:EST
DTSTART:20241103T060000
END:STANDARD
BEGIN:DAYLIGHT
TZOFFSETFROM:-0500
TZOFFSETTO:-0400
TZNAME:EDT
DTSTART:20250309T070000
END:DAYLIGHT
BEGIN:STANDARD
TZOFFSETFROM:-0400
TZOFFSETTO:-0500
TZNAME:EST
DTSTART:20251102T060000
END:STANDARD
END:VTIMEZONE
BEGIN:VEVENT
DTSTART;VALUE=DATE:20240601
DTEND;VALUE=DATE:20240602
DTSTAMP:20260421T205829
CREATED:20230308T170446Z
LAST-MODIFIED:20230310T211743Z
UID:10000096-1717200000-1717286399@www.med.unc.edu
SUMMARY:RPPR's
DESCRIPTION:RPPR’s (Research Performance Progress Reports)\nAs a general rule RPPR’s are commonly due on the 1st and the 15th of the month. \nIt is up to the PD/PI and the Department to determine the exact date the RPPR is due using information from eRA Commons.
URL:https://www.med.unc.edu/spo/event/rpprs-2/
LOCATION:NIH and Other PHS Agency Research Performance Progress Report (RPPR) Instructional Guide
END:VEVENT
BEGIN:VEVENT
DTSTART;TZID=America/New_York:20240605T170000
DTEND;TZID=America/New_York:20240605T170000
DTSTAMP:20260421T205829
CREATED:20230321T133304Z
LAST-MODIFIED:20230321T135614Z
UID:10000226-1717606800-1717606800@www.med.unc.edu
SUMMARY:Research Grants
DESCRIPTION:Research Grants\nR01\nNew
URL:https://www.med.unc.edu/spo/event/research-grants/2024-06-05/
LOCATION:Research Grants
CATEGORIES:NIH
END:VEVENT
BEGIN:VEVENT
DTSTART;VALUE=DATE:20240615
DTEND;VALUE=DATE:20240616
DTSTAMP:20260421T205829
CREATED:20230307T175409Z
LAST-MODIFIED:20230310T212351Z
UID:10000062-1718409600-1718495999@www.med.unc.edu
SUMMARY:RPPR's
DESCRIPTION:RPPR’s (Research Performance Progress Reports)\nAs a general rule RPPR’s are commonly due on the 1st and the 15th of the month. \nIt is up to the PD/PI and the Department to determine the exact date the RPPR is due using information from eRA Commons.
URL:https://www.med.unc.edu/spo/event/rpprs/2024-06-15/
LOCATION:NIH and Other PHS Agency Research Performance Progress Report (RPPR) Instructional Guide
CATEGORIES:NIH
END:VEVENT
END:VCALENDAR