BEGIN:VCALENDAR
VERSION:2.0
PRODID:-//Sponsored Programs Office - ECPv6.15.18//NONSGML v1.0//EN
CALSCALE:GREGORIAN
METHOD:PUBLISH
X-ORIGINAL-URL:https://www.med.unc.edu/spo
X-WR-CALDESC:Events for Sponsored Programs Office
REFRESH-INTERVAL;VALUE=DURATION:PT1H
X-Robots-Tag:noindex
X-PUBLISHED-TTL:PT1H
BEGIN:VTIMEZONE
TZID:America/New_York
BEGIN:DAYLIGHT
TZOFFSETFROM:-0500
TZOFFSETTO:-0400
TZNAME:EDT
DTSTART:20220313T070000
END:DAYLIGHT
BEGIN:STANDARD
TZOFFSETFROM:-0400
TZOFFSETTO:-0500
TZNAME:EST
DTSTART:20221106T060000
END:STANDARD
BEGIN:DAYLIGHT
TZOFFSETFROM:-0500
TZOFFSETTO:-0400
TZNAME:EDT
DTSTART:20230312T070000
END:DAYLIGHT
BEGIN:STANDARD
TZOFFSETFROM:-0400
TZOFFSETTO:-0500
TZNAME:EST
DTSTART:20231105T060000
END:STANDARD
BEGIN:DAYLIGHT
TZOFFSETFROM:-0500
TZOFFSETTO:-0400
TZNAME:EDT
DTSTART:20240310T070000
END:DAYLIGHT
BEGIN:STANDARD
TZOFFSETFROM:-0400
TZOFFSETTO:-0500
TZNAME:EST
DTSTART:20241103T060000
END:STANDARD
BEGIN:DAYLIGHT
TZOFFSETFROM:-0500
TZOFFSETTO:-0400
TZNAME:EDT
DTSTART:20250309T070000
END:DAYLIGHT
BEGIN:STANDARD
TZOFFSETFROM:-0400
TZOFFSETTO:-0500
TZNAME:EST
DTSTART:20251102T060000
END:STANDARD
END:VTIMEZONE
BEGIN:VEVENT
DTSTART;VALUE=DATE:20240515
DTEND;VALUE=DATE:20240516
DTSTAMP:20260420T122437
CREATED:20230307T175409Z
LAST-MODIFIED:20230310T212351Z
UID:10000061-1715731200-1715817599@www.med.unc.edu
SUMMARY:RPPR's
DESCRIPTION:RPPR’s (Research Performance Progress Reports)\nAs a general rule RPPR’s are commonly due on the 1st and the 15th of the month. \nIt is up to the PD/PI and the Department to determine the exact date the RPPR is due using information from eRA Commons.
URL:https://www.med.unc.edu/spo/event/rpprs/2024-05-15/
LOCATION:NIH and Other PHS Agency Research Performance Progress Report (RPPR) Instructional Guide
CATEGORIES:NIH
END:VEVENT
BEGIN:VEVENT
DTSTART;VALUE=DATE:20240501
DTEND;VALUE=DATE:20240502
DTSTAMP:20260420T122437
CREATED:20230308T170446Z
LAST-MODIFIED:20230310T211743Z
UID:10000095-1714521600-1714607999@www.med.unc.edu
SUMMARY:RPPR's
DESCRIPTION:RPPR’s (Research Performance Progress Reports)\nAs a general rule RPPR’s are commonly due on the 1st and the 15th of the month. \nIt is up to the PD/PI and the Department to determine the exact date the RPPR is due using information from eRA Commons.
URL:https://www.med.unc.edu/spo/event/rpprs-2/
LOCATION:NIH and Other PHS Agency Research Performance Progress Report (RPPR) Instructional Guide
END:VEVENT
BEGIN:VEVENT
DTSTART;VALUE=DATE:20240415
DTEND;VALUE=DATE:20240416
DTSTAMP:20260420T122437
CREATED:20230307T175409Z
LAST-MODIFIED:20230310T212351Z
UID:10000060-1713139200-1713225599@www.med.unc.edu
SUMMARY:RPPR's
DESCRIPTION:RPPR’s (Research Performance Progress Reports)\nAs a general rule RPPR’s are commonly due on the 1st and the 15th of the month. \nIt is up to the PD/PI and the Department to determine the exact date the RPPR is due using information from eRA Commons.
URL:https://www.med.unc.edu/spo/event/rpprs/2024-04-15/
LOCATION:NIH and Other PHS Agency Research Performance Progress Report (RPPR) Instructional Guide
CATEGORIES:NIH
END:VEVENT
BEGIN:VEVENT
DTSTART;VALUE=DATE:20240401
DTEND;VALUE=DATE:20240402
DTSTAMP:20260420T122437
CREATED:20230308T170446Z
LAST-MODIFIED:20230310T211743Z
UID:10000094-1711929600-1712015999@www.med.unc.edu
SUMMARY:RPPR's
DESCRIPTION:RPPR’s (Research Performance Progress Reports)\nAs a general rule RPPR’s are commonly due on the 1st and the 15th of the month. \nIt is up to the PD/PI and the Department to determine the exact date the RPPR is due using information from eRA Commons.
URL:https://www.med.unc.edu/spo/event/rpprs-2/
LOCATION:NIH and Other PHS Agency Research Performance Progress Report (RPPR) Instructional Guide
END:VEVENT
BEGIN:VEVENT
DTSTART;VALUE=DATE:20240315
DTEND;VALUE=DATE:20240316
DTSTAMP:20260420T122437
CREATED:20230307T175409Z
LAST-MODIFIED:20230310T212351Z
UID:10000059-1710460800-1710547199@www.med.unc.edu
SUMMARY:RPPR's
DESCRIPTION:RPPR’s (Research Performance Progress Reports)\nAs a general rule RPPR’s are commonly due on the 1st and the 15th of the month. \nIt is up to the PD/PI and the Department to determine the exact date the RPPR is due using information from eRA Commons.
URL:https://www.med.unc.edu/spo/event/rpprs/2024-03-15/
LOCATION:NIH and Other PHS Agency Research Performance Progress Report (RPPR) Instructional Guide
CATEGORIES:NIH
END:VEVENT
BEGIN:VEVENT
DTSTART;VALUE=DATE:20240301
DTEND;VALUE=DATE:20240302
DTSTAMP:20260420T122437
CREATED:20230308T170446Z
LAST-MODIFIED:20230310T211743Z
UID:10000093-1709251200-1709337599@www.med.unc.edu
SUMMARY:RPPR's
DESCRIPTION:RPPR’s (Research Performance Progress Reports)\nAs a general rule RPPR’s are commonly due on the 1st and the 15th of the month. \nIt is up to the PD/PI and the Department to determine the exact date the RPPR is due using information from eRA Commons.
URL:https://www.med.unc.edu/spo/event/rpprs-2/
LOCATION:NIH and Other PHS Agency Research Performance Progress Report (RPPR) Instructional Guide
END:VEVENT
BEGIN:VEVENT
DTSTART;VALUE=DATE:20240215
DTEND;VALUE=DATE:20240216
DTSTAMP:20260420T122437
CREATED:20230307T175409Z
LAST-MODIFIED:20230310T212351Z
UID:10000058-1707955200-1708041599@www.med.unc.edu
SUMMARY:RPPR's
DESCRIPTION:RPPR’s (Research Performance Progress Reports)\nAs a general rule RPPR’s are commonly due on the 1st and the 15th of the month. \nIt is up to the PD/PI and the Department to determine the exact date the RPPR is due using information from eRA Commons.
URL:https://www.med.unc.edu/spo/event/rpprs/2024-02-15/
LOCATION:NIH and Other PHS Agency Research Performance Progress Report (RPPR) Instructional Guide
CATEGORIES:NIH
END:VEVENT
BEGIN:VEVENT
DTSTART;VALUE=DATE:20240201
DTEND;VALUE=DATE:20240202
DTSTAMP:20260420T122437
CREATED:20230308T170446Z
LAST-MODIFIED:20230310T211743Z
UID:10000092-1706745600-1706831999@www.med.unc.edu
SUMMARY:RPPR's
DESCRIPTION:RPPR’s (Research Performance Progress Reports)\nAs a general rule RPPR’s are commonly due on the 1st and the 15th of the month. \nIt is up to the PD/PI and the Department to determine the exact date the RPPR is due using information from eRA Commons.
URL:https://www.med.unc.edu/spo/event/rpprs-2/
LOCATION:NIH and Other PHS Agency Research Performance Progress Report (RPPR) Instructional Guide
END:VEVENT
BEGIN:VEVENT
DTSTART;VALUE=DATE:20240115
DTEND;VALUE=DATE:20240116
DTSTAMP:20260420T122437
CREATED:20230307T175409Z
LAST-MODIFIED:20230310T212351Z
UID:10000057-1705276800-1705363199@www.med.unc.edu
SUMMARY:RPPR's
DESCRIPTION:RPPR’s (Research Performance Progress Reports)\nAs a general rule RPPR’s are commonly due on the 1st and the 15th of the month. \nIt is up to the PD/PI and the Department to determine the exact date the RPPR is due using information from eRA Commons.
URL:https://www.med.unc.edu/spo/event/rpprs/2024-01-15/
LOCATION:NIH and Other PHS Agency Research Performance Progress Report (RPPR) Instructional Guide
CATEGORIES:NIH
END:VEVENT
BEGIN:VEVENT
DTSTART;VALUE=DATE:20240101
DTEND;VALUE=DATE:20240102
DTSTAMP:20260420T122437
CREATED:20230308T170446Z
LAST-MODIFIED:20230310T211743Z
UID:10000091-1704067200-1704153599@www.med.unc.edu
SUMMARY:RPPR's
DESCRIPTION:RPPR’s (Research Performance Progress Reports)\nAs a general rule RPPR’s are commonly due on the 1st and the 15th of the month. \nIt is up to the PD/PI and the Department to determine the exact date the RPPR is due using information from eRA Commons.
URL:https://www.med.unc.edu/spo/event/rpprs-2/
LOCATION:NIH and Other PHS Agency Research Performance Progress Report (RPPR) Instructional Guide
END:VEVENT
BEGIN:VEVENT
DTSTART;VALUE=DATE:20231215
DTEND;VALUE=DATE:20231216
DTSTAMP:20260420T122437
CREATED:20230307T175409Z
LAST-MODIFIED:20230310T212351Z
UID:10000056-1702598400-1702684799@www.med.unc.edu
SUMMARY:RPPR's
DESCRIPTION:RPPR’s (Research Performance Progress Reports)\nAs a general rule RPPR’s are commonly due on the 1st and the 15th of the month. \nIt is up to the PD/PI and the Department to determine the exact date the RPPR is due using information from eRA Commons.
URL:https://www.med.unc.edu/spo/event/rpprs/2023-12-15/
LOCATION:NIH and Other PHS Agency Research Performance Progress Report (RPPR) Instructional Guide
CATEGORIES:NIH
END:VEVENT
BEGIN:VEVENT
DTSTART;VALUE=DATE:20231201
DTEND;VALUE=DATE:20231202
DTSTAMP:20260420T122437
CREATED:20230308T170446Z
LAST-MODIFIED:20230310T211743Z
UID:10000090-1701388800-1701475199@www.med.unc.edu
SUMMARY:RPPR's
DESCRIPTION:RPPR’s (Research Performance Progress Reports)\nAs a general rule RPPR’s are commonly due on the 1st and the 15th of the month. \nIt is up to the PD/PI and the Department to determine the exact date the RPPR is due using information from eRA Commons.
URL:https://www.med.unc.edu/spo/event/rpprs-2/
LOCATION:NIH and Other PHS Agency Research Performance Progress Report (RPPR) Instructional Guide
END:VEVENT
BEGIN:VEVENT
DTSTART;VALUE=DATE:20231115
DTEND;VALUE=DATE:20231116
DTSTAMP:20260420T122437
CREATED:20230307T175409Z
LAST-MODIFIED:20230310T212351Z
UID:10000055-1700006400-1700092799@www.med.unc.edu
SUMMARY:RPPR's
DESCRIPTION:RPPR’s (Research Performance Progress Reports)\nAs a general rule RPPR’s are commonly due on the 1st and the 15th of the month. \nIt is up to the PD/PI and the Department to determine the exact date the RPPR is due using information from eRA Commons.
URL:https://www.med.unc.edu/spo/event/rpprs/2023-11-15/
LOCATION:NIH and Other PHS Agency Research Performance Progress Report (RPPR) Instructional Guide
CATEGORIES:NIH
END:VEVENT
BEGIN:VEVENT
DTSTART;VALUE=DATE:20231101
DTEND;VALUE=DATE:20231102
DTSTAMP:20260420T122437
CREATED:20230308T170446Z
LAST-MODIFIED:20230310T211743Z
UID:10000089-1698796800-1698883199@www.med.unc.edu
SUMMARY:RPPR's
DESCRIPTION:RPPR’s (Research Performance Progress Reports)\nAs a general rule RPPR’s are commonly due on the 1st and the 15th of the month. \nIt is up to the PD/PI and the Department to determine the exact date the RPPR is due using information from eRA Commons.
URL:https://www.med.unc.edu/spo/event/rpprs-2/
LOCATION:NIH and Other PHS Agency Research Performance Progress Report (RPPR) Instructional Guide
END:VEVENT
BEGIN:VEVENT
DTSTART;VALUE=DATE:20231015
DTEND;VALUE=DATE:20231016
DTSTAMP:20260420T122437
CREATED:20230307T175409Z
LAST-MODIFIED:20230310T212351Z
UID:10000054-1697328000-1697414399@www.med.unc.edu
SUMMARY:RPPR's
DESCRIPTION:RPPR’s (Research Performance Progress Reports)\nAs a general rule RPPR’s are commonly due on the 1st and the 15th of the month. \nIt is up to the PD/PI and the Department to determine the exact date the RPPR is due using information from eRA Commons.
URL:https://www.med.unc.edu/spo/event/rpprs/2023-10-15/
LOCATION:NIH and Other PHS Agency Research Performance Progress Report (RPPR) Instructional Guide
CATEGORIES:NIH
END:VEVENT
BEGIN:VEVENT
DTSTART;VALUE=DATE:20231001
DTEND;VALUE=DATE:20231002
DTSTAMP:20260420T122437
CREATED:20230308T170446Z
LAST-MODIFIED:20230310T211743Z
UID:10000088-1696118400-1696204799@www.med.unc.edu
SUMMARY:RPPR's
DESCRIPTION:RPPR’s (Research Performance Progress Reports)\nAs a general rule RPPR’s are commonly due on the 1st and the 15th of the month. \nIt is up to the PD/PI and the Department to determine the exact date the RPPR is due using information from eRA Commons.
URL:https://www.med.unc.edu/spo/event/rpprs-2/
LOCATION:NIH and Other PHS Agency Research Performance Progress Report (RPPR) Instructional Guide
END:VEVENT
BEGIN:VEVENT
DTSTART;VALUE=DATE:20230915
DTEND;VALUE=DATE:20230916
DTSTAMP:20260420T122437
CREATED:20230307T175409Z
LAST-MODIFIED:20230310T212351Z
UID:10000053-1694736000-1694822399@www.med.unc.edu
SUMMARY:RPPR's
DESCRIPTION:RPPR’s (Research Performance Progress Reports)\nAs a general rule RPPR’s are commonly due on the 1st and the 15th of the month. \nIt is up to the PD/PI and the Department to determine the exact date the RPPR is due using information from eRA Commons.
URL:https://www.med.unc.edu/spo/event/rpprs/2023-09-15/
LOCATION:NIH and Other PHS Agency Research Performance Progress Report (RPPR) Instructional Guide
CATEGORIES:NIH
END:VEVENT
BEGIN:VEVENT
DTSTART;VALUE=DATE:20230901
DTEND;VALUE=DATE:20230902
DTSTAMP:20260420T122437
CREATED:20230308T170446Z
LAST-MODIFIED:20230310T211743Z
UID:10000087-1693526400-1693612799@www.med.unc.edu
SUMMARY:RPPR's
DESCRIPTION:RPPR’s (Research Performance Progress Reports)\nAs a general rule RPPR’s are commonly due on the 1st and the 15th of the month. \nIt is up to the PD/PI and the Department to determine the exact date the RPPR is due using information from eRA Commons.
URL:https://www.med.unc.edu/spo/event/rpprs-2/
LOCATION:NIH and Other PHS Agency Research Performance Progress Report (RPPR) Instructional Guide
END:VEVENT
BEGIN:VEVENT
DTSTART;VALUE=DATE:20230815
DTEND;VALUE=DATE:20230816
DTSTAMP:20260420T122437
CREATED:20230307T175409Z
LAST-MODIFIED:20230310T212351Z
UID:10000052-1692057600-1692143999@www.med.unc.edu
SUMMARY:RPPR's
DESCRIPTION:RPPR’s (Research Performance Progress Reports)\nAs a general rule RPPR’s are commonly due on the 1st and the 15th of the month. \nIt is up to the PD/PI and the Department to determine the exact date the RPPR is due using information from eRA Commons.
URL:https://www.med.unc.edu/spo/event/rpprs/2023-08-15/
LOCATION:NIH and Other PHS Agency Research Performance Progress Report (RPPR) Instructional Guide
CATEGORIES:NIH
END:VEVENT
BEGIN:VEVENT
DTSTART;VALUE=DATE:20230801
DTEND;VALUE=DATE:20230802
DTSTAMP:20260420T122437
CREATED:20230308T170446Z
LAST-MODIFIED:20230310T211743Z
UID:10000086-1690848000-1690934399@www.med.unc.edu
SUMMARY:RPPR's
DESCRIPTION:RPPR’s (Research Performance Progress Reports)\nAs a general rule RPPR’s are commonly due on the 1st and the 15th of the month. \nIt is up to the PD/PI and the Department to determine the exact date the RPPR is due using information from eRA Commons.
URL:https://www.med.unc.edu/spo/event/rpprs-2/
LOCATION:NIH and Other PHS Agency Research Performance Progress Report (RPPR) Instructional Guide
END:VEVENT
BEGIN:VEVENT
DTSTART;VALUE=DATE:20230715
DTEND;VALUE=DATE:20230716
DTSTAMP:20260420T122437
CREATED:20230307T175409Z
LAST-MODIFIED:20230310T212351Z
UID:10000051-1689379200-1689465599@www.med.unc.edu
SUMMARY:RPPR's
DESCRIPTION:RPPR’s (Research Performance Progress Reports)\nAs a general rule RPPR’s are commonly due on the 1st and the 15th of the month. \nIt is up to the PD/PI and the Department to determine the exact date the RPPR is due using information from eRA Commons.
URL:https://www.med.unc.edu/spo/event/rpprs/2023-07-15/
LOCATION:NIH and Other PHS Agency Research Performance Progress Report (RPPR) Instructional Guide
CATEGORIES:NIH
END:VEVENT
BEGIN:VEVENT
DTSTART;VALUE=DATE:20230701
DTEND;VALUE=DATE:20230702
DTSTAMP:20260420T122437
CREATED:20230308T170446Z
LAST-MODIFIED:20230310T211743Z
UID:10000085-1688169600-1688255999@www.med.unc.edu
SUMMARY:RPPR's
DESCRIPTION:RPPR’s (Research Performance Progress Reports)\nAs a general rule RPPR’s are commonly due on the 1st and the 15th of the month. \nIt is up to the PD/PI and the Department to determine the exact date the RPPR is due using information from eRA Commons.
URL:https://www.med.unc.edu/spo/event/rpprs-2/
LOCATION:NIH and Other PHS Agency Research Performance Progress Report (RPPR) Instructional Guide
END:VEVENT
BEGIN:VEVENT
DTSTART;VALUE=DATE:20230615
DTEND;VALUE=DATE:20230616
DTSTAMP:20260420T122437
CREATED:20230307T175409Z
LAST-MODIFIED:20230310T212351Z
UID:10000050-1686787200-1686873599@www.med.unc.edu
SUMMARY:RPPR's
DESCRIPTION:RPPR’s (Research Performance Progress Reports)\nAs a general rule RPPR’s are commonly due on the 1st and the 15th of the month. \nIt is up to the PD/PI and the Department to determine the exact date the RPPR is due using information from eRA Commons.
URL:https://www.med.unc.edu/spo/event/rpprs/2023-06-15/
LOCATION:NIH and Other PHS Agency Research Performance Progress Report (RPPR) Instructional Guide
CATEGORIES:NIH
END:VEVENT
BEGIN:VEVENT
DTSTART;VALUE=DATE:20230601
DTEND;VALUE=DATE:20230602
DTSTAMP:20260420T122437
CREATED:20230308T170446Z
LAST-MODIFIED:20230310T211743Z
UID:10000084-1685577600-1685663999@www.med.unc.edu
SUMMARY:RPPR's
DESCRIPTION:RPPR’s (Research Performance Progress Reports)\nAs a general rule RPPR’s are commonly due on the 1st and the 15th of the month. \nIt is up to the PD/PI and the Department to determine the exact date the RPPR is due using information from eRA Commons.
URL:https://www.med.unc.edu/spo/event/rpprs-2/
LOCATION:NIH and Other PHS Agency Research Performance Progress Report (RPPR) Instructional Guide
END:VEVENT
BEGIN:VEVENT
DTSTART;VALUE=DATE:20230515
DTEND;VALUE=DATE:20230516
DTSTAMP:20260420T122437
CREATED:20230307T175409Z
LAST-MODIFIED:20230310T212351Z
UID:10000049-1684108800-1684195199@www.med.unc.edu
SUMMARY:RPPR's
DESCRIPTION:RPPR’s (Research Performance Progress Reports)\nAs a general rule RPPR’s are commonly due on the 1st and the 15th of the month. \nIt is up to the PD/PI and the Department to determine the exact date the RPPR is due using information from eRA Commons.
URL:https://www.med.unc.edu/spo/event/rpprs/2023-05-15/
LOCATION:NIH and Other PHS Agency Research Performance Progress Report (RPPR) Instructional Guide
CATEGORIES:NIH
END:VEVENT
BEGIN:VEVENT
DTSTART;VALUE=DATE:20230501
DTEND;VALUE=DATE:20230502
DTSTAMP:20260420T122437
CREATED:20230308T170446Z
LAST-MODIFIED:20230310T211743Z
UID:10000083-1682899200-1682985599@www.med.unc.edu
SUMMARY:RPPR's
DESCRIPTION:RPPR’s (Research Performance Progress Reports)\nAs a general rule RPPR’s are commonly due on the 1st and the 15th of the month. \nIt is up to the PD/PI and the Department to determine the exact date the RPPR is due using information from eRA Commons.
URL:https://www.med.unc.edu/spo/event/rpprs-2/
LOCATION:NIH and Other PHS Agency Research Performance Progress Report (RPPR) Instructional Guide
END:VEVENT
BEGIN:VEVENT
DTSTART;VALUE=DATE:20230415
DTEND;VALUE=DATE:20230416
DTSTAMP:20260420T122437
CREATED:20230307T175409Z
LAST-MODIFIED:20230310T212351Z
UID:10000048-1681516800-1681603199@www.med.unc.edu
SUMMARY:RPPR's
DESCRIPTION:RPPR’s (Research Performance Progress Reports)\nAs a general rule RPPR’s are commonly due on the 1st and the 15th of the month. \nIt is up to the PD/PI and the Department to determine the exact date the RPPR is due using information from eRA Commons.
URL:https://www.med.unc.edu/spo/event/rpprs/2023-04-15/
LOCATION:NIH and Other PHS Agency Research Performance Progress Report (RPPR) Instructional Guide
CATEGORIES:NIH
END:VEVENT
BEGIN:VEVENT
DTSTART;VALUE=DATE:20230401
DTEND;VALUE=DATE:20230402
DTSTAMP:20260420T122437
CREATED:20230308T170446Z
LAST-MODIFIED:20230310T211743Z
UID:10000082-1680307200-1680393599@www.med.unc.edu
SUMMARY:RPPR's
DESCRIPTION:RPPR’s (Research Performance Progress Reports)\nAs a general rule RPPR’s are commonly due on the 1st and the 15th of the month. \nIt is up to the PD/PI and the Department to determine the exact date the RPPR is due using information from eRA Commons.
URL:https://www.med.unc.edu/spo/event/rpprs-2/
LOCATION:NIH and Other PHS Agency Research Performance Progress Report (RPPR) Instructional Guide
END:VEVENT
BEGIN:VEVENT
DTSTART;VALUE=DATE:20230315
DTEND;VALUE=DATE:20230316
DTSTAMP:20260420T122437
CREATED:20230307T175409Z
LAST-MODIFIED:20230310T212351Z
UID:10000027-1678838400-1678924799@www.med.unc.edu
SUMMARY:RPPR's
DESCRIPTION:RPPR’s (Research Performance Progress Reports)\nAs a general rule RPPR’s are commonly due on the 1st and the 15th of the month. \nIt is up to the PD/PI and the Department to determine the exact date the RPPR is due using information from eRA Commons.
URL:https://www.med.unc.edu/spo/event/rpprs/2023-03-15/
LOCATION:NIH and Other PHS Agency Research Performance Progress Report (RPPR) Instructional Guide
CATEGORIES:NIH
END:VEVENT
BEGIN:VEVENT
DTSTART;VALUE=DATE:20230301
DTEND;VALUE=DATE:20230302
DTSTAMP:20260420T122437
CREATED:20230308T170446Z
LAST-MODIFIED:20230310T211743Z
UID:10000081-1677628800-1677715199@www.med.unc.edu
SUMMARY:RPPR's
DESCRIPTION:RPPR’s (Research Performance Progress Reports)\nAs a general rule RPPR’s are commonly due on the 1st and the 15th of the month. \nIt is up to the PD/PI and the Department to determine the exact date the RPPR is due using information from eRA Commons.
URL:https://www.med.unc.edu/spo/event/rpprs-2/
LOCATION:NIH and Other PHS Agency Research Performance Progress Report (RPPR) Instructional Guide
END:VEVENT
END:VCALENDAR