BEGIN:VCALENDAR
VERSION:2.0
PRODID:-//Sponsored Programs Office - ECPv6.15.18//NONSGML v1.0//EN
CALSCALE:GREGORIAN
METHOD:PUBLISH
X-ORIGINAL-URL:https://www.med.unc.edu/spo
X-WR-CALDESC:Events for Sponsored Programs Office
REFRESH-INTERVAL;VALUE=DURATION:PT1H
X-Robots-Tag:noindex
X-PUBLISHED-TTL:PT1H
BEGIN:VTIMEZONE
TZID:America/New_York
BEGIN:DAYLIGHT
TZOFFSETFROM:-0500
TZOFFSETTO:-0400
TZNAME:EDT
DTSTART:20230312T070000
END:DAYLIGHT
BEGIN:STANDARD
TZOFFSETFROM:-0400
TZOFFSETTO:-0500
TZNAME:EST
DTSTART:20231105T060000
END:STANDARD
BEGIN:DAYLIGHT
TZOFFSETFROM:-0500
TZOFFSETTO:-0400
TZNAME:EDT
DTSTART:20240310T070000
END:DAYLIGHT
BEGIN:STANDARD
TZOFFSETFROM:-0400
TZOFFSETTO:-0500
TZNAME:EST
DTSTART:20241103T060000
END:STANDARD
BEGIN:DAYLIGHT
TZOFFSETFROM:-0500
TZOFFSETTO:-0400
TZNAME:EDT
DTSTART:20250309T070000
END:DAYLIGHT
BEGIN:STANDARD
TZOFFSETFROM:-0400
TZOFFSETTO:-0500
TZNAME:EST
DTSTART:20251102T060000
END:STANDARD
BEGIN:DAYLIGHT
TZOFFSETFROM:-0500
TZOFFSETTO:-0400
TZNAME:EDT
DTSTART:20260308T070000
END:DAYLIGHT
BEGIN:STANDARD
TZOFFSETFROM:-0400
TZOFFSETTO:-0500
TZNAME:EST
DTSTART:20261101T060000
END:STANDARD
END:VTIMEZONE
BEGIN:VEVENT
DTSTART;VALUE=DATE:20251215
DTEND;VALUE=DATE:20251216
DTSTAMP:20260424T192705
CREATED:20230307T175409Z
LAST-MODIFIED:20230310T212351Z
UID:10000080-1765756800-1765843199@www.med.unc.edu
SUMMARY:RPPR's
DESCRIPTION:RPPR’s (Research Performance Progress Reports)\nAs a general rule RPPR’s are commonly due on the 1st and the 15th of the month. \nIt is up to the PD/PI and the Department to determine the exact date the RPPR is due using information from eRA Commons.
URL:https://www.med.unc.edu/spo/event/rpprs/2025-12-15/
LOCATION:NIH and Other PHS Agency Research Performance Progress Report (RPPR) Instructional Guide
CATEGORIES:NIH
END:VEVENT
BEGIN:VEVENT
DTSTART;VALUE=DATE:20251201
DTEND;VALUE=DATE:20251202
DTSTAMP:20260424T192705
CREATED:20230308T170446Z
LAST-MODIFIED:20230310T211743Z
UID:10000114-1764547200-1764633599@www.med.unc.edu
SUMMARY:RPPR's
DESCRIPTION:RPPR’s (Research Performance Progress Reports)\nAs a general rule RPPR’s are commonly due on the 1st and the 15th of the month. \nIt is up to the PD/PI and the Department to determine the exact date the RPPR is due using information from eRA Commons.
URL:https://www.med.unc.edu/spo/event/rpprs-2/
LOCATION:NIH and Other PHS Agency Research Performance Progress Report (RPPR) Instructional Guide
END:VEVENT
BEGIN:VEVENT
DTSTART;VALUE=DATE:20251115
DTEND;VALUE=DATE:20251116
DTSTAMP:20260424T192705
CREATED:20230307T175409Z
LAST-MODIFIED:20230310T212351Z
UID:10000079-1763164800-1763251199@www.med.unc.edu
SUMMARY:RPPR's
DESCRIPTION:RPPR’s (Research Performance Progress Reports)\nAs a general rule RPPR’s are commonly due on the 1st and the 15th of the month. \nIt is up to the PD/PI and the Department to determine the exact date the RPPR is due using information from eRA Commons.
URL:https://www.med.unc.edu/spo/event/rpprs/2025-11-15/
LOCATION:NIH and Other PHS Agency Research Performance Progress Report (RPPR) Instructional Guide
CATEGORIES:NIH
END:VEVENT
BEGIN:VEVENT
DTSTART;VALUE=DATE:20251101
DTEND;VALUE=DATE:20251102
DTSTAMP:20260424T192705
CREATED:20230308T170446Z
LAST-MODIFIED:20230310T211743Z
UID:10000113-1761955200-1762041599@www.med.unc.edu
SUMMARY:RPPR's
DESCRIPTION:RPPR’s (Research Performance Progress Reports)\nAs a general rule RPPR’s are commonly due on the 1st and the 15th of the month. \nIt is up to the PD/PI and the Department to determine the exact date the RPPR is due using information from eRA Commons.
URL:https://www.med.unc.edu/spo/event/rpprs-2/
LOCATION:NIH and Other PHS Agency Research Performance Progress Report (RPPR) Instructional Guide
END:VEVENT
BEGIN:VEVENT
DTSTART;VALUE=DATE:20251015
DTEND;VALUE=DATE:20251016
DTSTAMP:20260424T192705
CREATED:20230307T175409Z
LAST-MODIFIED:20230310T212351Z
UID:10000078-1760486400-1760572799@www.med.unc.edu
SUMMARY:RPPR's
DESCRIPTION:RPPR’s (Research Performance Progress Reports)\nAs a general rule RPPR’s are commonly due on the 1st and the 15th of the month. \nIt is up to the PD/PI and the Department to determine the exact date the RPPR is due using information from eRA Commons.
URL:https://www.med.unc.edu/spo/event/rpprs/2025-10-15/
LOCATION:NIH and Other PHS Agency Research Performance Progress Report (RPPR) Instructional Guide
CATEGORIES:NIH
END:VEVENT
BEGIN:VEVENT
DTSTART;VALUE=DATE:20251001
DTEND;VALUE=DATE:20251002
DTSTAMP:20260424T192705
CREATED:20230308T170446Z
LAST-MODIFIED:20230310T211743Z
UID:10000112-1759276800-1759363199@www.med.unc.edu
SUMMARY:RPPR's
DESCRIPTION:RPPR’s (Research Performance Progress Reports)\nAs a general rule RPPR’s are commonly due on the 1st and the 15th of the month. \nIt is up to the PD/PI and the Department to determine the exact date the RPPR is due using information from eRA Commons.
URL:https://www.med.unc.edu/spo/event/rpprs-2/
LOCATION:NIH and Other PHS Agency Research Performance Progress Report (RPPR) Instructional Guide
END:VEVENT
BEGIN:VEVENT
DTSTART;VALUE=DATE:20250915
DTEND;VALUE=DATE:20250916
DTSTAMP:20260424T192705
CREATED:20230307T175409Z
LAST-MODIFIED:20230310T212351Z
UID:10000077-1757894400-1757980799@www.med.unc.edu
SUMMARY:RPPR's
DESCRIPTION:RPPR’s (Research Performance Progress Reports)\nAs a general rule RPPR’s are commonly due on the 1st and the 15th of the month. \nIt is up to the PD/PI and the Department to determine the exact date the RPPR is due using information from eRA Commons.
URL:https://www.med.unc.edu/spo/event/rpprs/2025-09-15/
LOCATION:NIH and Other PHS Agency Research Performance Progress Report (RPPR) Instructional Guide
CATEGORIES:NIH
END:VEVENT
BEGIN:VEVENT
DTSTART;VALUE=DATE:20250901
DTEND;VALUE=DATE:20250902
DTSTAMP:20260424T192705
CREATED:20230308T170446Z
LAST-MODIFIED:20230310T211743Z
UID:10000111-1756684800-1756771199@www.med.unc.edu
SUMMARY:RPPR's
DESCRIPTION:RPPR’s (Research Performance Progress Reports)\nAs a general rule RPPR’s are commonly due on the 1st and the 15th of the month. \nIt is up to the PD/PI and the Department to determine the exact date the RPPR is due using information from eRA Commons.
URL:https://www.med.unc.edu/spo/event/rpprs-2/
LOCATION:NIH and Other PHS Agency Research Performance Progress Report (RPPR) Instructional Guide
END:VEVENT
BEGIN:VEVENT
DTSTART;VALUE=DATE:20250815
DTEND;VALUE=DATE:20250816
DTSTAMP:20260424T192705
CREATED:20230307T175409Z
LAST-MODIFIED:20230310T212351Z
UID:10000076-1755216000-1755302399@www.med.unc.edu
SUMMARY:RPPR's
DESCRIPTION:RPPR’s (Research Performance Progress Reports)\nAs a general rule RPPR’s are commonly due on the 1st and the 15th of the month. \nIt is up to the PD/PI and the Department to determine the exact date the RPPR is due using information from eRA Commons.
URL:https://www.med.unc.edu/spo/event/rpprs/2025-08-15/
LOCATION:NIH and Other PHS Agency Research Performance Progress Report (RPPR) Instructional Guide
CATEGORIES:NIH
END:VEVENT
BEGIN:VEVENT
DTSTART;VALUE=DATE:20250801
DTEND;VALUE=DATE:20250802
DTSTAMP:20260424T192705
CREATED:20230308T170446Z
LAST-MODIFIED:20230310T211743Z
UID:10000110-1754006400-1754092799@www.med.unc.edu
SUMMARY:RPPR's
DESCRIPTION:RPPR’s (Research Performance Progress Reports)\nAs a general rule RPPR’s are commonly due on the 1st and the 15th of the month. \nIt is up to the PD/PI and the Department to determine the exact date the RPPR is due using information from eRA Commons.
URL:https://www.med.unc.edu/spo/event/rpprs-2/
LOCATION:NIH and Other PHS Agency Research Performance Progress Report (RPPR) Instructional Guide
END:VEVENT
BEGIN:VEVENT
DTSTART;VALUE=DATE:20250715
DTEND;VALUE=DATE:20250716
DTSTAMP:20260424T192705
CREATED:20230307T175409Z
LAST-MODIFIED:20230310T212351Z
UID:10000075-1752537600-1752623999@www.med.unc.edu
SUMMARY:RPPR's
DESCRIPTION:RPPR’s (Research Performance Progress Reports)\nAs a general rule RPPR’s are commonly due on the 1st and the 15th of the month. \nIt is up to the PD/PI and the Department to determine the exact date the RPPR is due using information from eRA Commons.
URL:https://www.med.unc.edu/spo/event/rpprs/2025-07-15/
LOCATION:NIH and Other PHS Agency Research Performance Progress Report (RPPR) Instructional Guide
CATEGORIES:NIH
END:VEVENT
BEGIN:VEVENT
DTSTART;VALUE=DATE:20250701
DTEND;VALUE=DATE:20250702
DTSTAMP:20260424T192705
CREATED:20230308T170446Z
LAST-MODIFIED:20230310T211743Z
UID:10000109-1751328000-1751414399@www.med.unc.edu
SUMMARY:RPPR's
DESCRIPTION:RPPR’s (Research Performance Progress Reports)\nAs a general rule RPPR’s are commonly due on the 1st and the 15th of the month. \nIt is up to the PD/PI and the Department to determine the exact date the RPPR is due using information from eRA Commons.
URL:https://www.med.unc.edu/spo/event/rpprs-2/
LOCATION:NIH and Other PHS Agency Research Performance Progress Report (RPPR) Instructional Guide
END:VEVENT
BEGIN:VEVENT
DTSTART;VALUE=DATE:20250615
DTEND;VALUE=DATE:20250616
DTSTAMP:20260424T192705
CREATED:20230307T175409Z
LAST-MODIFIED:20230310T212351Z
UID:10000074-1749945600-1750031999@www.med.unc.edu
SUMMARY:RPPR's
DESCRIPTION:RPPR’s (Research Performance Progress Reports)\nAs a general rule RPPR’s are commonly due on the 1st and the 15th of the month. \nIt is up to the PD/PI and the Department to determine the exact date the RPPR is due using information from eRA Commons.
URL:https://www.med.unc.edu/spo/event/rpprs/2025-06-15/
LOCATION:NIH and Other PHS Agency Research Performance Progress Report (RPPR) Instructional Guide
CATEGORIES:NIH
END:VEVENT
BEGIN:VEVENT
DTSTART;VALUE=DATE:20250601
DTEND;VALUE=DATE:20250602
DTSTAMP:20260424T192705
CREATED:20230308T170446Z
LAST-MODIFIED:20230310T211743Z
UID:10000108-1748736000-1748822399@www.med.unc.edu
SUMMARY:RPPR's
DESCRIPTION:RPPR’s (Research Performance Progress Reports)\nAs a general rule RPPR’s are commonly due on the 1st and the 15th of the month. \nIt is up to the PD/PI and the Department to determine the exact date the RPPR is due using information from eRA Commons.
URL:https://www.med.unc.edu/spo/event/rpprs-2/
LOCATION:NIH and Other PHS Agency Research Performance Progress Report (RPPR) Instructional Guide
END:VEVENT
BEGIN:VEVENT
DTSTART;VALUE=DATE:20250515
DTEND;VALUE=DATE:20250516
DTSTAMP:20260424T192705
CREATED:20230307T175409Z
LAST-MODIFIED:20230310T212351Z
UID:10000073-1747267200-1747353599@www.med.unc.edu
SUMMARY:RPPR's
DESCRIPTION:RPPR’s (Research Performance Progress Reports)\nAs a general rule RPPR’s are commonly due on the 1st and the 15th of the month. \nIt is up to the PD/PI and the Department to determine the exact date the RPPR is due using information from eRA Commons.
URL:https://www.med.unc.edu/spo/event/rpprs/2025-05-15/
LOCATION:NIH and Other PHS Agency Research Performance Progress Report (RPPR) Instructional Guide
CATEGORIES:NIH
END:VEVENT
BEGIN:VEVENT
DTSTART;VALUE=DATE:20250501
DTEND;VALUE=DATE:20250502
DTSTAMP:20260424T192705
CREATED:20230308T170446Z
LAST-MODIFIED:20230310T211743Z
UID:10000107-1746057600-1746143999@www.med.unc.edu
SUMMARY:RPPR's
DESCRIPTION:RPPR’s (Research Performance Progress Reports)\nAs a general rule RPPR’s are commonly due on the 1st and the 15th of the month. \nIt is up to the PD/PI and the Department to determine the exact date the RPPR is due using information from eRA Commons.
URL:https://www.med.unc.edu/spo/event/rpprs-2/
LOCATION:NIH and Other PHS Agency Research Performance Progress Report (RPPR) Instructional Guide
END:VEVENT
BEGIN:VEVENT
DTSTART;VALUE=DATE:20250415
DTEND;VALUE=DATE:20250416
DTSTAMP:20260424T192705
CREATED:20230307T175409Z
LAST-MODIFIED:20230310T212351Z
UID:10000072-1744675200-1744761599@www.med.unc.edu
SUMMARY:RPPR's
DESCRIPTION:RPPR’s (Research Performance Progress Reports)\nAs a general rule RPPR’s are commonly due on the 1st and the 15th of the month. \nIt is up to the PD/PI and the Department to determine the exact date the RPPR is due using information from eRA Commons.
URL:https://www.med.unc.edu/spo/event/rpprs/2025-04-15/
LOCATION:NIH and Other PHS Agency Research Performance Progress Report (RPPR) Instructional Guide
CATEGORIES:NIH
END:VEVENT
BEGIN:VEVENT
DTSTART;VALUE=DATE:20250401
DTEND;VALUE=DATE:20250402
DTSTAMP:20260424T192705
CREATED:20230308T170446Z
LAST-MODIFIED:20230310T211743Z
UID:10000106-1743465600-1743551999@www.med.unc.edu
SUMMARY:RPPR's
DESCRIPTION:RPPR’s (Research Performance Progress Reports)\nAs a general rule RPPR’s are commonly due on the 1st and the 15th of the month. \nIt is up to the PD/PI and the Department to determine the exact date the RPPR is due using information from eRA Commons.
URL:https://www.med.unc.edu/spo/event/rpprs-2/
LOCATION:NIH and Other PHS Agency Research Performance Progress Report (RPPR) Instructional Guide
END:VEVENT
BEGIN:VEVENT
DTSTART;VALUE=DATE:20250315
DTEND;VALUE=DATE:20250316
DTSTAMP:20260424T192705
CREATED:20230307T175409Z
LAST-MODIFIED:20230310T212351Z
UID:10000071-1741996800-1742083199@www.med.unc.edu
SUMMARY:RPPR's
DESCRIPTION:RPPR’s (Research Performance Progress Reports)\nAs a general rule RPPR’s are commonly due on the 1st and the 15th of the month. \nIt is up to the PD/PI and the Department to determine the exact date the RPPR is due using information from eRA Commons.
URL:https://www.med.unc.edu/spo/event/rpprs/2025-03-15/
LOCATION:NIH and Other PHS Agency Research Performance Progress Report (RPPR) Instructional Guide
CATEGORIES:NIH
END:VEVENT
BEGIN:VEVENT
DTSTART;VALUE=DATE:20250301
DTEND;VALUE=DATE:20250302
DTSTAMP:20260424T192705
CREATED:20230308T170446Z
LAST-MODIFIED:20230310T211743Z
UID:10000105-1740787200-1740873599@www.med.unc.edu
SUMMARY:RPPR's
DESCRIPTION:RPPR’s (Research Performance Progress Reports)\nAs a general rule RPPR’s are commonly due on the 1st and the 15th of the month. \nIt is up to the PD/PI and the Department to determine the exact date the RPPR is due using information from eRA Commons.
URL:https://www.med.unc.edu/spo/event/rpprs-2/
LOCATION:NIH and Other PHS Agency Research Performance Progress Report (RPPR) Instructional Guide
END:VEVENT
BEGIN:VEVENT
DTSTART;VALUE=DATE:20250215
DTEND;VALUE=DATE:20250216
DTSTAMP:20260424T192705
CREATED:20230307T175409Z
LAST-MODIFIED:20230310T212351Z
UID:10000070-1739577600-1739663999@www.med.unc.edu
SUMMARY:RPPR's
DESCRIPTION:RPPR’s (Research Performance Progress Reports)\nAs a general rule RPPR’s are commonly due on the 1st and the 15th of the month. \nIt is up to the PD/PI and the Department to determine the exact date the RPPR is due using information from eRA Commons.
URL:https://www.med.unc.edu/spo/event/rpprs/2025-02-15/
LOCATION:NIH and Other PHS Agency Research Performance Progress Report (RPPR) Instructional Guide
CATEGORIES:NIH
END:VEVENT
BEGIN:VEVENT
DTSTART;VALUE=DATE:20250201
DTEND;VALUE=DATE:20250202
DTSTAMP:20260424T192705
CREATED:20230308T170446Z
LAST-MODIFIED:20230310T211743Z
UID:10000104-1738368000-1738454399@www.med.unc.edu
SUMMARY:RPPR's
DESCRIPTION:RPPR’s (Research Performance Progress Reports)\nAs a general rule RPPR’s are commonly due on the 1st and the 15th of the month. \nIt is up to the PD/PI and the Department to determine the exact date the RPPR is due using information from eRA Commons.
URL:https://www.med.unc.edu/spo/event/rpprs-2/
LOCATION:NIH and Other PHS Agency Research Performance Progress Report (RPPR) Instructional Guide
END:VEVENT
BEGIN:VEVENT
DTSTART;VALUE=DATE:20250115
DTEND;VALUE=DATE:20250116
DTSTAMP:20260424T192705
CREATED:20230307T175409Z
LAST-MODIFIED:20230310T212351Z
UID:10000069-1736899200-1736985599@www.med.unc.edu
SUMMARY:RPPR's
DESCRIPTION:RPPR’s (Research Performance Progress Reports)\nAs a general rule RPPR’s are commonly due on the 1st and the 15th of the month. \nIt is up to the PD/PI and the Department to determine the exact date the RPPR is due using information from eRA Commons.
URL:https://www.med.unc.edu/spo/event/rpprs/2025-01-15/
LOCATION:NIH and Other PHS Agency Research Performance Progress Report (RPPR) Instructional Guide
CATEGORIES:NIH
END:VEVENT
BEGIN:VEVENT
DTSTART;VALUE=DATE:20250101
DTEND;VALUE=DATE:20250102
DTSTAMP:20260424T192705
CREATED:20230308T170446Z
LAST-MODIFIED:20230310T211743Z
UID:10000103-1735689600-1735775999@www.med.unc.edu
SUMMARY:RPPR's
DESCRIPTION:RPPR’s (Research Performance Progress Reports)\nAs a general rule RPPR’s are commonly due on the 1st and the 15th of the month. \nIt is up to the PD/PI and the Department to determine the exact date the RPPR is due using information from eRA Commons.
URL:https://www.med.unc.edu/spo/event/rpprs-2/
LOCATION:NIH and Other PHS Agency Research Performance Progress Report (RPPR) Instructional Guide
END:VEVENT
BEGIN:VEVENT
DTSTART;VALUE=DATE:20241215
DTEND;VALUE=DATE:20241216
DTSTAMP:20260424T192705
CREATED:20230307T175409Z
LAST-MODIFIED:20230310T212351Z
UID:10000068-1734220800-1734307199@www.med.unc.edu
SUMMARY:RPPR's
DESCRIPTION:RPPR’s (Research Performance Progress Reports)\nAs a general rule RPPR’s are commonly due on the 1st and the 15th of the month. \nIt is up to the PD/PI and the Department to determine the exact date the RPPR is due using information from eRA Commons.
URL:https://www.med.unc.edu/spo/event/rpprs/2024-12-15/
LOCATION:NIH and Other PHS Agency Research Performance Progress Report (RPPR) Instructional Guide
CATEGORIES:NIH
END:VEVENT
BEGIN:VEVENT
DTSTART;VALUE=DATE:20241201
DTEND;VALUE=DATE:20241202
DTSTAMP:20260424T192705
CREATED:20230308T170446Z
LAST-MODIFIED:20230310T211743Z
UID:10000102-1733011200-1733097599@www.med.unc.edu
SUMMARY:RPPR's
DESCRIPTION:RPPR’s (Research Performance Progress Reports)\nAs a general rule RPPR’s are commonly due on the 1st and the 15th of the month. \nIt is up to the PD/PI and the Department to determine the exact date the RPPR is due using information from eRA Commons.
URL:https://www.med.unc.edu/spo/event/rpprs-2/
LOCATION:NIH and Other PHS Agency Research Performance Progress Report (RPPR) Instructional Guide
END:VEVENT
BEGIN:VEVENT
DTSTART;VALUE=DATE:20241115
DTEND;VALUE=DATE:20241116
DTSTAMP:20260424T192705
CREATED:20230307T175409Z
LAST-MODIFIED:20230310T212351Z
UID:10000067-1731628800-1731715199@www.med.unc.edu
SUMMARY:RPPR's
DESCRIPTION:RPPR’s (Research Performance Progress Reports)\nAs a general rule RPPR’s are commonly due on the 1st and the 15th of the month. \nIt is up to the PD/PI and the Department to determine the exact date the RPPR is due using information from eRA Commons.
URL:https://www.med.unc.edu/spo/event/rpprs/2024-11-15/
LOCATION:NIH and Other PHS Agency Research Performance Progress Report (RPPR) Instructional Guide
CATEGORIES:NIH
END:VEVENT
BEGIN:VEVENT
DTSTART;VALUE=DATE:20241101
DTEND;VALUE=DATE:20241102
DTSTAMP:20260424T192705
CREATED:20230308T170446Z
LAST-MODIFIED:20230310T211743Z
UID:10000101-1730419200-1730505599@www.med.unc.edu
SUMMARY:RPPR's
DESCRIPTION:RPPR’s (Research Performance Progress Reports)\nAs a general rule RPPR’s are commonly due on the 1st and the 15th of the month. \nIt is up to the PD/PI and the Department to determine the exact date the RPPR is due using information from eRA Commons.
URL:https://www.med.unc.edu/spo/event/rpprs-2/
LOCATION:NIH and Other PHS Agency Research Performance Progress Report (RPPR) Instructional Guide
END:VEVENT
BEGIN:VEVENT
DTSTART;VALUE=DATE:20241015
DTEND;VALUE=DATE:20241016
DTSTAMP:20260424T192705
CREATED:20230307T175409Z
LAST-MODIFIED:20230310T212351Z
UID:10000066-1728950400-1729036799@www.med.unc.edu
SUMMARY:RPPR's
DESCRIPTION:RPPR’s (Research Performance Progress Reports)\nAs a general rule RPPR’s are commonly due on the 1st and the 15th of the month. \nIt is up to the PD/PI and the Department to determine the exact date the RPPR is due using information from eRA Commons.
URL:https://www.med.unc.edu/spo/event/rpprs/2024-10-15/
LOCATION:NIH and Other PHS Agency Research Performance Progress Report (RPPR) Instructional Guide
CATEGORIES:NIH
END:VEVENT
BEGIN:VEVENT
DTSTART;VALUE=DATE:20241001
DTEND;VALUE=DATE:20241002
DTSTAMP:20260424T192705
CREATED:20230308T170446Z
LAST-MODIFIED:20230310T211743Z
UID:10000100-1727740800-1727827199@www.med.unc.edu
SUMMARY:RPPR's
DESCRIPTION:RPPR’s (Research Performance Progress Reports)\nAs a general rule RPPR’s are commonly due on the 1st and the 15th of the month. \nIt is up to the PD/PI and the Department to determine the exact date the RPPR is due using information from eRA Commons.
URL:https://www.med.unc.edu/spo/event/rpprs-2/
LOCATION:NIH and Other PHS Agency Research Performance Progress Report (RPPR) Instructional Guide
END:VEVENT
END:VCALENDAR