BEGIN:VCALENDAR
VERSION:2.0
PRODID:-//Thurston Arthritis Research Center - ECPv6.15.18//NONSGML v1.0//EN
CALSCALE:GREGORIAN
METHOD:PUBLISH
X-ORIGINAL-URL:https://www.med.unc.edu/tarc
X-WR-CALDESC:Events for Thurston Arthritis Research Center
REFRESH-INTERVAL;VALUE=DURATION:PT1H
X-Robots-Tag:noindex
X-PUBLISHED-TTL:PT1H
BEGIN:VTIMEZONE
TZID:America/New_York
BEGIN:DAYLIGHT
TZOFFSETFROM:-0500
TZOFFSETTO:-0400
TZNAME:EDT
DTSTART:20190310T070000
END:DAYLIGHT
BEGIN:STANDARD
TZOFFSETFROM:-0400
TZOFFSETTO:-0500
TZNAME:EST
DTSTART:20191103T060000
END:STANDARD
BEGIN:DAYLIGHT
TZOFFSETFROM:-0500
TZOFFSETTO:-0400
TZNAME:EDT
DTSTART:20200308T070000
END:DAYLIGHT
BEGIN:STANDARD
TZOFFSETFROM:-0400
TZOFFSETTO:-0500
TZNAME:EST
DTSTART:20201101T060000
END:STANDARD
BEGIN:DAYLIGHT
TZOFFSETFROM:-0500
TZOFFSETTO:-0400
TZNAME:EDT
DTSTART:20210314T070000
END:DAYLIGHT
BEGIN:STANDARD
TZOFFSETFROM:-0400
TZOFFSETTO:-0500
TZNAME:EST
DTSTART:20211107T060000
END:STANDARD
END:VTIMEZONE
BEGIN:VEVENT
DTSTART;TZID=America/New_York:20200313T083000
DTEND;TZID=America/New_York:20200313T093000
DTSTAMP:20260420T203006
CREATED:20200311T152445Z
LAST-MODIFIED:20200311T152445Z
UID:10000585-1584088200-1584091800@www.med.unc.edu
SUMMARY:Rheumatology\, Allergy & Immunology Grand Rounds: Dr. Mirnela Byku; "Advanced Heart Failure"
DESCRIPTION:Dr. Mirnela Byku \nAssistant Professor of Medicine; UNC Division of Cardiology \n“Advanced Heart Failure” \n  \n 
URL:https://www.med.unc.edu/tarc/event/rheumatology-allergy-immunology-grand-rounds-dr-mirnela-byku-advanced-heart-failure/
LOCATION:Dickson Conference Room\, Thurston Arthritis Research Center\, 3200 Thurston Building
CATEGORIES:Rheumatology, Allergy and Immunology Grand Rounds
END:VEVENT
END:VCALENDAR