BEGIN:VCALENDAR
VERSION:2.0
PRODID:-//Thurston Arthritis Research Center - ECPv6.15.18//NONSGML v1.0//EN
CALSCALE:GREGORIAN
METHOD:PUBLISH
X-ORIGINAL-URL:https://www.med.unc.edu/tarc
X-WR-CALDESC:Events for Thurston Arthritis Research Center
REFRESH-INTERVAL;VALUE=DURATION:PT1H
X-Robots-Tag:noindex
X-PUBLISHED-TTL:PT1H
BEGIN:VTIMEZONE
TZID:America/New_York
BEGIN:DAYLIGHT
TZOFFSETFROM:-0500
TZOFFSETTO:-0400
TZNAME:EDT
DTSTART:20160313T070000
END:DAYLIGHT
BEGIN:STANDARD
TZOFFSETFROM:-0400
TZOFFSETTO:-0500
TZNAME:EST
DTSTART:20161106T060000
END:STANDARD
BEGIN:DAYLIGHT
TZOFFSETFROM:-0500
TZOFFSETTO:-0400
TZNAME:EDT
DTSTART:20170312T070000
END:DAYLIGHT
BEGIN:STANDARD
TZOFFSETFROM:-0400
TZOFFSETTO:-0500
TZNAME:EST
DTSTART:20171105T060000
END:STANDARD
BEGIN:DAYLIGHT
TZOFFSETFROM:-0500
TZOFFSETTO:-0400
TZNAME:EDT
DTSTART:20180311T070000
END:DAYLIGHT
BEGIN:STANDARD
TZOFFSETFROM:-0400
TZOFFSETTO:-0500
TZNAME:EST
DTSTART:20181104T060000
END:STANDARD
END:VTIMEZONE
BEGIN:VEVENT
DTSTART;TZID=America/New_York:20170715T100000
DTEND;TZID=America/New_York:20170715T230000
DTSTAMP:20260420T120054
CREATED:20151020T183500Z
LAST-MODIFIED:20180718T213512Z
UID:10000475-1500112800-1500159600@www.med.unc.edu
SUMMARY:Walk With a Doc
DESCRIPTION:Walking the 3rd Saturday of every month @ 10AM \n UNC Wellness Center at Meadowmont: 100 Sprunt Street\, Chapel Hill\, NC 27517
URL:https://www.med.unc.edu/tarc/event/2017-07-15/
END:VEVENT
BEGIN:VEVENT
DTSTART;TZID=America/New_York:20170721T083000
DTEND;TZID=America/New_York:20170721T100000
DTSTAMP:20260420T120054
CREATED:20130520T185500Z
LAST-MODIFIED:20180723T141649Z
UID:10000407-1500625800-1500631200@www.med.unc.edu
SUMMARY:Dana P. Sheffield\, CPC and Dr. Marucci present Grand Rounds
DESCRIPTION:Dana P. Sheffield\, CPC\nCompliance Review Analyst\nUNC School of Medicine Compliance Office \n  \n  \n  \n  \nLeonardo Marucci\, MD\nAssistant Professor of Medicine\nAssociate Medical Director of Clinical Care Management\nUNC School of Medicine
URL:https://www.med.unc.edu/tarc/event/2017-07-21/
END:VEVENT
BEGIN:VEVENT
DTSTART;TZID=America/New_York:20170728T083000
DTEND;TZID=America/New_York:20170728T100000
DTSTAMP:20260420T120054
CREATED:20130814T184500Z
LAST-MODIFIED:20180723T144509Z
UID:10000363-1501230600-1501236000@www.med.unc.edu
SUMMARY:Jordan Renner\, MD presents Grand Rounds
DESCRIPTION:Jordan Renner\, MD\nProfessor of Radiology and Allied Health Sciences\nUniversity of North Carolina
URL:https://www.med.unc.edu/tarc/event/2017-07-28/
END:VEVENT
END:VCALENDAR