BEGIN:VCALENDAR
VERSION:2.0
PRODID:-//Thurston Arthritis Research Center - ECPv6.15.18//NONSGML v1.0//EN
CALSCALE:GREGORIAN
METHOD:PUBLISH
X-ORIGINAL-URL:https://www.med.unc.edu/tarc
X-WR-CALDESC:Events for Thurston Arthritis Research Center
REFRESH-INTERVAL;VALUE=DURATION:PT1H
X-Robots-Tag:noindex
X-PUBLISHED-TTL:PT1H
BEGIN:VTIMEZONE
TZID:America/New_York
BEGIN:DAYLIGHT
TZOFFSETFROM:-0500
TZOFFSETTO:-0400
TZNAME:EDT
DTSTART:20160313T070000
END:DAYLIGHT
BEGIN:STANDARD
TZOFFSETFROM:-0400
TZOFFSETTO:-0500
TZNAME:EST
DTSTART:20161106T060000
END:STANDARD
BEGIN:DAYLIGHT
TZOFFSETFROM:-0500
TZOFFSETTO:-0400
TZNAME:EDT
DTSTART:20170312T070000
END:DAYLIGHT
BEGIN:STANDARD
TZOFFSETFROM:-0400
TZOFFSETTO:-0500
TZNAME:EST
DTSTART:20171105T060000
END:STANDARD
BEGIN:DAYLIGHT
TZOFFSETFROM:-0500
TZOFFSETTO:-0400
TZNAME:EDT
DTSTART:20180311T070000
END:DAYLIGHT
BEGIN:STANDARD
TZOFFSETFROM:-0400
TZOFFSETTO:-0500
TZNAME:EST
DTSTART:20181104T060000
END:STANDARD
END:VTIMEZONE
BEGIN:VEVENT
DTSTART;TZID=America/New_York:20170901T083000
DTEND;TZID=America/New_York:20170901T100000
DTSTAMP:20260420T065848
CREATED:20130520T185500Z
LAST-MODIFIED:20180718T213458Z
UID:10000416-1504254600-1504260000@www.med.unc.edu
SUMMARY:Ankoor Shah\, MD presents Grand Rounds
DESCRIPTION:Ankoor Shah\, MD Assistant Professor of Medicine Duke Rheumatology and Immunology
URL:https://www.med.unc.edu/tarc/event/2017-09-01/
END:VEVENT
BEGIN:VEVENT
DTSTART;TZID=America/New_York:20170901T120000
DTEND;TZID=America/New_York:20170901T130000
DTSTAMP:20260420T065848
CREATED:20150901T190000Z
LAST-MODIFIED:20180723T141429Z
UID:10000459-1504267200-1504270800@www.med.unc.edu
SUMMARY:Janet Rubin\, M.D. hosts the Thurston Arthritis Research Center Seminar Series
DESCRIPTION:Janet Rubin\, MD\nProfessor of Medicine\nDivision of Endocrinology and Metabolism\nUNC
URL:https://www.med.unc.edu/tarc/event/2017-09-01-2/
END:VEVENT
BEGIN:VEVENT
DTSTART;TZID=America/New_York:20170908T083000
DTEND;TZID=America/New_York:20170908T100000
DTSTAMP:20260420T065848
CREATED:20130520T185500Z
LAST-MODIFIED:20180723T141705Z
UID:10000418-1504859400-1504864800@www.med.unc.edu
SUMMARY:Mildred Kwan\, MD\, PhD presents Grand Rounds
DESCRIPTION:Mildred Kwan\, MD\, PhD\nClinical Assistant Professor\nUNC Allergy & Immunology Clinic
URL:https://www.med.unc.edu/tarc/event/2017-09-08/
END:VEVENT
BEGIN:VEVENT
DTSTART;TZID=America/New_York:20170915T083000
DTEND;TZID=America/New_York:20170915T100000
DTSTAMP:20260420T065848
CREATED:20130520T185500Z
LAST-MODIFIED:20180723T141714Z
UID:10000419-1505464200-1505469600@www.med.unc.edu
SUMMARY:Beth Laurie Jonas\, MD\, FACR presents Grand Rounds
DESCRIPTION:Beth Laurie Jonas\, MD\, FACR\nAssociate Professor of Medicine\nInterim Chief\, Division of Rheumatology\, Allergy and Immunology\nDirector\, UNC Rheumatology Fellowship Training Program
URL:https://www.med.unc.edu/tarc/event/2017-09-15/
END:VEVENT
BEGIN:VEVENT
DTSTART;TZID=America/New_York:20170916T100000
DTEND;TZID=America/New_York:20170916T230000
DTSTAMP:20260420T065848
CREATED:20151020T183500Z
LAST-MODIFIED:20180718T213512Z
UID:10000480-1505556000-1505602800@www.med.unc.edu
SUMMARY:Walk With a Doc
DESCRIPTION:Walking the 3rd Saturday of every month @ 10AM \n UNC Wellness Center at Meadowmont: 100 Sprunt Street\, Chapel Hill\, NC 27517
URL:https://www.med.unc.edu/tarc/event/2017-09-16/
END:VEVENT
BEGIN:VEVENT
DTSTART;TZID=America/New_York:20170922T083000
DTEND;TZID=America/New_York:20170922T100000
DTSTAMP:20260420T065848
CREATED:20130520T185500Z
LAST-MODIFIED:20180723T141721Z
UID:10000420-1506069000-1506074400@www.med.unc.edu
SUMMARY:Richard F. Loeser\, Jr.\, MD presents Grand Rounds
DESCRIPTION:Richard F. Loeser\, Jr.\, MD\nDirector\, UNC Thurston Arthritis Research Center\nHerman and Louise Smith Distinguished Professor\, Division of Rheumatology\, Allergy and Immunology
URL:https://www.med.unc.edu/tarc/event/2017-09-22/
END:VEVENT
BEGIN:VEVENT
DTSTART;TZID=America/New_York:20170929T083000
DTEND;TZID=America/New_York:20170929T100000
DTSTAMP:20260420T065848
CREATED:20130814T184500Z
LAST-MODIFIED:20180723T144711Z
UID:10000365-1506673800-1506679200@www.med.unc.edu
SUMMARY:Jordan Renner\, MD presents Grand Rounds
DESCRIPTION:Jordan Renner\, MD\nProfessor of Radiology and Allied Health Sciences\nUniversity of North Carolina
URL:https://www.med.unc.edu/tarc/event/2017-09-29/
END:VEVENT
END:VCALENDAR