BEGIN:VCALENDAR
VERSION:2.0
PRODID:-//Thurston Arthritis Research Center - ECPv6.15.18//NONSGML v1.0//EN
CALSCALE:GREGORIAN
METHOD:PUBLISH
X-ORIGINAL-URL:https://www.med.unc.edu/tarc
X-WR-CALDESC:Events for Thurston Arthritis Research Center
REFRESH-INTERVAL;VALUE=DURATION:PT1H
X-Robots-Tag:noindex
X-PUBLISHED-TTL:PT1H
BEGIN:VTIMEZONE
TZID:America/New_York
BEGIN:DAYLIGHT
TZOFFSETFROM:-0500
TZOFFSETTO:-0400
TZNAME:EDT
DTSTART:20220313T070000
END:DAYLIGHT
BEGIN:STANDARD
TZOFFSETFROM:-0400
TZOFFSETTO:-0500
TZNAME:EST
DTSTART:20221106T060000
END:STANDARD
BEGIN:DAYLIGHT
TZOFFSETFROM:-0500
TZOFFSETTO:-0400
TZNAME:EDT
DTSTART:20230312T070000
END:DAYLIGHT
BEGIN:STANDARD
TZOFFSETFROM:-0400
TZOFFSETTO:-0500
TZNAME:EST
DTSTART:20231105T060000
END:STANDARD
BEGIN:DAYLIGHT
TZOFFSETFROM:-0500
TZOFFSETTO:-0400
TZNAME:EDT
DTSTART:20240310T070000
END:DAYLIGHT
BEGIN:STANDARD
TZOFFSETFROM:-0400
TZOFFSETTO:-0500
TZNAME:EST
DTSTART:20241103T060000
END:STANDARD
END:VTIMEZONE
BEGIN:VEVENT
DTSTART;TZID=America/New_York:20231206T103000
DTEND;TZID=America/New_York:20231206T113000
DTSTAMP:20260421T130541
CREATED:20231129T154705Z
LAST-MODIFIED:20231129T154705Z
UID:10000744-1701858600-1701862200@www.med.unc.edu
SUMMARY:UNC CCCR Speaker Series: Dr. Patti Katz\, "The A's\, B's\, and ZZZ's of Sleep in RA and Lupus"
DESCRIPTION:December 6\, 2023 — 10:30 a.m. EST\nThe A’s\, B’s\, and ZZZ’s of Sleep in RA and Lupus\nPatricia Katz\, PhD\nProfessor of Medicine and Health Policy\nUniversity of California San Francisco\nLink to Join Virtually\nBrief Description: In this talk\, Dr. Katz will review what we know about sleep in both conditions and how sleep may be related to disease outcomes. Dr. Katz will also talk about her research in the area of sleep in RA and lupus.
URL:https://www.med.unc.edu/tarc/event/unc-cccr-speaker-series-dr-patti-katz-the-as-bs-and-zzzs-of-sleep-in-ra-and-lupus/
LOCATION:Join Remotely
CATEGORIES:TARC CCCR Speaker Series
END:VEVENT
BEGIN:VEVENT
DTSTART;TZID=America/New_York:20231215T120000
DTEND;TZID=America/New_York:20231215T130000
DTSTAMP:20260421T130541
CREATED:20230616T164635Z
LAST-MODIFIED:20230616T164850Z
UID:10000729-1702641600-1702645200@www.med.unc.edu
SUMMARY:TARC Research Seminar: Dr. Eve Wu; Title of Presentation TBD
DESCRIPTION:Title of Presentation TBD \nDr. Eve Wu\nDivision Chief\, Pediatric Rheumatology\nUNC\, Chapel Hill \nAttend in TARC Dickson Conference Room\, or remotely. \nZoom: https://zoom.us/j/99229812460?pwd=VVNqTWVEWnd0QWc2bTlaZ1pVOW9NQT09\n888 475 4499 US Toll-free\nMeeting ID: 992 2981 2460\nPasscode: 037089 \n 
URL:https://www.med.unc.edu/tarc/event/tarc-research-seminar-dr-eve-wu-title-of-presentation-tbd/
LOCATION:Remote or In Person Options Available
CATEGORIES:TARC Research Seminar
END:VEVENT
END:VCALENDAR