BEGIN:VCALENDAR
VERSION:2.0
PRODID:-//Thurston Arthritis Research Center - ECPv6.15.18//NONSGML v1.0//EN
CALSCALE:GREGORIAN
METHOD:PUBLISH
X-ORIGINAL-URL:https://www.med.unc.edu/tarc
X-WR-CALDESC:Events for Thurston Arthritis Research Center
REFRESH-INTERVAL;VALUE=DURATION:PT1H
X-Robots-Tag:noindex
X-PUBLISHED-TTL:PT1H
BEGIN:VTIMEZONE
TZID:America/New_York
BEGIN:DAYLIGHT
TZOFFSETFROM:-0500
TZOFFSETTO:-0400
TZNAME:EDT
DTSTART:20230312T070000
END:DAYLIGHT
BEGIN:STANDARD
TZOFFSETFROM:-0400
TZOFFSETTO:-0500
TZNAME:EST
DTSTART:20231105T060000
END:STANDARD
BEGIN:DAYLIGHT
TZOFFSETFROM:-0500
TZOFFSETTO:-0400
TZNAME:EDT
DTSTART:20240310T070000
END:DAYLIGHT
BEGIN:STANDARD
TZOFFSETFROM:-0400
TZOFFSETTO:-0500
TZNAME:EST
DTSTART:20241103T060000
END:STANDARD
BEGIN:DAYLIGHT
TZOFFSETFROM:-0500
TZOFFSETTO:-0400
TZNAME:EDT
DTSTART:20250309T070000
END:DAYLIGHT
BEGIN:STANDARD
TZOFFSETFROM:-0400
TZOFFSETTO:-0500
TZNAME:EST
DTSTART:20251102T060000
END:STANDARD
END:VTIMEZONE
BEGIN:VEVENT
DTSTART;TZID=America/New_York:20240607T083000
DTEND;TZID=America/New_York:20240607T093000
DTSTAMP:20260420T021813
CREATED:20240409T143626Z
LAST-MODIFIED:20240409T143626Z
UID:10000771-1717749000-1717752600@www.med.unc.edu
SUMMARY:UNC Rheumatology\, Allergy & Immunology Grand Rounds: Linda Sundler Björkman\, "Hereditary Angioederma\, Treatments\, Comorbidities and a European Perspective"
DESCRIPTION:Linda Sundler Björkman \nPhysician\, Researcher\, Respiratory Medicine\, Allergology\, and Palliative Medicine \nPhysician\, Hereditary angioederma (HAE) – epidemiology\, genetics and pathophysiology \nLund University \nVisiting Scholar\, Dept. of Medicine\, Hematology \nUNC School of Medicine \n  \nTalk Title: Hereditary Angioederma\, Treatments\, Comorbidities and a European Perspective
URL:https://www.med.unc.edu/tarc/event/unc-rheumatology-allergy-immunology-grand-rounds-linda-sundler-bjorkman-hereditary-angioederma-treatments-comorbidities-and-a-european-perspective/
LOCATION:Remote or In Person Options Available
CATEGORIES:Rheumatology Radiology Grand Rounds
END:VEVENT
BEGIN:VEVENT
DTSTART;TZID=America/New_York:20240611T080000
DTEND;TZID=America/New_York:20240611T090000
DTSTAMP:20260420T021813
CREATED:20240604T173804Z
LAST-MODIFIED:20240604T173804Z
UID:10000778-1718092800-1718096400@www.med.unc.edu
SUMMARY:Arthritis Web Seminar Series: Dr. Amanda Nelson\, "Multi-Joint Osteoarthritis"
DESCRIPTION:Dr. Amanda Nelson will be giving an invited lecture for the Schroeder Arthritis Institute at the University of Toronto on June 11\, 2024\, entitiled: Multi-Joint Osteoarthritis. \n  \nPlease click the link below to join the webinar: \nhttps://us02web.zoom.us/j/88054055642?pwd=YnZxbEF4UVhxdStIeDN6aEdMVjIzdz09 \nPasscode: 908525
URL:https://www.med.unc.edu/tarc/event/arthritis-web-seminar-series-dr-amanda-nelson-multi-joint-osteoarthritis/
END:VEVENT
BEGIN:VEVENT
DTSTART;TZID=America/New_York:20240614T083000
DTEND;TZID=America/New_York:20240614T093000
DTSTAMP:20260420T021813
CREATED:20240529T153928Z
LAST-MODIFIED:20240529T153928Z
UID:10000777-1718353800-1718357400@www.med.unc.edu
SUMMARY:UNC Rheumatology\, Allergy & Immunology Grand Rounds: Dr. Nonie Arora
DESCRIPTION:Nonie Arora\, MD\, MBA\nFirst Year Allergy & Immunology Fellow \n  \nJoin Remotely: https://zoom.us/j/99630015541?pwd=TDFNclQrQmd1S3NPaWJ1cUJJWjFwdz09 \nMeeting ID: 996 3001 5541\nPasscode: 274236
URL:https://www.med.unc.edu/tarc/event/unc-rheumatology-allergy-immunology-grand-rounds-dr-nonie-arora/
LOCATION:Join Remotely
CATEGORIES:Rheumatology, Allergy and Immunology Grand Rounds
END:VEVENT
BEGIN:VEVENT
DTSTART;TZID=America/New_York:20240621T083000
DTEND;TZID=America/New_York:20240621T093000
DTSTAMP:20260420T021813
CREATED:20240529T153443Z
LAST-MODIFIED:20240529T154023Z
UID:10000776-1718958600-1718962200@www.med.unc.edu
SUMMARY:UNC Rheumatology Radiology Grand Rounds: Dr. Girish Gandikota\, "Case Reviews"
DESCRIPTION:Dr. Girish Gandikota\nProfessor of Radiology\, Musculoskeletal Imaging \nDepartment of Radiology \n  \nJoin Zoom Meeting: https://zoom.us/j/99630015541?pwd=TDFNclQrQmd1S3NPaWJ1cUJJWjFwdz09 \nMeeting ID: 996 3001 5541 \nPasscode: 274236
URL:https://www.med.unc.edu/tarc/event/unc-rheumatology-radiology-grand-rounds-dr-girish-gandikota-case-reviews/
LOCATION:Join Remotely
CATEGORIES:Rheumatology Radiology Grand Rounds
END:VEVENT
BEGIN:VEVENT
DTSTART;TZID=America/New_York:20240628T083000
DTEND;TZID=America/New_York:20240628T093000
DTSTAMP:20260420T021813
CREATED:20240513T190115Z
LAST-MODIFIED:20240513T190115Z
UID:10000773-1719563400-1719567000@www.med.unc.edu
SUMMARY:UNC Rheumatology\, Allergy & Immunology Grand Rounds: Dr. Alexis Ogdie\, "Advancing the Treatment of Psoriatic Arthritis and Axial Spondyloarthritis"
DESCRIPTION:Alexis R. Ogdie-Beatty\, MD\, MSCE\nAssociate Professor of Medicine (Rheumatology)\, Hospital of the University of Pennsylvania \nAssociate Professor of Epidemiology in Biostatistics and Epidemiology \nPenn Medicine Physician \n  \nTalk Title: Advancing the Treatment of Psoriatic Arthritis and Axial Spondyloarthritis\n  \nJoin Remotely on Zoom
URL:https://www.med.unc.edu/tarc/event/unc-rheumatology-allergy-immunology-grand-rounds-dr-alexis-ogdie-advancing-the-treatment-of-psoriatic-arthritis-and-axial-spondyloarthritis/
LOCATION:Join Remotely
CATEGORIES:Rheumatology, Allergy and Immunology Grand Rounds
END:VEVENT
END:VCALENDAR