BEGIN:VCALENDAR
VERSION:2.0
PRODID:-//Thurston Arthritis Research Center - ECPv6.15.18//NONSGML v1.0//EN
CALSCALE:GREGORIAN
METHOD:PUBLISH
X-ORIGINAL-URL:https://www.med.unc.edu/tarc
X-WR-CALDESC:Events for Thurston Arthritis Research Center
REFRESH-INTERVAL;VALUE=DURATION:PT1H
X-Robots-Tag:noindex
X-PUBLISHED-TTL:PT1H
BEGIN:VTIMEZONE
TZID:America/New_York
BEGIN:DAYLIGHT
TZOFFSETFROM:-0500
TZOFFSETTO:-0400
TZNAME:EDT
DTSTART:20190310T070000
END:DAYLIGHT
BEGIN:STANDARD
TZOFFSETFROM:-0400
TZOFFSETTO:-0500
TZNAME:EST
DTSTART:20191103T060000
END:STANDARD
BEGIN:DAYLIGHT
TZOFFSETFROM:-0500
TZOFFSETTO:-0400
TZNAME:EDT
DTSTART:20200308T070000
END:DAYLIGHT
BEGIN:STANDARD
TZOFFSETFROM:-0400
TZOFFSETTO:-0500
TZNAME:EST
DTSTART:20201101T060000
END:STANDARD
BEGIN:DAYLIGHT
TZOFFSETFROM:-0500
TZOFFSETTO:-0400
TZNAME:EDT
DTSTART:20210314T070000
END:DAYLIGHT
BEGIN:STANDARD
TZOFFSETFROM:-0400
TZOFFSETTO:-0500
TZNAME:EST
DTSTART:20211107T060000
END:STANDARD
END:VTIMEZONE
BEGIN:VEVENT
DTSTART;TZID=America/New_York:20200221T083000
DTEND;TZID=America/New_York:20200221T093000
DTSTAMP:20260421T113548
CREATED:20200218T192730Z
LAST-MODIFIED:20200218T192730Z
UID:10000580-1582273800-1582277400@www.med.unc.edu
SUMMARY:Allergy & Immunology Grand Rounds: Dr. Jordan Renner; "Musculoskeletal Radiology"
DESCRIPTION:Dr. Jordan Renner \nProfessor of Radiology\, UNC Dept. of Radiology – Musculoskeletal Imaging \n“Musculoskeletal Radiology” \n  \n 
URL:https://www.med.unc.edu/tarc/event/allergy-immunology-grand-rounds-dr-jordan-renner-musculoskeletal-radiology/
LOCATION:Dickson Conference Room\, Thurston Arthritis Research Center\, 3200 Thurston Building
CATEGORIES:Rheumatology, Allergy and Immunology Grand Rounds
END:VEVENT
END:VCALENDAR