BEGIN:VCALENDAR
VERSION:2.0
PRODID:-//Web Guide - ECPv6.15.18//NONSGML v1.0//EN
CALSCALE:GREGORIAN
METHOD:PUBLISH
X-ORIGINAL-URL:https://www.med.unc.edu/webguide
X-WR-CALDESC:Events for Web Guide
REFRESH-INTERVAL;VALUE=DURATION:PT1H
X-Robots-Tag:noindex
X-PUBLISHED-TTL:PT1H
BEGIN:VTIMEZONE
TZID:America/New_York
BEGIN:DAYLIGHT
TZOFFSETFROM:-0500
TZOFFSETTO:-0400
TZNAME:EDT
DTSTART:20160313T070000
END:DAYLIGHT
BEGIN:STANDARD
TZOFFSETFROM:-0400
TZOFFSETTO:-0500
TZNAME:EST
DTSTART:20161106T060000
END:STANDARD
BEGIN:DAYLIGHT
TZOFFSETFROM:-0500
TZOFFSETTO:-0400
TZNAME:EDT
DTSTART:20170312T070000
END:DAYLIGHT
BEGIN:STANDARD
TZOFFSETFROM:-0400
TZOFFSETTO:-0500
TZNAME:EST
DTSTART:20171105T060000
END:STANDARD
BEGIN:DAYLIGHT
TZOFFSETFROM:-0500
TZOFFSETTO:-0400
TZNAME:EDT
DTSTART:20180311T070000
END:DAYLIGHT
BEGIN:STANDARD
TZOFFSETFROM:-0400
TZOFFSETTO:-0500
TZNAME:EST
DTSTART:20181104T060000
END:STANDARD
BEGIN:DAYLIGHT
TZOFFSETFROM:-0500
TZOFFSETTO:-0400
TZNAME:EDT
DTSTART:20190310T070000
END:DAYLIGHT
BEGIN:STANDARD
TZOFFSETFROM:-0400
TZOFFSETTO:-0500
TZNAME:EST
DTSTART:20191103T060000
END:STANDARD
END:VTIMEZONE
BEGIN:VEVENT
DTSTART;TZID=America/New_York:20180731T123000
DTEND;TZID=America/New_York:20180731T140000
DTSTAMP:20260421T004020
CREATED:20180716T193553Z
LAST-MODIFIED:20180716T193553Z
UID:10000155-1533040200-1533045600@www.med.unc.edu
SUMMARY:School of Medicine: WordPress Introduction Training
DESCRIPTION:Register for Class\n\nThis will be a basic introduction class intended for web editors and administrators of UNC School of Medicine websites. It’s highly recommended to those new to WordPress.
URL:https://www.med.unc.edu/webguide/event/school-of-medicine-wordpress-introduction-training-7/
LOCATION:2025 Bondurant Hall
END:VEVENT
BEGIN:VEVENT
DTSTART;TZID=America/New_York:20180412T140000
DTEND;TZID=America/New_York:20180412T153000
DTSTAMP:20260421T004020
CREATED:20180306T142449Z
LAST-MODIFIED:20180306T142449Z
UID:10000147-1523541600-1523547000@www.med.unc.edu
SUMMARY:School of Medicine: WordPress Introduction Training
DESCRIPTION:Register for Class\n\nThis will be a basic introduction class intended for web editors and administrators of UNC School of Medicine websites. It’s highly recommended to those new to WordPress.
URL:https://www.med.unc.edu/webguide/event/school-medicine-wordpress-introduction-training-5/
LOCATION:2030 Bondurant Hall
END:VEVENT
BEGIN:VEVENT
DTSTART;TZID=America/New_York:20180320T133000
DTEND;TZID=America/New_York:20180320T150000
DTSTAMP:20260421T004020
CREATED:20180306T142200Z
LAST-MODIFIED:20180306T142200Z
UID:10000146-1521552600-1521558000@www.med.unc.edu
SUMMARY:School of Medicine: WordPress Introduction Training
DESCRIPTION:Register for Class\n\nThis will be a basic introduction class intended for web editors and administrators of UNC School of Medicine websites. It’s highly recommended to those new to WordPress.
URL:https://www.med.unc.edu/webguide/event/school-medicine-wordpress-introduction-training-4/
LOCATION:2035 Bondurant Hall
GEO:35.9063021;-79.052272
END:VEVENT
BEGIN:VEVENT
DTSTART;TZID=America/New_York:20180306T120000
DTEND;TZID=America/New_York:20180306T133000
DTSTAMP:20260421T004020
CREATED:20180220T163720Z
LAST-MODIFIED:20180220T163720Z
UID:10000145-1520337600-1520343000@www.med.unc.edu
SUMMARY:School of Medicine: WordPress Introduction Training
DESCRIPTION:Register for Class\n\nThis will be a basic introduction class intended for web editors and administrators of UNC School of Medicine websites. It’s highly recommended to those new to WordPress.
URL:https://www.med.unc.edu/webguide/event/school-medicine-wordpress-introduction-training-3/
LOCATION:2035 Bondurant Hall
GEO:35.9063021;-79.052272
END:VEVENT
BEGIN:VEVENT
DTSTART;TZID=America/New_York:20180222T113000
DTEND;TZID=America/New_York:20180222T123000
DTSTAMP:20260421T004020
CREATED:20180124T201651Z
LAST-MODIFIED:20180124T201651Z
UID:10000143-1519299000-1519302600@www.med.unc.edu
SUMMARY:School of Medicine: WordPress Introduction Training
DESCRIPTION:Register for Class\n\nThis will be a basic introduction class intended for web editors and administrators of UNC School of Medicine websites. It’s highly recommended to those new to WordPress.
URL:https://www.med.unc.edu/webguide/event/school-medicine-wordpress-introduction-training/
LOCATION:2025 Bondurant Hall
END:VEVENT
BEGIN:VEVENT
DTSTART;TZID=America/New_York:20180213T113000
DTEND;TZID=America/New_York:20180213T123000
DTSTAMP:20260421T004020
CREATED:20180207T141253Z
LAST-MODIFIED:20180207T141253Z
UID:10000144-1518521400-1518525000@www.med.unc.edu
SUMMARY:School of Medicine: WordPress Introduction Training
DESCRIPTION:Register for Class\n\nThis will be a basic introduction class intended for web editors and administrators of UNC School of Medicine websites. It’s highly recommended to those new to WordPress.
URL:https://www.med.unc.edu/webguide/event/school-medicine-wordpress-introduction-training-2/
LOCATION:2025 Bondurant Hall
END:VEVENT
BEGIN:VEVENT
DTSTART;TZID=America/New_York:20180123T120000
DTEND;TZID=America/New_York:20180123T130000
DTSTAMP:20260421T004020
CREATED:20171208T155922Z
LAST-MODIFIED:20171208T160030Z
UID:10000141-1516708800-1516712400@www.med.unc.edu
SUMMARY:School of Medicine: WordPress Introduction Training
DESCRIPTION:Register for Class\n\nThis will be a basic introduction class intended for web editors and administrators of UNC School of Medicine websites. It’s highly recommended to those new to WordPress.
URL:https://www.med.unc.edu/webguide/event/school-of-medicine-wordpress-introduction-training-2/
LOCATION:2035 Bondurant Hall
CATEGORIES:Training
GEO:35.9063021;-79.052272
END:VEVENT
BEGIN:VEVENT
DTSTART;TZID=America/New_York:20180109T113000
DTEND;TZID=America/New_York:20180109T123000
DTSTAMP:20260421T004020
CREATED:20171208T155753Z
LAST-MODIFIED:20171208T173502Z
UID:10000140-1515497400-1515501000@www.med.unc.edu
SUMMARY:School of Medicine: WordPress Introduction Training
DESCRIPTION:Register for Class\n\nThis will be a basic introduction class intended for web editors and administrators of UNC School of Medicine websites. It’s highly recommended to those new to WordPress.
URL:https://www.med.unc.edu/webguide/event/school-of-medicine-wordpress-introduction-training/
LOCATION:2035 Bondurant Hall
CATEGORIES:Training
GEO:35.9063021;-79.052272
END:VEVENT
BEGIN:VEVENT
DTSTART;TZID=America/New_York:20171212T140000
DTEND;TZID=America/New_York:20171212T153000
DTSTAMP:20260421T004020
CREATED:20171120T163550Z
LAST-MODIFIED:20171211T222746Z
UID:10000139-1513087200-1513092600@www.med.unc.edu
SUMMARY:School of Medicine: WordPress Introduction Training
DESCRIPTION:  \n\nSorry\, this class is full. Registration is Closed. Please look at another training date.\n\n  \n\nThis will be a basic introduction class intended for web editors and administrators of UNC School of Medicine websites. It’s highly recommended to those new to WordPress.
URL:https://www.med.unc.edu/webguide/event/wordpress-introduction-training-2/
LOCATION:2025 Bondurant Hall
CATEGORIES:Training
END:VEVENT
BEGIN:VEVENT
DTSTART;TZID=America/New_York:20171130T100000
DTEND;TZID=America/New_York:20171130T113000
DTSTAMP:20260421T004020
CREATED:20171120T153046Z
LAST-MODIFIED:20171128T210641Z
UID:10000138-1512036000-1512041400@www.med.unc.edu
SUMMARY:WordPress Introduction Training
DESCRIPTION:Register for Class\n  \n\nThis will be a basic introduction class intended for web editors and administrators of UNC School of Medicine websites. It’s highly recommended to those new to WordPress.
URL:https://www.med.unc.edu/webguide/event/wordpress-introduction-training/
LOCATION:2025 Bondurant Hall
CATEGORIES:Training
END:VEVENT
END:VCALENDAR